BEGIN:VCALENDAR
VERSION:2.0
PRODID:-//Ayuntamiento de Mieres - ECPv5.16.1.1//NONSGML v1.0//EN
CALSCALE:GREGORIAN
METHOD:PUBLISH
X-WR-CALNAME:Ayuntamiento de Mieres
X-ORIGINAL-URL:https://www.mieres.es
X-WR-CALDESC:Eventos para Ayuntamiento de Mieres
BEGIN:VTIMEZONE
TZID:Europe/Madrid
BEGIN:DAYLIGHT
TZOFFSETFROM:+0100
TZOFFSETTO:+0200
TZNAME:CEST
DTSTART:20250330T010000
END:DAYLIGHT
BEGIN:STANDARD
TZOFFSETFROM:+0200
TZOFFSETTO:+0100
TZNAME:CET
DTSTART:20251026T010000
END:STANDARD
END:VTIMEZONE
BEGIN:VEVENT
DTSTART;TZID=Europe/Madrid:20250818T090000
DTEND;TZID=Europe/Madrid:20250818T090000
DTSTAMP:20260421T064322
CREATED:20250618T102117Z
LAST-MODIFIED:20250618T102117Z
UID:74795-1755507600-1755507600@www.mieres.es
SUMMARY:Movámonos Xunt@s - Vacaciones Activas Verano 2025 (4ª quincena 18/29AGO)
DESCRIPTION:Movámonos Xunt@s\nVACACIONES ACTIVAS – CAMPAMENTOS URBANOS\n1ª quincena de julio\, del 1 al 15\n2ª quincena de julio\, del 16 al 31\n1ª quincena de agosto\, del 1 al 14\n2ª quincena de agosto\, del 18 al 29 \nde 10 a 14:00 h. en el patio del Colegio Liceo Mierense-Aniceto Sela \nInscripciones gratuitas\, on line\, desde la web: www.vitaeventsformacion.es/mieres \n  \nA partir del 26 de mayo\, a las 9:00h\,  se abre la inscripción para la edición estival de estos campamentos urbanos para niños/as de 3 a 12 años\, que se desarrollará en cuatro quincenas durante los meses de julio y agosto en el patio de los colegios Liceo Mierense y Aniceto Sela en horario de 10 a 14 horas. \n  \nREQUISITOS: \n\nTener entre 3 años (niños/as que hayan cumplido la edad y hayan sido previamente escolarizados/as) y 12 años.\nAsistencia obligatoria. Una ausencia de dos días consecutivos sin justificar será motivo de cancelación de plaza.\n\nADJUDICACIÓN Y LISTAS DE ESPERA: \n\nEl criterio de adjudicación es el orden de llegada de las solicitudes.\nEste verano deben escoger sus opciones en orden de preferencia\, ya que cada familia obtendrá plaza únicamente en una de ellas. Solo en caso de que las plazas de alguna quincena no se cubran al 100%\, se tomará en cuenta la solicitud de familias que ya hayan obtenido plaza en otra.\nLas plazas se adjudican por orden de llegada. Si queda en lista de espera\, será informado/a de ello. Cuando otra familia cancele\, iremos avisando en orden de entrada en la lista de espera para ofrecer las vacantes.\nRogamos que si se le adjudica una plaza y finalmente no la necesita\, nos avise para poder mover las listas de espera. Otra familia puede aprovechar la plaza si usted no la necesita.\n\n  \nEl programa de Vacaciones Activas Movámonos Xunt@s tiene como objetivo ofrecer actividades de ocio y deporte a los y las peques fuera de la rutina escolar y\, al mismo tiempo\, ofertar un recurso para las familias\, que pueden así organizar su tiempo y el de los y las menores en la época estival\, facilitando así la conciliación personal y laboral. Además\, este programa se centra en actividades lúdicas y formativas acordes al desarrollo intelectual y motriz de los y las participantes\, inculcando siempre valores y actitudes de respeto\, cooperación\, igualdad y tolerancia a través de talleres y juegos compartidos. \n  \nPara más información pueden llamar al 985308317 (lunes a viernes de 9:00h a 14:00h/lunes a jueves de 16:00 a 18:00h) o escribir un email a preinscripcion@vitaevents.es \n\n 
URL:https://www.mieres.es/evento/movamonos-xunts-vacaciones-activas-verano-2025-4a-quincena-18-29ago/
LOCATION:Patio colegio Liceo/Aniceto Sela\, Colegio Público Liceo Mierense\, Mieres\, Asturias\, 33600 
CATEGORIES:Juventud e Infancia
ATTACH;FMTTYPE=image/jpeg:https://www.mieres.es/wp-content/uploads/2025/05/MIERES-movamonos-xuntos-VERANO-2025.jpg
ORGANIZER;CN="Concejal%C3%ADa%20de%20Infancia%20y%20Juventud":MAILTO:oij@ayto-mieres.es
GEO:43.249719;-5.7785282
X-APPLE-STRUCTURED-LOCATION;VALUE=URI;X-ADDRESS=Patio colegio Liceo/Aniceto Sela Colegio Público Liceo Mierense Mieres Asturias 33600;X-APPLE-RADIUS=500;X-TITLE=Colegio Público Liceo Mierense:geo:-5.7785282,43.249719
END:VEVENT
BEGIN:VEVENT
DTSTART;TZID=Europe/Madrid:20250818T100000
DTEND;TZID=Europe/Madrid:20250818T100000
DTSTAMP:20260421T064322
CREATED:20250806T112548Z
LAST-MODIFIED:20250807T083047Z
UID:75182-1755511200-1755511200@www.mieres.es
SUMMARY:Campamento Circo-Teatro\, para menores entre 8 y 12 años -Apertura del plazo de inscripciones-
DESCRIPTION:Actividades de conciliación familiar \nCampamento Circo-Teatro\npara menores entre 8 y 12 años\nDel 1 al 5 de septiembre de 2025\, de 9 a 14h. \nSalón de Actos de la Casa de Cultura Teodoro Cuesta \nInscripciones gratuitas online a través del formulario que encontrarán en esta misma página\, a partir del 18 de agosto (10:00h.). Plazas limitadas (15 participantes)\, asignadas por riguroso orden de inscripción.\nhttps://forms.gle/5S1MQzQZbXs8xTzZA \n\n  \nTaller de acercamiento a técnicas de circo y acrobacia para menores de 12 años. 5 jornadas que se repartirán en un bloque de juegos y otro de técnica cada día\, donde podrán dar sus primeros pasos y tomar contacto con disciplinas físicas que los ayudarán a ejercitar su coordinación\, agilidad\, flexibilidad y trabajo en equipo.  \nTelas\, Trapecio\, Equilibrios\, Malabares\, Portes y Acrobacias Verticales siempre de la mano de formadores profesionales de la escuela “Circo Bajo el Tejado” y con toda la seguridad. ¡No dejes pasar esta oportunidad de divertirte mientras aprendes! \n  \n\nFORMULARIO DE INSCRIPCIÓN\n  \nCargando…
URL:https://www.mieres.es/evento/campamento-circo-teatro-para-menores-entre-8-y-12-anos/
LOCATION:Casa de Cultura Teodoro Cuesta\, Calle Manuel Llaneza\, 8\, Mieres\, Asturias\, 33600\, España
CATEGORIES:Juventud e Infancia
ATTACH;FMTTYPE=image/jpeg:https://www.mieres.es/wp-content/uploads/2025/08/Cartel-campamento-circo-teatro-2025.jpg
ORGANIZER;CN="Concejal%C3%ADa%20de%20Infancia%20y%20Juventud":MAILTO:oij@ayto-mieres.es
GEO:43.2502294;-5.7729571
X-APPLE-STRUCTURED-LOCATION;VALUE=URI;X-ADDRESS=Casa de Cultura Teodoro Cuesta Calle Manuel Llaneza 8 Mieres Asturias 33600 España;X-APPLE-RADIUS=500;X-TITLE=Calle Manuel Llaneza\, 8:geo:-5.7729571,43.2502294
END:VEVENT
END:VCALENDAR