BEGIN:VCALENDAR
VERSION:2.0
PRODID:-//Ayuntamiento de Mieres - ECPv5.16.1.1//NONSGML v1.0//EN
CALSCALE:GREGORIAN
METHOD:PUBLISH
X-WR-CALNAME:Ayuntamiento de Mieres
X-ORIGINAL-URL:https://www.mieres.es
X-WR-CALDESC:Eventos para Ayuntamiento de Mieres
BEGIN:VTIMEZONE
TZID:Europe/Madrid
BEGIN:DAYLIGHT
TZOFFSETFROM:+0100
TZOFFSETTO:+0200
TZNAME:CEST
DTSTART:20250330T010000
END:DAYLIGHT
BEGIN:STANDARD
TZOFFSETFROM:+0200
TZOFFSETTO:+0100
TZNAME:CET
DTSTART:20251026T010000
END:STANDARD
END:VTIMEZONE
BEGIN:VEVENT
DTSTART;VALUE=DATE:20250823
DTEND;VALUE=DATE:20250824
DTSTAMP:20260421T064324
CREATED:20250818T110814Z
LAST-MODIFIED:20250818T110814Z
UID:75261-1755907200-1755993599@www.mieres.es
SUMMARY:Fiestas del Ramu 2025. Vistrimir
DESCRIPTION:Fiestas del Ramu 2025\nVistrimir\nPrograma\nSábado 23 de agosto\n11:30. Pasacalles con gaita y tambor \n12:00. Pregón\, a cargo de Mª del Carmen Santos (Directora del Grupo Folclórico Praú Llerón) \n12:30. Reparto del bollu y concurso de tortillas. Concurso de Tortillas. \n13:00. Puya’l ramu \n16:30. Bingo \n17:00. Juegos infantiles \n19:00. Romería\, a cargo de Jessy Piñeiro \n23:00. Verbena\, con Berto y su acordeón\, y baile del farolillo \n\n 
URL:https://www.mieres.es/evento/fiestas-del-ramu-2025-vistrimir/
LOCATION:Vistrimir\, Aldea de Vistrimir\, Asturias\, 33615\, España
CATEGORIES:Festejos
ATTACH;FMTTYPE=image/jpeg:https://www.mieres.es/wp-content/uploads/2025/08/fiestas-vistrimir-2025.jpg
END:VEVENT
BEGIN:VEVENT
DTSTART;VALUE=DATE:20250823
DTEND;VALUE=DATE:20250824
DTSTAMP:20260421T064324
CREATED:20250821T110558Z
LAST-MODIFIED:20250821T110558Z
UID:75310-1755907200-1755993599@www.mieres.es
SUMMARY:Fiestas de Baíña 2025 (21-25 AGO). Noche Folk-Rock
DESCRIPTION:Fiestas de Baíña 2025\n(21 al 25 de agosto)\n  \nPrograma\nSábado 23 de agosto\n14:00 Comida de convivencia\n18.00 Bandina Los Collainos (pase 1)\n19:30 Pregón a cargo de Taquio Álvarez (Presidente del Orfeón de Mieres)\n18.00 Bandina Los Collainos (pase 2)\n22:00 Noche Folk-Rock:\n-Sacavera\n-Skontra\n-Dixebra \n(Transporte bus gratuito Baíña-Mieres a las 3:30h.) \n  \nOrganizadas por la Hermandad de Fiestas de Baíña \n\n 
URL:https://www.mieres.es/evento/fiestas-de-baina-2025-21-25-ago-noche-folk-rock/
LOCATION:Baíña\, Lugar Baiña\, Asturias\, 33682\, España
CATEGORIES:Festejos
ATTACH;FMTTYPE=image/jpeg:https://www.mieres.es/wp-content/uploads/2025/08/fiestas-baina-2025-cartel.jpg
GEO:43.2749092;-5.8293652
X-APPLE-STRUCTURED-LOCATION;VALUE=URI;X-ADDRESS=Baíña Lugar Baiña Asturias 33682 España;X-APPLE-RADIUS=500;X-TITLE=Lugar Baiña:geo:-5.8293652,43.2749092
END:VEVENT
BEGIN:VEVENT
DTSTART;TZID=Europe/Madrid:20250823T090000
DTEND;TZID=Europe/Madrid:20250823T090000
DTSTAMP:20260421T064324
CREATED:20250703T094357Z
LAST-MODIFIED:20250703T094812Z
UID:75006-1755939600-1755939600@www.mieres.es
SUMMARY:Rutas Turísticas 2025: "Georuta por Nicolasa" (23AGO)
DESCRIPTION:RUTAS TURÍSTICAS GRATUITAS 2025\nEste verano DISFRUTA MIERES\n  \nGEORUTA POR NICOLASA\nRuta de senderismo guiada por el entorno de Nicolasa\, en la que descubrirás los aspectos geológicos más relevantes de la zona y de la Cuenca Carbonífera Central. \n  \nDETALLES DE LA ACTIVIDAD \n\nFecha: sábados 23 de agosto y 6 de septiembre.\nHora: 9:00 h\nPunto de encuentro: aparcamiento Pozo San Nicolás (Nicolasa\, Ablaña de Arriba).\nEnlace Google maps: https://maps.app.goo.gl/nZJSpHLg2mD1cNW77\nDuración aproximada: 4-5 horas.\nEdad mínima de los participantes: 8 años y acostumbrados a caminar.\nDistancia aproximada: 9 km 5 m\nDesnivel positivo: 600 m\nDificultad: moderada.\nServicios incluidos: guía de montaña en español.\nServicios no incluidos: traslados al punto de encuentro.\nAccesibilidad: esta ruta no es accesible para personas con movilidad reducida.\nMaterial necesario: ropa y calzado de montaña (obligatorio); agua.\nMaterial recomendable: chubasquero o cortavientos\, gorra\, gafas de sol y protección solar.\nCuándo reservar: puedes hacerlo hasta 48 horas antes de la actividad\, siempre y cuando haya plazas disponibles.\nMascotas: no permitidas\nEsta actividad necesita un mínimo de 5 participantes. En caso de no alcanzar ese número\, nos pondremos en contacto contigo para comunicártelo.\n\n  \nRESERVAS \nPlazas limitadas. Imprescindible formalizar reserva previa con 48 horas de antelación a la actividad. \nLa reserva se realizará a través del formulario online disponible en esta misma web\, más abajo. Unos días antes de la actividad le enviaremos un mensaje de confirmación para informarle de todos los detalles de la ruta. \n  \nCANCELACIONES \nPara cancelar la reserva realizada será necesario contactar con la Oficina de Turismo de Mieres a través de cualquiera de los siguientes medios: \n\nTfno.: 985 45 05 33\nE-mail: turismo@ayto-mieres.es\nWhastApp: https://wa.me/message/7WTB3WTX46UYE1\n\nLas plazas son limitadas y se habilitan listas de espera para suplir posibles cancelaciones\, motivo por el cual\, en el caso de que no puedan asistir a la ruta\, rogamos nos lo comuniquen con antelación para poder asignar las plazas a las personas que se encuentran en lista de espera. \nMás información: Oficina de Turismo de Mieres\, C/Manuel Llaneza\, 8. Tfno. 985450533. E-mail turismo@ayto-mieres.es \n\n  \nRutas Turísticas 2025 \nLa Concejalía de Turismo del Ayuntamiento de Mieres pone en marcha una nueva edición del programa “Este verano\, DISFRUTA MIERES”\, una iniciativa que el pasado año obtuvo una gran respuesta por parte de la ciudadanía\, con más de 500 personas participantes –la gran mayoría de otras comunidades autónomas y también visitantes internacionales y de Asturias– en las citas organizadas\, y que este año llega con novedades: más visitas y rutas guiadas\, una ruta de la Revolución de Octubre del 34 y una visita monográfica al Santuario de los Mártires\, además de ampliar las salidas del bus turístico\, que hará su recorrido todos los domingos de julio y agosto.\nGeorrutas\, rutas etnográficas\, cicloturistas\, senderistas\, visitas guiadas… De todo y para todos los gustos y públicos en una programación que se alargará durante todo el verano.\nTodas las actividades son gratuitas y para participar\, puesto que las plazas son limitadas\, será necesario formalizar reserva previa en los formularios online ofrecidos en cada una de las citas de nuestra agenda. \nConsulta y descarga el programa completo aquí \n  \n\n  \n \nCargando… 
URL:https://www.mieres.es/evento/rutas-turisticas-2025-georuta-por-nicolasa-23ago/
LOCATION:Pozu Nicolasa\, Arroyo Nicolasa\, Ablaña de Arriba\, 33650
CATEGORIES:Ruta Turística,Turismo
ATTACH;FMTTYPE=image/jpeg:https://www.mieres.es/wp-content/uploads/2025/07/CARTEL_rutasTuristicasMieres25.jpg
ORGANIZER;CN="Concejal%C3%ADa%20de%20Turismo":MAILTO:turismo@ayto-mieres.es
END:VEVENT
BEGIN:VEVENT
DTSTART;TZID=Europe/Madrid:20250823T090000
DTEND;TZID=Europe/Madrid:20250823T090000
DTSTAMP:20260421T064324
CREATED:20250818T101446Z
LAST-MODIFIED:20250822T142428Z
UID:75244-1755939600-1755939600@www.mieres.es
SUMMARY:Voluntariado Ambiental con el Grupo de Montaña San Bernardo
DESCRIPTION:Programación medioambiental\nDía mundial del Medio Ambiente 2025 \nVOLUNTARIADO AMBIENTAL\ncon el Grupo de Montaña San Bernardo\nLimpieza ambiental de la zona alta de la senda verde del Valle de Turón\n\n  \nSábado\, 23 de agosto\, a las 9:00h.\nPunto de encuentro y salida desde el Pozu San José (Turón)\nSubiremos en bus hasta La Güeria-Urbiés y bajaremos caminando hasta Turón \nNo es necesaria inscripción previa \n\n  \nJunto con el Grupo de Montaña San Bernardo\, y con los materiales que nos proporcionará Cogersa\, realizaremos una limpieza ambiental de esta parte de la Senda\, dejándola libre de residuos que puedan generar impactos negativos en la naturaleza y posible contaminación en los ecosistemas. \n  \n\n 
URL:https://www.mieres.es/evento/voluntariado-ambiental-con-el-grupo-de-montana-san-bernardo/
LOCATION:Pozu San José\, Turón
CATEGORIES:Medio Ambiente
ATTACH;FMTTYPE=image/jpeg:https://www.mieres.es/wp-content/uploads/2025/08/Cartel-salida-medioambiental-agosto-2025-Turon.jpg
END:VEVENT
END:VCALENDAR