BEGIN:VCALENDAR
VERSION:2.0
PRODID:-//Ayuntamiento de Mieres - ECPv5.16.1.1//NONSGML v1.0//EN
CALSCALE:GREGORIAN
METHOD:PUBLISH
X-WR-CALNAME:Ayuntamiento de Mieres
X-ORIGINAL-URL:https://www.mieres.es
X-WR-CALDESC:Eventos para Ayuntamiento de Mieres
BEGIN:VTIMEZONE
TZID:Europe/Madrid
BEGIN:DAYLIGHT
TZOFFSETFROM:+0100
TZOFFSETTO:+0200
TZNAME:CEST
DTSTART:20250330T010000
END:DAYLIGHT
BEGIN:STANDARD
TZOFFSETFROM:+0200
TZOFFSETTO:+0100
TZNAME:CET
DTSTART:20251026T010000
END:STANDARD
END:VTIMEZONE
BEGIN:VEVENT
DTSTART;VALUE=DATE:20250824
DTEND;VALUE=DATE:20250825
DTSTAMP:20260421T064326
CREATED:20250821T103518Z
LAST-MODIFIED:20250821T103518Z
UID:75307-1755993600-1756079999@www.mieres.es
SUMMARY:Fiestas de Baíña 2025 (21-25 AGO)
DESCRIPTION:Fiestas de Baíña 2025\n(21 al 25 de agosto)\n  \nPrograma\nDomingo 24 de agosto\n12:00 Misa solemne San Bartolomé con gaita y tambor\n13:00 Tradicional Puya’l ramu con sesión vermut\n17:00 Juegos tradicionales asturianos\n18.00 Espectáculo de malabares con Pablo Picallo\n19:00 Femfarria Asturies Combo\n21:00 Gran sardinada\n22:00 Actuación de “Duo Reflejos”\, con baile del farolillo \n  \nOrganizadas por la Hermandad de Fiestas de Baíña \n\n 
URL:https://www.mieres.es/evento/fiestas-de-baina-2025-21-25-ago/
LOCATION:Baíña\, Lugar Baiña\, Asturias\, 33682\, España
CATEGORIES:Festejos
ATTACH;FMTTYPE=image/jpeg:https://www.mieres.es/wp-content/uploads/2025/08/fiestas-baina-2025-cartel.jpg
GEO:43.2749092;-5.8293652
X-APPLE-STRUCTURED-LOCATION;VALUE=URI;X-ADDRESS=Baíña Lugar Baiña Asturias 33682 España;X-APPLE-RADIUS=500;X-TITLE=Lugar Baiña:geo:-5.8293652,43.2749092
END:VEVENT
BEGIN:VEVENT
DTSTART;TZID=Europe/Madrid:20250824T100000
DTEND;TZID=Europe/Madrid:20250824T140000
DTSTAMP:20260421T064326
CREATED:20250702T075709Z
LAST-MODIFIED:20250702T075709Z
UID:74941-1756029600-1756044000@www.mieres.es
SUMMARY:Bus Turístico. Recorrido por el patrimonio industrial y natural de Mieres. Verano 2025 (24AGO)
DESCRIPTION:RUTAS TURÍSTICAS GRATUITAS 2025\nEste verano DISFRUTA MIERES\n\nBUS TURÍSTICO MIERES\nRecorrido por el patrimonio industrial y natural de Mieres\n  \nEl bus turístico de Mieres conecta algunos de los principales recursos turísticos del municipio durante todos los domingos de agosto y el primero de septiembre. La actividad es gratuita e incluye guía acompañante e interpretación del patrimonio. Para participar es necesario formalizar reserva previa en la Oficina de Turismo de Mieres. \n  \nDETALLES DE LA ACTIVIDAD \n\nFechas:\n\nDomingos 6\, 13\, 20 y 27 de julio\nDomingos 3\, 10\, 17\, 24 y 31 de agosto\n\n\nSalida a las 10:00h. desde la parada del bus del Ayuntamiento de Mieres.\nDuración aproximada: 4 horas.\nItinerario: Ayuntamiento de Mieres – Poblado minero de Bustiello – Pozu Santa Bárbara – Pozu Espinos – Alto de la Col.ladiel.la – Mieres del Camín\nServicios incluidos: guía en español y traslados.\nAccesibilidad: esta ruta no es accesible para personas con movilidad reducida.\nEdad mínima: no establecida.\nCuándo reservar: puedes hacerlo hasta 48 horas antes de la actividad\, siempre y cuando haya plazas disponibles.\nMascotas: no permitidas.\nEsta actividad necesita un mínimo de 5 participantes. En caso de no alcanzar ese número\, nos pondremos en contacto contigo para comunicártelo.\n\n  \nRESERVAS \nPlazas limitadas. Imprescindible formalizar reserva previa con 48 horas de antelación a la actividad. Pueden realizar su reserva online desde el formulario de inscripción que encontrarán en esta misma página\, más abajo… \nTambién pueden realizar la reserva contactando con la Oficina de Turismo de Mieres a través de los siguientes medios: \n\nTfno.: 985 45 05 33\nE-mail: turismo@ayto-mieres.es\nWhatsApp: https://wa.me/message/7WTB3WTX46UYE1\n\n  \nCANCELACIONES \nPara cancelar la reserva realizada será necesario contactar con la Oficina de Turismo de Mieres a través de cualquiera de los siguientes medios: \n\nTfno.: 985 45 05 33\nE-mail: turismo@ayto-mieres.es\nWhastApp: https://wa.me/message/7WTB3WTX46UYE1\n\nLas plazas son limitadas y se habilitan listas de espera para suplir posibles cancelaciones\, motivo por el cual\, en el caso de que no puedan asistir a la ruta\, rogamos nos lo comuniquen con antelación para poder asignar las plazas a las personas que se encuentran en lista de espera. \nPara más información pueden dirigirse a la Oficina de Turismo de Mieres/Casa de Cultura de Mieres\, en la calle Manuel Llaneza\, 8. Tfno. 985450533 \n \nCargando…
URL:https://www.mieres.es/evento/bus-turistico-recorrido-por-el-patrimonio-industrial-y-natural-de-mieres-verano-2025-24ago/
LOCATION:Casa de Cultura Teodoro Cuesta\, Calle Manuel Llaneza\, 8\, Mieres\, Asturias\, 33600\, España
CATEGORIES:Ruta Turística
ATTACH;FMTTYPE=image/jpeg:https://www.mieres.es/wp-content/uploads/2025/07/CartelBusTurisicoMieres25-scaled.jpg
GEO:43.2502294;-5.7729571
X-APPLE-STRUCTURED-LOCATION;VALUE=URI;X-ADDRESS=Casa de Cultura Teodoro Cuesta Calle Manuel Llaneza 8 Mieres Asturias 33600 España;X-APPLE-RADIUS=500;X-TITLE=Calle Manuel Llaneza\, 8:geo:-5.7729571,43.2502294
END:VEVENT
BEGIN:VEVENT
DTSTART;TZID=Europe/Madrid:20250824T180000
DTEND;TZID=Europe/Madrid:20250824T180000
DTSTAMP:20260421T064326
CREATED:20250807T101427Z
LAST-MODIFIED:20250807T101427Z
UID:75200-1756058400-1756058400@www.mieres.es
SUMMARY:"Desequilibrado"\, espectáculo de malabares\, con Pablo Picallo
DESCRIPTION:Espectáculo de malabares \n“Desequilibrado”\ncon Pablo Picallo\nDomingo\, 24 de agosto de 2025. 18:00h. \nBaíña. Carpa de las fiestas \nGratuito \n\n  \nCuando cosas tan fáciles y cotidianas como montar en bicicleta\, sentarse en una silla o subir una escalera empiezan a resultar raras\, difíciles y hasta peligrosas se puede volver todo mucho más divertido. Todas estas cosas y muchas más le ocurren a @pablopicallocirco \, que para superar lo imprevistos necesitara de la fundamental ayuda y participación del público\, no lo dejes solo con sus problemas!! \n  \n\n 
URL:https://www.mieres.es/evento/desequilibrado-espectaculo-de-malabares-con-pablo-picallo-3/
LOCATION:Baíña\, Lugar Baiña\, Asturias\, 33682\, España
CATEGORIES:Juventud e Infancia
ATTACH;FMTTYPE=image/jpeg:https://www.mieres.es/wp-content/uploads/2025/08/Picallo-malabares-Mieres-2025.jpg
ORGANIZER;CN="Concejal%C3%ADa%20de%20Infancia%20y%20Juventud":MAILTO:oij@ayto-mieres.es
GEO:43.2749092;-5.8293652
X-APPLE-STRUCTURED-LOCATION;VALUE=URI;X-ADDRESS=Baíña Lugar Baiña Asturias 33682 España;X-APPLE-RADIUS=500;X-TITLE=Lugar Baiña:geo:-5.8293652,43.2749092
END:VEVENT
END:VCALENDAR