BEGIN:VCALENDAR
VERSION:2.0
PRODID:-//Ayuntamiento de Mieres - ECPv5.16.1.1//NONSGML v1.0//EN
CALSCALE:GREGORIAN
METHOD:PUBLISH
X-WR-CALNAME:Ayuntamiento de Mieres
X-ORIGINAL-URL:https://www.mieres.es
X-WR-CALDESC:Eventos para Ayuntamiento de Mieres
BEGIN:VTIMEZONE
TZID:Europe/Madrid
BEGIN:DAYLIGHT
TZOFFSETFROM:+0100
TZOFFSETTO:+0200
TZNAME:CEST
DTSTART:20250330T010000
END:DAYLIGHT
BEGIN:STANDARD
TZOFFSETFROM:+0200
TZOFFSETTO:+0100
TZNAME:CET
DTSTART:20251026T010000
END:STANDARD
END:VTIMEZONE
BEGIN:VEVENT
DTSTART;TZID=Europe/Madrid:20250829T090000
DTEND;TZID=Europe/Madrid:20250829T090000
DTSTAMP:20260421T064243
CREATED:20250618T104956Z
LAST-MODIFIED:20250618T104956Z
UID:74797-1756458000-1756458000@www.mieres.es
SUMMARY:Movámonos Xunt@s - Vacaciones Activas Verano 2025 (4ª quincena 18/29AGO)
DESCRIPTION:Movámonos Xunt@s\nVACACIONES ACTIVAS – CAMPAMENTOS URBANOS\n1ª quincena de julio\, del 1 al 15\n2ª quincena de julio\, del 16 al 31\n1ª quincena de agosto\, del 1 al 14\n2ª quincena de agosto\, del 18 al 29 \nde 10 a 14:00 h. en el patio del Colegio Liceo Mierense-Aniceto Sela \nInscripciones gratuitas\, on line\, desde la web: www.vitaeventsformacion.es/mieres \n  \nA partir del 26 de mayo\, a las 9:00h\,  se abre la inscripción para la edición estival de estos campamentos urbanos para niños/as de 3 a 12 años\, que se desarrollará en cuatro quincenas durante los meses de julio y agosto en el patio de los colegios Liceo Mierense y Aniceto Sela en horario de 10 a 14 horas. \n  \nREQUISITOS: \n\nTener entre 3 años (niños/as que hayan cumplido la edad y hayan sido previamente escolarizados/as) y 12 años.\nAsistencia obligatoria. Una ausencia de dos días consecutivos sin justificar será motivo de cancelación de plaza.\n\nADJUDICACIÓN Y LISTAS DE ESPERA: \n\nEl criterio de adjudicación es el orden de llegada de las solicitudes.\nEste verano deben escoger sus opciones en orden de preferencia\, ya que cada familia obtendrá plaza únicamente en una de ellas. Solo en caso de que las plazas de alguna quincena no se cubran al 100%\, se tomará en cuenta la solicitud de familias que ya hayan obtenido plaza en otra.\nLas plazas se adjudican por orden de llegada. Si queda en lista de espera\, será informado/a de ello. Cuando otra familia cancele\, iremos avisando en orden de entrada en la lista de espera para ofrecer las vacantes.\nRogamos que si se le adjudica una plaza y finalmente no la necesita\, nos avise para poder mover las listas de espera. Otra familia puede aprovechar la plaza si usted no la necesita.\n\n  \nEl programa de Vacaciones Activas Movámonos Xunt@s tiene como objetivo ofrecer actividades de ocio y deporte a los y las peques fuera de la rutina escolar y\, al mismo tiempo\, ofertar un recurso para las familias\, que pueden así organizar su tiempo y el de los y las menores en la época estival\, facilitando así la conciliación personal y laboral. Además\, este programa se centra en actividades lúdicas y formativas acordes al desarrollo intelectual y motriz de los y las participantes\, inculcando siempre valores y actitudes de respeto\, cooperación\, igualdad y tolerancia a través de talleres y juegos compartidos. \n  \nPara más información pueden llamar al 985308317 (lunes a viernes de 9:00h a 14:00h/lunes a jueves de 16:00 a 18:00h) o escribir un email a preinscripcion@vitaevents.es \n\n 
URL:https://www.mieres.es/evento/movamonos-xunts-vacaciones-activas-verano-2025-4a-quincena-18-29ago-2/
LOCATION:Patio colegio Liceo/Aniceto Sela\, Colegio Público Liceo Mierense\, Mieres\, Asturias\, 33600 
CATEGORIES:Juventud e Infancia
ATTACH;FMTTYPE=image/jpeg:https://www.mieres.es/wp-content/uploads/2025/05/MIERES-movamonos-xuntos-VERANO-2025.jpg
ORGANIZER;CN="Concejal%C3%ADa%20de%20Infancia%20y%20Juventud":MAILTO:oij@ayto-mieres.es
GEO:43.249719;-5.7785282
X-APPLE-STRUCTURED-LOCATION;VALUE=URI;X-ADDRESS=Patio colegio Liceo/Aniceto Sela Colegio Público Liceo Mierense Mieres Asturias 33600;X-APPLE-RADIUS=500;X-TITLE=Colegio Público Liceo Mierense:geo:-5.7785282,43.249719
END:VEVENT
BEGIN:VEVENT
DTSTART;TZID=Europe/Madrid:20250829T170000
DTEND;TZID=Europe/Madrid:20250829T170000
DTSTAMP:20260421T064243
CREATED:20250702T084558Z
LAST-MODIFIED:20250702T084558Z
UID:74953-1756486800-1756486800@www.mieres.es
SUMMARY:Rutas Turísticas 2025: "Visita guiada por Mieres del Camín" (29AGO)
DESCRIPTION:RUTAS TURÍSTICAS GRATUITAS 2025\nEste verano DISFRUTA MIERES\n  \nVISITA GUIADA MIERES DEL CAMÍN\nItinerario guiado que recorrerá los principales puntos de interés de la ciudad\, dando comienzo en su barrio fundacional y finalizando en la popular Plaza de Requexu/Requejo. Podrás conocer los monumentos más emblemáticos de Mieres del Camín y las curiosidades y anécdotas que algunos esconden. \n  \nDETALLES DE LA ACTIVIDAD \n\nFechas: sábado 12 de julio\, sábado 2 de agosto y viernes 29 de agosto.\nHora: 17:00 h\nPunto de encuentro: Pozu Barreo\, Mieres.\nEnlace Google maps: https://maps.app.goo.gl/R7ChihudLmayzZRc7\nItinerario: Pozu Barreo – La Villa – Casa Consistorial – Casa de Cultura Teodoro Cuesta – Mercado de Abastos – Plaza de La Pasera – Plaza San Juan /Requexu\nDuración aproximada: 2 h 30 min\nServicios incluidos: guía en español\nServicios no incluidos: traslados al punto de encuentro. Traslados entre los puntos que componen la visita.\nAccesibilidad: esta ruta no es accesible para personas con movilidad reducida.\nEdad mínima: no establecida.\nCuándo reservar: puedes hacerlo hasta 48 horas antes de la actividad\, siempre y cuando haya plazas disponibles.\nMascotas: no permitidas.\nEsta actividad necesita un mínimo de 5 participantes. En caso de no alcanzar ese número\, nos pondremos en contacto contigo para comunicártelo.\n\n  \nRESERVAS \nPlazas limitadas. Imprescindible formalizar reserva previa con 48 horas de antelación a la actividad. \nLa reserva se realizará a través del formulario online disponible en esta misma web\, más abajo. Unos días antes de la actividad le enviaremos un mensaje de confirmación para informarle de todos los detalles de la ruta. \n  \nCANCELACIONES \nPara cancelar la reserva realizada será necesario contactar con la Oficina de Turismo de Mieres a través de cualquiera de los siguientes medios: \n\nTfno.: 985 45 05 33\nE-mail: turismo@ayto-mieres.es\nWhastApp: https://wa.me/message/7WTB3WTX46UYE1\n\nLas plazas son limitadas y se habilitan listas de espera para suplir posibles cancelaciones\, motivo por el cual\, en el caso de que no puedan asistir a la ruta\, rogamos nos lo comuniquen con antelación para poder asignar las plazas a las personas que se encuentran en lista de espera. \nMás información: Oficina de Turismo de Mieres\, C/Manuel Llaneza\, 8. Tfno. 985450533. E-mail turismo@ayto-mieres.es \n\n  \nRutas Turísticas 2025 \nLa Concejalía de Turismo del Ayuntamiento de Mieres pone en marcha una nueva edición del programa “Este verano\, DISFRUTA MIERES”\, una iniciativa que el pasado año obtuvo una gran respuesta por parte de la ciudadanía\, con más de 500 personas participantes –la gran mayoría de otras comunidades autónomas y también visitantes internacionales y de Asturias– en las citas organizadas\, y que este año llega con novedades: más visitas y rutas guiadas\, una ruta de la Revolución de Octubre del 34 y una visita monográfica al Santuario de los Mártires\, además de ampliar las salidas del bus turístico\, que hará su recorrido todos los domingos de julio y agosto.\nGeorrutas\, rutas etnográficas\, cicloturistas\, senderistas\, visitas guiadas… De todo y para todos los gustos y públicos en una programación que se alargará durante todo el verano.\nTodas las actividades son gratuitas y para participar\, puesto que las plazas son limitadas\, será necesario formalizar reserva previa en los formularios online ofrecidos en cada una de las citas de nuestra agenda. \nConsulta y descarga el programa completo aquí \n  \n\n  \n \nCargando… 
URL:https://www.mieres.es/evento/rutas-turisticas-2025-visita-guiada-por-mieres-del-camin-29ago/
LOCATION:Casco urbano\, Mieres del Camín\, Asturias\, 33600\, España
CATEGORIES:Ruta Turística,Turismo
ATTACH;FMTTYPE=image/jpeg:https://www.mieres.es/wp-content/uploads/2025/07/CARTEL_rutasTuristicasMieres25.jpg
ORGANIZER;CN="Concejal%C3%ADa%20de%20Turismo":MAILTO:turismo@ayto-mieres.es
GEO:43.2491037;-5.7747551
END:VEVENT
END:VCALENDAR