BEGIN:VCALENDAR
VERSION:2.0
PRODID:-//Ayuntamiento de Mieres - ECPv5.16.1.1//NONSGML v1.0//EN
CALSCALE:GREGORIAN
METHOD:PUBLISH
X-WR-CALNAME:Ayuntamiento de Mieres
X-ORIGINAL-URL:https://www.mieres.es
X-WR-CALDESC:Eventos para Ayuntamiento de Mieres
BEGIN:VTIMEZONE
TZID:Europe/Madrid
BEGIN:DAYLIGHT
TZOFFSETFROM:+0100
TZOFFSETTO:+0200
TZNAME:CEST
DTSTART:20250330T010000
END:DAYLIGHT
BEGIN:STANDARD
TZOFFSETFROM:+0200
TZOFFSETTO:+0100
TZNAME:CET
DTSTART:20251026T010000
END:STANDARD
END:VTIMEZONE
BEGIN:VEVENT
DTSTART;TZID=Europe/Madrid:20250904T090000
DTEND;TZID=Europe/Madrid:20250904T090000
DTSTAMP:20260421T051710
CREATED:20250807T084356Z
LAST-MODIFIED:20250807T084356Z
UID:75193-1756976400-1756976400@www.mieres.es
SUMMARY:Campamento Circo-Teatro\, para menores entre 8 y 12 años
DESCRIPTION:Actividades de conciliación familiar \nCampamento Circo-Teatro\npara menores entre 8 y 12 años\nDel 1 al 5 de septiembre de 2025\, de 9 a 14h. \nSalón de Actos de la Casa de Cultura Teodoro Cuesta \nInscripciones gratuitas online a través del formulario que encontrarán en esta misma página\, a partir del 18 de agosto (10:00h.). Plazas limitadas (15 participantes)\, asignadas por riguroso orden de inscripción.\nhttps://forms.gle/5S1MQzQZbXs8xTzZA \n\n  \nTaller de acercamiento a técnicas de circo y acrobacia para menores de 12 años. 5 jornadas que se repartirán en un bloque de juegos y otro de técnica cada día\, donde podrán dar sus primeros pasos y tomar contacto con disciplinas físicas que los ayudarán a ejercitar su coordinación\, agilidad\, flexibilidad y trabajo en equipo.  \nTelas\, Trapecio\, Equilibrios\, Malabares\, Portes y Acrobacias Verticales siempre de la mano de formadores profesionales de la escuela “Circo Bajo el Tejado” y con toda la seguridad. ¡No dejes pasar esta oportunidad de divertirte mientras aprendes! \n  \n\nFORMULARIO DE INSCRIPCIÓN\n  \nCargando…
URL:https://www.mieres.es/evento/campamento-circo-teatro-para-menores-entre-8-y-12-anos-2/2025-09-04/
LOCATION:Casa de Cultura Teodoro Cuesta\, Calle Manuel Llaneza\, 8\, Mieres\, Asturias\, 33600\, España
CATEGORIES:Juventud e Infancia
ATTACH;FMTTYPE=image/jpeg:https://www.mieres.es/wp-content/uploads/2025/08/Cartel-campamento-circo-teatro-2025.jpg
ORGANIZER;CN="Concejal%C3%ADa%20de%20Infancia%20y%20Juventud":MAILTO:oij@ayto-mieres.es
GEO:43.2502294;-5.7729571
X-APPLE-STRUCTURED-LOCATION;VALUE=URI;X-ADDRESS=Casa de Cultura Teodoro Cuesta Calle Manuel Llaneza 8 Mieres Asturias 33600 España;X-APPLE-RADIUS=500;X-TITLE=Calle Manuel Llaneza\, 8:geo:-5.7729571,43.2502294
END:VEVENT
BEGIN:VEVENT
DTSTART;TZID=Europe/Madrid:20250904T170000
DTEND;TZID=Europe/Madrid:20250904T190000
DTSTAMP:20260421T051710
CREATED:20250827T090608Z
LAST-MODIFIED:20250827T091532Z
UID:75376-1757005200-1757012400@www.mieres.es
SUMMARY:"MARCHANDO" Juegos Infantiles en el Parque Xovellanos
DESCRIPTION:MARCHANDO\nJuegos Infantiles\nen Mieres\nTodos los jueves\, del 1 al 26 de septiembre\, de 17 a 19:00h.\nParque Xovellanos (en caso de lluvia se trasladaría al Colegio Público Santiago Apóstol) \nPara chicos y chicas entre 5 y 16 años\nNo es necesaria inscripción \n\n  \nEl Ayuntamiento de Mieres\, través de la Concejalía de Igualdad\, Feminismo\, Juventud e Infancia pone en marcha un nuevo programa dentro del marco del Plan Corresponsables\, destinado a peques y adolescentes entre 5 y 16 años\, con un sinfín de actividades que seguro disfrutarán\, siendo el objetivo propuesto  fomentar el deporte\, la actividad física y unos hábitos saludables a través del ocio.\n\nEl programa está financiado por el Plan Corresponsables\, a través de fondos del Ministerio de Igualdad – Secretaría de Estado de Igualdad y contra la Violencia de Género\, dicho plan se ejecuta por el Gobierno del Principado de Asturias a través de su Dirección General de Igualdad con la colaboración de los ayuntamientos asturianos\, entre ellos el de Mieres.\n\nEl horario previsto es de 17 a 19 horas\, celebrándose en los siguientes días y lugares :\n\nLunes: en Turón\, en el Parque\, y si llueve en el Polideportivo.\nMartes: en Figaredo\, Parque Tartiere.\nMiércoles: Rioturbio\, en la Cancha.\nJueves: Mieres: Parque Jovellanos\, y si llueve Colegio Santiago Apóstol.\nViernes: Santullano\, en la Cancha.\n\n\nEs una actividad gratuita y sin previa inscripción\, por lo que esperamos que resulte de interés para las familias\, contribuyendo al mismo tiempo a la conciliación y recuperar ese espacio de la calle donde la convivencia de la infancia y la adolescencia crea lazos a través del juego colaborativo.\n\nNos vemos¡¡
URL:https://www.mieres.es/evento/marchando-juegos-infantiles-en-el-parque-xovellanos/2025-09-04/
LOCATION:Polideportivo de Returbiu\, Rioturbio\, 33614
CATEGORIES:Juventud e Infancia
ATTACH;FMTTYPE=image/jpeg:https://www.mieres.es/wp-content/uploads/2025/08/cartel-Marchando-Mieres.jpg
ORGANIZER;CN="Concejal%C3%ADa%20de%20Infancia%20y%20Juventud":MAILTO:oij@ayto-mieres.es
GEO:43.2653376;-5.7388431
END:VEVENT
BEGIN:VEVENT
DTSTART;TZID=Europe/Madrid:20250904T213000
DTEND;TZID=Europe/Madrid:20250904T213000
DTSTAMP:20260421T051710
CREATED:20250807T105110Z
LAST-MODIFIED:20250807T105110Z
UID:75208-1757021400-1757021400@www.mieres.es
SUMMARY:Un verano de peli: "Menudas piezas"
DESCRIPTION:Cine al aire libre: \nUn verano de peli:\nMENUDAS PIEZAS\nJueves\, 4 de septiembre\, 21:30h.\nBarrio de La Villa\, Mural 6 de La Suiza \nEntrada libre \n\nSinopsis \nComedia española que sigue la historia de Candela\, quien tras un doloroso divorcio y la pérdida de su trabajo en una escuela de élite\, regresa a su barrio de origen para encontrar una nueva oportunidad enseñando a estudiantes con problemas de integración. \n  \n\n  \n  \n 
URL:https://www.mieres.es/evento/un-verano-de-peli-menudas-piezas/
LOCATION:Plaza de La Villa\, España
CATEGORIES:Cine
ATTACH;FMTTYPE=image/jpeg:https://www.mieres.es/wp-content/uploads/2025/08/Cartel-Cine-verano-mieres-2025.jpg
END:VEVENT
END:VCALENDAR