BEGIN:VCALENDAR
VERSION:2.0
PRODID:-//Ayuntamiento de Mieres - ECPv5.16.1.1//NONSGML v1.0//EN
CALSCALE:GREGORIAN
METHOD:PUBLISH
X-WR-CALNAME:Ayuntamiento de Mieres
X-ORIGINAL-URL:https://www.mieres.es
X-WR-CALDESC:Eventos para Ayuntamiento de Mieres
BEGIN:VTIMEZONE
TZID:Europe/Madrid
BEGIN:DAYLIGHT
TZOFFSETFROM:+0100
TZOFFSETTO:+0200
TZNAME:CEST
DTSTART:20250330T010000
END:DAYLIGHT
BEGIN:STANDARD
TZOFFSETFROM:+0200
TZOFFSETTO:+0100
TZNAME:CET
DTSTART:20251026T010000
END:STANDARD
END:VTIMEZONE
BEGIN:VEVENT
DTSTART;TZID=Europe/Madrid:20250905T090000
DTEND;TZID=Europe/Madrid:20250905T140000
DTSTAMP:20260421T051733
CREATED:20250620T115829Z
LAST-MODIFIED:20250620T115829Z
UID:74832-1757062800-1757080800@www.mieres.es
SUMMARY:¡No te quedes en casa! Campamentos escolares (1/5SEP)
DESCRIPTION:  \n¡No te quedes en casa! \nCampamentos escolares\nDel 1 al 5 de septiembre de 2025\nde lunes a viernes\, de 9 a 14h. \nEn todos los colegios públicos del concejo \n\n  \nPrograma dirigido al alumnado de Infantil y Primaria para ofrecer las mejores actividades y acompañamiento\, mientras fortalecen la sana convivencia\, durante la semana previa al comienzo del curso escolar\, facilitando la conciliación familiar. \nFORMULARIO DE INSCRIPCIÓN\n  \nCargando…
URL:https://www.mieres.es/evento/no-te-quedes-en-casa-campamentos-escolares-1-5sep-4/
LOCATION:Varias ubicaciones
CATEGORIES:Juventud e Infancia
ATTACH;FMTTYPE=image/jpeg:https://www.mieres.es/wp-content/uploads/2025/06/cartel-web-2025-¡no-te-quedes-en-casa.jpg
ORGANIZER;CN="Concejal%C3%ADa%20de%20Infancia%20y%20Juventud":MAILTO:oij@ayto-mieres.es
END:VEVENT
BEGIN:VEVENT
DTSTART;TZID=Europe/Madrid:20250905T090000
DTEND;TZID=Europe/Madrid:20250905T090000
DTSTAMP:20260421T051733
CREATED:20250807T084356Z
LAST-MODIFIED:20250807T084356Z
UID:75194-1757062800-1757062800@www.mieres.es
SUMMARY:Campamento Circo-Teatro\, para menores entre 8 y 12 años
DESCRIPTION:Actividades de conciliación familiar \nCampamento Circo-Teatro\npara menores entre 8 y 12 años\nDel 1 al 5 de septiembre de 2025\, de 9 a 14h. \nSalón de Actos de la Casa de Cultura Teodoro Cuesta \nInscripciones gratuitas online a través del formulario que encontrarán en esta misma página\, a partir del 18 de agosto (10:00h.). Plazas limitadas (15 participantes)\, asignadas por riguroso orden de inscripción.\nhttps://forms.gle/5S1MQzQZbXs8xTzZA \n\n  \nTaller de acercamiento a técnicas de circo y acrobacia para menores de 12 años. 5 jornadas que se repartirán en un bloque de juegos y otro de técnica cada día\, donde podrán dar sus primeros pasos y tomar contacto con disciplinas físicas que los ayudarán a ejercitar su coordinación\, agilidad\, flexibilidad y trabajo en equipo.  \nTelas\, Trapecio\, Equilibrios\, Malabares\, Portes y Acrobacias Verticales siempre de la mano de formadores profesionales de la escuela “Circo Bajo el Tejado” y con toda la seguridad. ¡No dejes pasar esta oportunidad de divertirte mientras aprendes! \n  \n\nFORMULARIO DE INSCRIPCIÓN\n  \nCargando…
URL:https://www.mieres.es/evento/campamento-circo-teatro-para-menores-entre-8-y-12-anos-2/2025-09-05/
LOCATION:Casa de Cultura Teodoro Cuesta\, Calle Manuel Llaneza\, 8\, Mieres\, Asturias\, 33600\, España
CATEGORIES:Juventud e Infancia
ATTACH;FMTTYPE=image/jpeg:https://www.mieres.es/wp-content/uploads/2025/08/Cartel-campamento-circo-teatro-2025.jpg
ORGANIZER;CN="Concejal%C3%ADa%20de%20Infancia%20y%20Juventud":MAILTO:oij@ayto-mieres.es
GEO:43.2502294;-5.7729571
X-APPLE-STRUCTURED-LOCATION;VALUE=URI;X-ADDRESS=Casa de Cultura Teodoro Cuesta Calle Manuel Llaneza 8 Mieres Asturias 33600 España;X-APPLE-RADIUS=500;X-TITLE=Calle Manuel Llaneza\, 8:geo:-5.7729571,43.2502294
END:VEVENT
BEGIN:VEVENT
DTSTART;TZID=Europe/Madrid:20250905T100000
DTEND;TZID=Europe/Madrid:20250905T100000
DTSTAMP:20260421T051733
CREATED:20250905T080814Z
LAST-MODIFIED:20250905T085237Z
UID:75462-1757066400-1757066400@www.mieres.es
SUMMARY:Mercadillo de Segunda Mano. Semana Europea de la Movilidad 2025. -Apertura plazo solicitud de stand-
DESCRIPTION:SEMANA EUROPEA DE LA MOVILIDAD 2025 \nSábado 20 de septiembre\nMERCADILLO DE SEGUNDA MANO\nLugar: Parque Xovellanos\nHora: De 12 a 20 horas\nApertura del plazo de inscripciones gratuitas para la obtención de un puesto-stand a partir del viernes 5 de septiembre (a las 10:00h) hasta el viernes 12 de septiembre\, en los formularios que encontrarán en esta misma página.\nHay un formulario de carácter general\, con 15 plazas disponibles y otro destinado específicamente a jóvenes menores de 30 años (5 plazas). A su vez\, se ofrece un tercer formulario con 5 puestos más para mesas propias. \nATENCIÓN: Destinado a la venta de productos de segunda mano de particulares. No se admitirán puestos destinados a restos de fábrica ni ventas provenientes de negocio. \n  \n\n  \nNuestro Ayuntamiento se suma un año más a la Semana Europea de la Movilidad (SEM)\, que celebrará su vigésima quinta edición del 16 al 22 de septiembre de 2025. Es una campaña dirigida a sensibilizar\, tanto a los responsables políticos como a la ciudadanía\, sobre las consecuencias negativas que tiene para la salud pública y el medio ambiente el uso excesivo del coche en la ciudad. Asimismo\, busca promover el uso de modos de transporte más sostenibles\, en particular\, el transporte público\, la bicicleta y los desplazamientos a pie. \nEste año\, el tema elegido es ‘Movilidad para todas las personas’. Mediante esta temática\, la Comisión Europea pretende poner el foco en la importancia de que toda la ciudadanía pueda contar con un transporte disponible\, accesible\, asequible\, seguro y sostenible\, con independencia de los ingresos\, la ubicación\, el género o las capacidades. \n  \n\n  \nCargando… \nCargando…\nCargando…
URL:https://www.mieres.es/evento/mercadillo-de-segunda-mano-semana-europea-de-la-movilidad-2025-apertura-plazo-solicitud-de-stand/
LOCATION:Parque Xovellanos\, Parque Xovellanos\, Mieres\, Asturias\, 33600 
CATEGORIES:Medio Ambiente
ATTACH;FMTTYPE=image/jpeg:https://www.mieres.es/wp-content/uploads/2025/09/Cartel-Semana-Movilidad-2025-mercadillo-web.jpg
GEO:43.2517322;-5.7764018
X-APPLE-STRUCTURED-LOCATION;VALUE=URI;X-ADDRESS=Parque Xovellanos Parque Xovellanos Mieres Asturias 33600;X-APPLE-RADIUS=500;X-TITLE=Parque Xovellanos:geo:-5.7764018,43.2517322
END:VEVENT
BEGIN:VEVENT
DTSTART;TZID=Europe/Madrid:20250905T163000
DTEND;TZID=Europe/Madrid:20250905T210000
DTSTAMP:20260421T051733
CREATED:20250820T115409Z
LAST-MODIFIED:20250903T115605Z
UID:75300-1757089800-1757106000@www.mieres.es
SUMMARY:Vuelta Ciclista a España\, etapa 13. Paso por Mieres y Parque Vuelta (Fan Zone) en el parque Xovellanos
DESCRIPTION:Vuelta Ciclista a España\nEtapa 13. Cabezón de la Sal-L’Angliru\nPaso por Mieres\nParque Vuelta (Fan Zone) en el Parque Xovellanos\n16:30 h – Apertura de la zona de Parque Vuelta de cara al público con la emisión de la etapa.\n* Una vez abierto dicho espacio\, comenzarán las actividades y animaciones.\n21:00 h -Fin de Parque Vuelta \n\nLa Vuelta Ciclista a España vuelve a pasar por nuestro concejo en esta edición 2025\, acogiendo la etapa reina y la más larga de La Vuelta 25. La primera parte irá en paralelo a la costa para adentrarse en Asturias y encontrar la dureza concentrada en el tramo final. La Mozqueta y el Cordal\, ambos de primera categoría\, serán la antesala de la subida final al durísimo Altu de L’Angliru. Afrontar la Cueña Les Cabres con casi 200 kilómetros en las piernas será una prueba de fuego para los favoritos que\, si tienen un mal día\, podrían decir adiós a La Vuelta. \nEl pelotón cruzará el concejo desde la cuenca de Langreo por La Mozqueta (Colladiella) en torno a las 16:10\, Urbiés a las 16:19\, Turón a las 16:31\, Figareo a las 16:37\, saliendo en esta ocasión en dirección Villayana\, para continuar por el vecino concejo de Llena hacia el Puerto del Cordal y el Angliru\, cima fin de etapa. \nHorarios \nLes ofrecemos a continuación los horarios de paso por el concejo previstos por la organización de La Vuelta\, el tráfico por esas carreteras y localidades  se verá afectado por los cortes necesarios para el paso de esta competición: \n \n \n  \n  \n\n  \n  \n 
URL:https://www.mieres.es/evento/vuelta-ciclista-a-espana-etapa-13-paso-por-mieres-y-parque-vuelta-fan-zone-en-el-parque-xovellanos/
LOCATION:Carreteras del concejo
CATEGORIES:Deportes
ATTACH;FMTTYPE=image/jpeg:https://www.mieres.es/wp-content/uploads/2025/08/cartel-vuelta.jpg
END:VEVENT
BEGIN:VEVENT
DTSTART;TZID=Europe/Madrid:20250905T170000
DTEND;TZID=Europe/Madrid:20250905T170000
DTSTAMP:20260421T051733
CREATED:20250702T094224Z
LAST-MODIFIED:20250702T094255Z
UID:74965-1757091600-1757091600@www.mieres.es
SUMMARY:Rutas Turísticas 2025: "Ruta etnográfica por Lloreo" (5SEP)
DESCRIPTION:RUTAS TURÍSTICAS GRATUITAS 2025\nEste verano DISFRUTA MIERES\n  \nRUTA ETNOGRÁFICA POR LLOREO\nEn esta ruta guiada conocerás los elementos etnográficos más representativos presentes en la localidad de Lloreo\, así como los aspectos más relevantes y curiosidades de una de las construcciones más características de nuestra arquitectura popular\, el hórreo. \n  \nDETALLES DE LA ACTIVIDAD \n\nFechas: viernes 8 de agosto y viernes 5 de septiembre.\nHora: 17:00 h.\nPunto de encuentro: iglesia de San Pedro de Lloreo.\nEnlace Google maps: https://maps.app.goo.gl/K67eMV78jVCuHHui8\nItinerario guiado a pie. Imprescindible calzado deportivo.\nDuración aproximada: 2 h.\nServicios incluidos: guía en español.\nServicios no incluidos: traslados al punto de encuentro.\nEdad mínima: no establecida.\nCuándo reservar: puedes hacerlo hasta 48 horas antes de la actividad\, siempre y cuando haya plazas disponibles.\nMascotas: no permitidas.\nEsta actividad necesita un mínimo de 5 participantes. En caso de no alcanzar ese número\, nos pondremos en contacto contigo para comunicártelo.\n\n  \nRESERVAS \nPlazas limitadas. Imprescindible formalizar reserva previa con 48 horas de antelación a la actividad. \nLa reserva se realizará a través del formulario online disponible en esta misma web\, más abajo. Unos días antes de la actividad le enviaremos un mensaje de confirmación para informarle de todos los detalles de la ruta. \n  \nCANCELACIONES \nPara cancelar la reserva realizada será necesario contactar con la Oficina de Turismo de Mieres a través de cualquiera de los siguientes medios: \n\nTfno.: 985 45 05 33\nE-mail: turismo@ayto-mieres.es\nWhastApp: https://wa.me/message/7WTB3WTX46UYE1\n\nLas plazas son limitadas y se habilitan listas de espera para suplir posibles cancelaciones\, motivo por el cual\, en el caso de que no puedan asistir a la ruta\, rogamos nos lo comuniquen con antelación para poder asignar las plazas a las personas que se encuentran en lista de espera. \nMás información: Oficina de Turismo de Mieres\, C/Manuel Llaneza\, 8. Tfno. 985450533. E-mail turismo@ayto-mieres.es \n\n  \nRutas Turísticas 2025 \nLa Concejalía de Turismo del Ayuntamiento de Mieres pone en marcha una nueva edición del programa “Este verano\, DISFRUTA MIERES”\, una iniciativa que el pasado año obtuvo una gran respuesta por parte de la ciudadanía\, con más de 500 personas participantes –la gran mayoría de otras comunidades autónomas y también visitantes internacionales y de Asturias– en las citas organizadas\, y que este año llega con novedades: más visitas y rutas guiadas\, una ruta de la Revolución de Octubre del 34 y una visita monográfica al Santuario de los Mártires\, además de ampliar las salidas del bus turístico\, que hará su recorrido todos los domingos de julio y agosto.\nGeorrutas\, rutas etnográficas\, cicloturistas\, senderistas\, visitas guiadas… De todo y para todos los gustos y públicos en una programación que se alargará durante todo el verano.\nTodas las actividades son gratuitas y para participar\, puesto que las plazas son limitadas\, será necesario formalizar reserva previa en los formularios online ofrecidos en cada una de las citas de nuestra agenda. \nConsulta y descarga el programa completo aquí \n  \n\n  \n \nCargando… 
URL:https://www.mieres.es/evento/rutas-turisticas-2025-ruta-etnografica-por-lloreo-5sep/
LOCATION:Lloreo\, Asturias
CATEGORIES:Ruta Turística,Turismo
ATTACH;FMTTYPE=image/jpeg:https://www.mieres.es/wp-content/uploads/2025/07/CARTEL_rutasTuristicasMieres25.jpg
ORGANIZER;CN="Concejal%C3%ADa%20de%20Turismo":MAILTO:turismo@ayto-mieres.es
GEO:43.3613953;-5.8593267
END:VEVENT
BEGIN:VEVENT
DTSTART;TZID=Europe/Madrid:20250905T170000
DTEND;TZID=Europe/Madrid:20250905T190000
DTSTAMP:20260421T051733
CREATED:20250827T090824Z
LAST-MODIFIED:20250827T091552Z
UID:75378-1757091600-1757098800@www.mieres.es
SUMMARY:"MARCHANDO" Juegos Infantiles en Santuyano
DESCRIPTION:MARCHANDO\nJuegos Infantiles\nen Santuyano\nTodos los viernes\, del 1 al 26 de septiembre\, de 17 a 19:00h.\nCancha Polideportiva \nPara chicos y chicas entre 5 y 16 años\nNo es necesaria inscripción \n\n  \nEl Ayuntamiento de Mieres\, través de la Concejalía de Igualdad\, Feminismo\, Juventud e Infancia pone en marcha un nuevo programa dentro del marco del Plan Corresponsables\, destinado a peques y adolescentes entre 5 y 16 años\, con un sinfín de actividades que seguro disfrutarán\, siendo el objetivo propuesto  fomentar el deporte\, la actividad física y unos hábitos saludables a través del ocio.\n\nEl programa está financiado por el Plan Corresponsables\, a través de fondos del Ministerio de Igualdad – Secretaría de Estado de Igualdad y contra la Violencia de Género\, dicho plan se ejecuta por el Gobierno del Principado de Asturias a través de su Dirección General de Igualdad con la colaboración de los ayuntamientos asturianos\, entre ellos el de Mieres.\n\nEl horario previsto es de 17 a 19 horas\, celebrándose en los siguientes días y lugares :\n\nLunes: en Turón\, en el Parque\, y si llueve en el Polideportivo.\nMartes: en Figaredo\, Parque Tartiere.\nMiércoles: Rioturbio\, en la Cancha.\nJueves: Mieres: Parque Jovellanos\, y si llueve Colegio Santiago Apóstol.\nViernes: Santullano\, en la Cancha.\n\n\nEs una actividad gratuita y sin previa inscripción\, por lo que esperamos que resulte de interés para las familias\, contribuyendo al mismo tiempo a la conciliación y recuperar ese espacio de la calle donde la convivencia de la infancia y la adolescencia crea lazos a través del juego colaborativo.\n\nNos vemos¡¡
URL:https://www.mieres.es/evento/marchando-juegos-infantiles-en-santuyano/2025-09-05/
LOCATION:Cancha polideportiva de Santuyano\, Santuyano\, Asturias
CATEGORIES:Juventud e Infancia
ATTACH;FMTTYPE=image/jpeg:https://www.mieres.es/wp-content/uploads/2025/08/cartel-Marchando-Mieres.jpg
ORGANIZER;CN="Concejal%C3%ADa%20de%20Infancia%20y%20Juventud":MAILTO:oij@ayto-mieres.es
END:VEVENT
BEGIN:VEVENT
DTSTART;TZID=Europe/Madrid:20250905T213000
DTEND;TZID=Europe/Madrid:20250905T213000
DTSTAMP:20260421T051733
CREATED:20250807T105431Z
LAST-MODIFIED:20250807T105431Z
UID:75210-1757107800-1757107800@www.mieres.es
SUMMARY:Un verano de peli: "Padre no hay más que uno 4: Campanas de boda"
DESCRIPTION:Cine al aire libre: \nUn verano de peli:\nPADRE NO HAY MÁS QUE UNO 4. CAMPANAS DE BODA\nViernes\, 5 de septiembre\, 21:30h.\nLloreo. La panera \nEntrada libre \n\nSinopsis \nGira en torno a la familia más alocada de España\, donde Javier (Santiago Segura) y Marisa (Toni Acosta) regresan con nuevos enredos. En esta entrega\, el día que su hija mayor cumple 18 años\, su novio le propone matrimonio\, lo que desencadena una serie de peripecias y situaciones cómicas. La película promete risas y momentos entrañables en medio de la locura familiar. \n  \n\n  \n  \n 
URL:https://www.mieres.es/evento/un-verano-de-peli-padre-no-hay-mas-que-uno-4-campanas-de-boda/
LOCATION:Lloreo\, Asturias
CATEGORIES:Cine
ATTACH;FMTTYPE=image/jpeg:https://www.mieres.es/wp-content/uploads/2025/08/Cartel-Cine-verano-mieres-2025.jpg
GEO:43.3613953;-5.8593267
END:VEVENT
END:VCALENDAR