BEGIN:VCALENDAR
VERSION:2.0
PRODID:-//Ayuntamiento de Mieres - ECPv5.16.1.1//NONSGML v1.0//EN
CALSCALE:GREGORIAN
METHOD:PUBLISH
X-WR-CALNAME:Ayuntamiento de Mieres
X-ORIGINAL-URL:https://www.mieres.es
X-WR-CALDESC:Eventos para Ayuntamiento de Mieres
BEGIN:VTIMEZONE
TZID:Europe/Madrid
BEGIN:DAYLIGHT
TZOFFSETFROM:+0100
TZOFFSETTO:+0200
TZNAME:CEST
DTSTART:20250330T010000
END:DAYLIGHT
BEGIN:STANDARD
TZOFFSETFROM:+0200
TZOFFSETTO:+0100
TZNAME:CET
DTSTART:20251026T010000
END:STANDARD
END:VTIMEZONE
BEGIN:VEVENT
DTSTART;VALUE=DATE:20250909
DTEND;VALUE=DATE:20250910
DTSTAMP:20260421T115800
CREATED:20250827T113527Z
LAST-MODIFIED:20250827T113527Z
UID:75402-1757376000-1757462399@www.mieres.es
SUMMARY:XXXXIV Feria de Stock en Mieres (09/20 SET)
DESCRIPTION:XXXXIV Feria de Stock en Mieres\nUnión de Comerciantes del Caudal\n• Del 09 al 20 de septiembre en tu tienda\, en tu calle \n  \n\nXXXXIV Feria de Stock en Mieres \nLa Unión de Comerciantes del Caudal organiza la 44 edición de la Feria del Stock\, que tendrá lugar en el concejo del 09 al 20 de septiembre de 2025 y en la que los comerciantes\, tanto con stand fuera como en su propia tienda ofrecerán sus mercancías al mejor precio. \nLocales participantes: \n\nAndares\nComercial Tuñón\nCopistería Pepelinos\nDisco 55\nDkopa Moda\nFerretería Cristaloza\nFlorentina Martínez\nFreestyle\nGales Moda Caballero\nJaleo\nKiss mod\nLa Boutique de los Perfumes\nLa vieja Nana\nLeyva Moda\nLibrería La Pilarica\nLibrería La Pilarica II\nMadrigal Textil\nMiansi Moda\nMiansi Complementos\nModas Tatian\nTatta 8\nVallejo Interiorismo\nZapatería Lady E\n\n\n \n  \n 
URL:https://www.mieres.es/evento/xxxxiv-feria-de-stock-en-mieres-09-20-set/2025-09-09/
LOCATION:Establecimientos comerciales y hosteleros del concejo
CATEGORIES:Comercio y Hostelería,Feria
ATTACH;FMTTYPE=image/jpeg:https://www.mieres.es/wp-content/uploads/2025/08/CARTEL-STOCK-MIERES-2025.jpg
END:VEVENT
BEGIN:VEVENT
DTSTART;TZID=Europe/Madrid:20250909T080000
DTEND;TZID=Europe/Madrid:20250909T170000
DTSTAMP:20260421T115800
CREATED:20250807T114846Z
LAST-MODIFIED:20250807T114846Z
UID:75224-1757404800-1757437200@www.mieres.es
SUMMARY:Curso de coeducación para el diseño de actividades de ocio y tiempo libre
DESCRIPTION:Curso gratuito \nCurso de coeducación para el diseño de actividades de ocio y tiempo libre\nImpartido por Chusa Méndez\, coeducadora y formadora de grupos \n  \nDel 9 al 18 de septiembre de 2025\, de 16:00 a 20:00h. \nCasa de las mujeres. C/ Jerónimo Ibrán\, 8 \nInscripciones gratuitas a través del tfno. 985466262 (a partir del lunes 11 de agosto\, de 9 a 14h.) \n\n  \nFECHAS:\nDel 9 de septiembre al 18 de septiembre.\nMODALIDAD:\n30h presenciales.\nDÍAS/SESIONES:\n7 sesiones de 4h y 1 sesión de 3h.\nHORARIO DE IMPARTICIÓN:\n7 sesiones con horario de 16:00 a 20:00.\n1 sesión con horario de 16:00 a 19:00.\nPERSONAS USUARIAS A QUIENES VA DIRIGIDO EL CURSO:\nMonitoras/es de Ocio y Tiempo Libre. \nOBJETIVOS: \n\nAdquirir estrategias coeducativas para la prevención de violencias machistas en el ámbito de la educación no formal.\nConocer la pedagogía coeducativa.\nAplicar la pedagogía coeducativa en el ocio y tiempo libre infantil y juvenil.\nIdentificar conductas que promueven y perpetúan actitudes o situaciones donde se normalice la violencia contra las niñas\, chicas o mujeres.\nConcienciar sobre la importancia de hacer cualquier espacio posible\, un espacio seguro para la infancia y la juventud\, un espacio que no discrimine por razón de género.\nDotar al alumnado de conocimientos con rigor y perspectiva\, objetividad y cuidados a la hora de realización de cualquier actividad en el ámbito del ocio y el tiempo libre.
URL:https://www.mieres.es/evento/curso-de-coeducacion-para-el-diseno-de-actividades-de-ocio-y-tiempo-libre/2025-09-09/
LOCATION:Casa de las Mujeres\, C/ Jerónimo Ibrán 19\, Mieres\, Asturias\, 33600\, España
CATEGORIES:Igualdad
ATTACH;FMTTYPE=image/png:https://www.mieres.es/wp-content/uploads/2025/08/curso-Feminismo-Collage-Moderno-2025.png
GEO:43.2512334;-5.7731606
X-APPLE-STRUCTURED-LOCATION;VALUE=URI;X-ADDRESS=Casa de las Mujeres C/ Jerónimo Ibrán 19 Mieres Asturias 33600 España;X-APPLE-RADIUS=500;X-TITLE=C/ Jerónimo Ibrán 19:geo:-5.7731606,43.2512334
END:VEVENT
BEGIN:VEVENT
DTSTART;TZID=Europe/Madrid:20250909T120000
DTEND;TZID=Europe/Madrid:20250909T120000
DTSTAMP:20260421T115800
CREATED:20250910T120712Z
LAST-MODIFIED:20250910T120712Z
UID:75513-1757419200-1757419200@www.mieres.es
SUMMARY:Exposición pictórica:  "600 años: Una historia compartida"\, de Fundación Secretariado Gitano (9/26SET)
DESCRIPTION:Exposición de ilustraciones: \n600 años: Una historia compartida\nPueblo Gitano 1425-2025\nde Fundación Secretariado Gitano\nSala de exposiciones de la Casa de Cultura Teodoro Cuesta\,\ndel 9 al 26 de septiembre de 2025 \nHorario: de 12.00 a 14.00 y de 17:00 a 21:00\, de lunes a viernes \nEntrada libre \n\nEXPOSICIÓN 600 AÑOS: UNA HISTORIA COMPARTIDA  \nCon motivo de la celebración de los 600 años de la llegada del Pueblo Gitano a la Península y la declaración del año 2025 como Año del Pueblo Gitano\, se quiere mostrar esta exposición como conmemoración y muestra no solo de los acontecimientos históricos más relevantes sino también aquellos elementos culturales característicos del pueblo gitano.   \nDe esta manera no solo se da a conocer aspectos propios sino muchas de las aportaciones culturales que la comunidad gitana ha aportado a la construcción de la historia y cultura española general.  
URL:https://www.mieres.es/evento/exposicion-pictorica-600-anos-una-historia-compartida-de-fundacion-secretariado-gitano-9-26set/
LOCATION:Casa de Cultura Teodoro Cuesta\, Calle Manuel Llaneza\, 8\, Mieres\, Asturias\, 33600\, España
CATEGORIES:Exposiciones
ATTACH;FMTTYPE=image/jpeg:https://www.mieres.es/wp-content/uploads/2025/09/CARTEL-expo-ilustraciones-mieres-2025.jpg
GEO:43.2502294;-5.7729571
X-APPLE-STRUCTURED-LOCATION;VALUE=URI;X-ADDRESS=Casa de Cultura Teodoro Cuesta Calle Manuel Llaneza 8 Mieres Asturias 33600 España;X-APPLE-RADIUS=500;X-TITLE=Calle Manuel Llaneza\, 8:geo:-5.7729571,43.2502294
END:VEVENT
BEGIN:VEVENT
DTSTART;TZID=Europe/Madrid:20250909T130000
DTEND;TZID=Europe/Madrid:20250909T140000
DTSTAMP:20260421T115800
CREATED:20250620T114851Z
LAST-MODIFIED:20250620T115016Z
UID:74822-1757422800-1757426400@www.mieres.es
SUMMARY:¡No te quedes en casa! Espacios de salida temprana en colegios (9/30SEP)
DESCRIPTION:  \n¡No te quedes en casa! \nEspacios de salida temprana en colegios\nDel 9 al 30 de septiembre de 2025\nde lunes a viernes\, de 13 a 14h. \nEn todos los colegios del concejo \n\n  \nPrograma dirigido al alumnado de Infantil y Primaria para ofrecer las mejores actividades y acompañamiento\, mientras fortalecen la sana convivencia\, durante la reducción de la jornada escolar\, facilitando la conciliación familiar. \nFORMULARIO DE INSCRIPCIÓN\n  \nCargando…
URL:https://www.mieres.es/evento/no-te-quedes-en-casa-espacios-de-salida-temprana-en-colegios-9-30sep/
LOCATION:Varias ubicaciones
CATEGORIES:Juventud e Infancia
ATTACH;FMTTYPE=image/jpeg:https://www.mieres.es/wp-content/uploads/2025/06/cartel-web-2025-¡no-te-quedes-en-casa.jpg
ORGANIZER;CN="Concejal%C3%ADa%20de%20Infancia%20y%20Juventud":MAILTO:oij@ayto-mieres.es
END:VEVENT
BEGIN:VEVENT
DTSTART;TZID=Europe/Madrid:20250909T170000
DTEND;TZID=Europe/Madrid:20250909T190000
DTSTAMP:20260421T115800
CREATED:20250827T085710Z
LAST-MODIFIED:20250827T090320Z
UID:75365-1757437200-1757444400@www.mieres.es
SUMMARY:"MARCHANDO" Juegos Infantiles en Figareo
DESCRIPTION:MARCHANDO\nJuegos Infantiles\nen Figareo\nTodos los martes\, del 1 al 26 de septiembre\, de 17 a 19:00h.\nParque Tartiere (en caso de lluvia se trasladaría al Colegio Público Las Vegas) \nPara chicos y chicas entre 5 y 16 años\nNo es necesaria inscripción \n\n  \nEl Ayuntamiento de Mieres\, través de la Concejalía de Igualdad\, Feminismo\, Juventud e Infancia pone en marcha un nuevo programa dentro del marco del Plan Corresponsables\, destinado a peques y adolescentes entre 5 y 16 años\, con un sinfín de actividades que seguro disfrutarán\, siendo el objetivo propuesto  fomentar el deporte\, la actividad física y unos hábitos saludables a través del ocio.\n\nEl programa está financiado por el Plan Corresponsables\, a través de fondos del Ministerio de Igualdad – Secretaría de Estado de Igualdad y contra la Violencia de Género\, dicho plan se ejecuta por el Gobierno del Principado de Asturias a través de su Dirección General de Igualdad con la colaboración de los ayuntamientos asturianos\, entre ellos el de Mieres.\n\nEl horario previsto es de 17 a 19 horas\, celebrándose en los siguientes días y lugares :\n\nLunes: en Turón\, en el Parque\, y si llueve en el Polideportivo.\nMartes: en Figaredo\, Parque Tartiere.\nMiércoles: Rioturbio\, en la Cancha.\nJueves: Mieres: Parque Jovellanos\, y si llueve Colegio Santiago Apóstol.\nViernes: Santullano\, en la Cancha.\n\n\nEs una actividad gratuita y sin previa inscripción\, por lo que esperamos que resulte de interés para las familias\, contribuyendo al mismo tiempo a la conciliación y recuperar ese espacio de la calle donde la convivencia de la infancia y la adolescencia crea lazos a través del juego colaborativo.\n\nNos vemos¡¡
URL:https://www.mieres.es/evento/marchando-juegos-infantiles-en-figareo/2025-09-09/
LOCATION:Parque Tartiere\, Figareo\, Asturias
CATEGORIES:Juventud e Infancia
ATTACH;FMTTYPE=image/jpeg:https://www.mieres.es/wp-content/uploads/2025/08/cartel-Marchando-Mieres.jpg
ORGANIZER;CN="Concejal%C3%ADa%20de%20Infancia%20y%20Juventud":MAILTO:oij@ayto-mieres.es
END:VEVENT
END:VCALENDAR