BEGIN:VCALENDAR
VERSION:2.0
PRODID:-//Ayuntamiento de Mieres - ECPv5.16.1.1//NONSGML v1.0//EN
CALSCALE:GREGORIAN
METHOD:PUBLISH
X-WR-CALNAME:Ayuntamiento de Mieres
X-ORIGINAL-URL:https://www.mieres.es
X-WR-CALDESC:Eventos para Ayuntamiento de Mieres
BEGIN:VTIMEZONE
TZID:Europe/Madrid
BEGIN:DAYLIGHT
TZOFFSETFROM:+0100
TZOFFSETTO:+0200
TZNAME:CEST
DTSTART:20250330T010000
END:DAYLIGHT
BEGIN:STANDARD
TZOFFSETFROM:+0200
TZOFFSETTO:+0100
TZNAME:CET
DTSTART:20251026T010000
END:STANDARD
END:VTIMEZONE
BEGIN:VEVENT
DTSTART;VALUE=DATE:20250910
DTEND;VALUE=DATE:20250911
DTSTAMP:20260421T115659
CREATED:20250827T113527Z
LAST-MODIFIED:20250827T113527Z
UID:75406-1757462400-1757548799@www.mieres.es
SUMMARY:XXXXIV Feria de Stock en Mieres (09/20 SET)
DESCRIPTION:XXXXIV Feria de Stock en Mieres\nUnión de Comerciantes del Caudal\n• Del 09 al 20 de septiembre en tu tienda\, en tu calle \n  \n\nXXXXIV Feria de Stock en Mieres \nLa Unión de Comerciantes del Caudal organiza la 44 edición de la Feria del Stock\, que tendrá lugar en el concejo del 09 al 20 de septiembre de 2025 y en la que los comerciantes\, tanto con stand fuera como en su propia tienda ofrecerán sus mercancías al mejor precio. \nLocales participantes: \n\nAndares\nComercial Tuñón\nCopistería Pepelinos\nDisco 55\nDkopa Moda\nFerretería Cristaloza\nFlorentina Martínez\nFreestyle\nGales Moda Caballero\nJaleo\nKiss mod\nLa Boutique de los Perfumes\nLa vieja Nana\nLeyva Moda\nLibrería La Pilarica\nLibrería La Pilarica II\nMadrigal Textil\nMiansi Moda\nMiansi Complementos\nModas Tatian\nTatta 8\nVallejo Interiorismo\nZapatería Lady E\n\n\n \n  \n 
URL:https://www.mieres.es/evento/xxxxiv-feria-de-stock-en-mieres-09-20-set/2025-09-10/
LOCATION:Establecimientos comerciales y hosteleros del concejo
CATEGORIES:Comercio y Hostelería,Feria
ATTACH;FMTTYPE=image/jpeg:https://www.mieres.es/wp-content/uploads/2025/08/CARTEL-STOCK-MIERES-2025.jpg
END:VEVENT
BEGIN:VEVENT
DTSTART;VALUE=DATE:20250910
DTEND;VALUE=DATE:20250911
DTSTAMP:20260421T115659
CREATED:20250903T104243Z
LAST-MODIFIED:20250903T111708Z
UID:75427-1757462400-1757548799@www.mieres.es
SUMMARY:Fiestas del Cristo de la Paz. Turón 2025. (10/15SET)
DESCRIPTION:Fiestas del Cristo de la Paz\nTurón 2025\n(10 al 15 de septiembre)\n\nPrograma\n\nMiércoles 10 de Septiembre \n18:00h III Trofeo Natación “Mejoras del Valle” Memorial Arsenio Suarez.\nHomenaje Guillermo Fernández Martínez “Mito Galán”\nPiscinas Mejoras del Valle \n19:00h Semifinal 4° Edición Concurso Gastronómi­co TuronChef. (Toda la información completa y las bases del concurso en las rr.ss. de SOTUFE)\nLugar Salón de la Salle \n  \n  \n  \n  \n  \n  \n  \n  \n  \n  \n  \n\n \n 
URL:https://www.mieres.es/evento/fiestas-del-cristo-de-la-paz-turon/
LOCATION:Parque de Turón\, Calle Centro\, 9\, 33610 Mieres\, Asturias\, Turón\, Asturias\, 33610 
CATEGORIES:Festejos
ATTACH;FMTTYPE=image/jpeg:https://www.mieres.es/wp-content/uploads/2025/09/cartel-cristo-turon-fiestas-2025.jpg
END:VEVENT
BEGIN:VEVENT
DTSTART;TZID=Europe/Madrid:20250910T080000
DTEND;TZID=Europe/Madrid:20250910T170000
DTSTAMP:20260421T115659
CREATED:20250807T112055Z
LAST-MODIFIED:20250807T112055Z
UID:75215-1757491200-1757523600@www.mieres.es
SUMMARY:Falamos. Cursu semipresencial gratuitu d'Asturianu Edición 2025
DESCRIPTION: \nCursu semipresencial gratuitu d’Asturianu\nFALAMOS\nNivel Intermediu\n42 hores: 20h presenciales y 22h en llínia\nClases presenciales en 8 xornaes\, los miércoles de 16:00 a 18:30h.\nna Casa de Cultura Teodoro Cuesta de Mieres \nEntamu: 10 de setiembre \nInscripciones gratuites (n’orde d’inscripción) y más información na web: www.falamos.info \n  \n\n\n  \nUn añu más\, l´Ayuntamientu de Mieres pondrá clases d´asturianu al traviés del programa FALAMOS en collaboración col Principáu d´Asturies\, qu’ufierta cursos semipresenciales gratuitos d’asturianu pa la población adulto nel cuartu trimestre de 2025. \nNesta convocatoria el nivel sedrá l´intermediu. \nEl cursu ye de 42 hores: 20h presenciales y 22h en llínia. Les clases presenciales fairánse en 8 xornaes de dos hores y media cada una\, en Mieres\, el Cursu daráse nel Aula Grande de la Casa de Cultura “Teodoro Cuesta”. \nLes clases entamarán el día 10 de setiembre\, na Casa de Cultura\, los miércoles\, con horariu de 16:00 a 18:30h.\, del 10/09/2025 al 29/10/2025. \nEsti proyectu ye una colaboración ente la FACC y la Dirección Xeneral de Política Llingüística del Principáu d’Asturies\, enxunto con la Conceyalía de Normalización Llingüística del Ayuntamiento de Mieres. \n\n\nPROGRAMA \nMódulo 1: Asturies\, destín turísticu. L’artículu\, L’apostrofación. Les contracciones. La negación.\nMódulo 2: Mercando y fartucando. Sustantivu y axetivu. Xéneru y númberu. Sustantivos cuntables y non cuntables. El Grau superlativu del axetivu.\nMódulo 3: Espaciu Natural. Pronomes personales. La reflexividá.\nMódulo 4: Músiques y lletres. Indefiníos\, demostrativos y numberales.\nMódulo 5: Polideportivu. Posesivos. Preposiciones.\nMódulo 6: De folixa. El verbu.\nMódulo 7: Medios y redes. Alverbiu y locuciones alverbiales.\nMódulo 8: Llingua y empresa. La oración subordinada: conxunciones y locuciones.
URL:https://www.mieres.es/evento/falamos-cursu-semipresencial-gratuitu-dasturianu-edicion-2025/2025-09-10/
LOCATION:Casa de Cultura Teodoro Cuesta\, Calle Manuel Llaneza\, 8\, Mieres\, Asturias\, 33600\, España
CATEGORIES:Llingua
ATTACH;FMTTYPE=image/jpeg:https://www.mieres.es/wp-content/uploads/2025/08/MIERES_ASTURIANO-INTERMEDIO-2025-falamos.jpg
GEO:43.2502294;-5.7729571
X-APPLE-STRUCTURED-LOCATION;VALUE=URI;X-ADDRESS=Casa de Cultura Teodoro Cuesta Calle Manuel Llaneza 8 Mieres Asturias 33600 España;X-APPLE-RADIUS=500;X-TITLE=Calle Manuel Llaneza\, 8:geo:-5.7729571,43.2502294
END:VEVENT
BEGIN:VEVENT
DTSTART;TZID=Europe/Madrid:20250910T160000
DTEND;TZID=Europe/Madrid:20250910T170000
DTSTAMP:20260421T115659
CREATED:20260115T130146Z
LAST-MODIFIED:20260115T130146Z
UID:77261-1757520000-1757523600@www.mieres.es
SUMMARY:Talleres de capacitación familiar
DESCRIPTION:Promoción de la salud \nTalleres de capacitación familiar\nImpartido por Fundación Siloé \nCasa de las Mujeres\, de 16 a 17:00 h\nLos jueves 15\, 22 y 29 de enero\, 5 y 12 de febrero \nInscripciones gratuitas online\, a través del formulario ofrecido en esta misma página \n\n\n\n\nEstos talleres se enmarcan dentro de la promoción de la salud\, trabajando a nivel de capacitación familiar sobre:\n\nEtapas evolutivas del desarrollo.\nLa crianza y estilos educativos.\nRegulación emocional y vínculo.\nHabilidades comunicativas.\nFormas de aprendizaje\, normas y límites.
URL:https://www.mieres.es/evento/talleres-de-capacitacion-familiar/2025-09-10/
LOCATION:Casa de las Mujeres\, C/ Jerónimo Ibrán 19\, Mieres\, Asturias\, 33600\, España
CATEGORIES:Salud,Taller
ATTACH;FMTTYPE=image/jpeg:https://www.mieres.es/wp-content/uploads/2026/01/Talleres-Capacitacion-Familiar-2026.jpg
GEO:43.2512334;-5.7731606
X-APPLE-STRUCTURED-LOCATION;VALUE=URI;X-ADDRESS=Casa de las Mujeres C/ Jerónimo Ibrán 19 Mieres Asturias 33600 España;X-APPLE-RADIUS=500;X-TITLE=C/ Jerónimo Ibrán 19:geo:-5.7731606,43.2512334
END:VEVENT
BEGIN:VEVENT
DTSTART;TZID=Europe/Madrid:20250910T163000
DTEND;TZID=Europe/Madrid:20250910T193000
DTSTAMP:20260421T115659
CREATED:20250818T103501Z
LAST-MODIFIED:20250818T103658Z
UID:75247-1757521800-1757532600@www.mieres.es
SUMMARY:Taller y Show de Facepainting\, con Heidy Romo
DESCRIPTION:Taller para adolescentes (entre 12 y 16 años) \nTaller y Show de Facepainting\n📅 Fechas: 10 y 12 de septiembre\n👩🏻‍🎨 Horario del Taller 16:30 a 19:30\n📞 Teléfono: 985 466 262\n⏰ Horario de inscripción: 9:00 a 14:00\n📍 Lugar: Centro Cultural Mieres\, Asturias \n👩‍🎨 Artista: Heidy Romo – Maquilladora y Bodypainter profesional \n\n  \n🎨✨ ¡Vuelve el Taller de Facepainting para adolescentes en Mieres! \nSi te apasiona el arte y el maquillaje creativo\, esta es tu oportunidad para aprender técnicas profesionales y dar rienda suelta a tu imaginación 💙 \nLa temática será Halloween (Samain)\, con técnicas diferentes. \n  \n\n 
URL:https://www.mieres.es/evento/taller-y-show-de-facepainting-con-heidy-romo/
LOCATION:Mieres Centru Cultural\, Calle Jerónimo Ibrán\, 10\, Mieres\, Asturias\, 33600
CATEGORIES:Juventud e Infancia
ATTACH;FMTTYPE=image/jpeg:https://www.mieres.es/wp-content/uploads/2025/08/taller-facepainting-mieres-2025.jpg
ORGANIZER;CN="Concejal%C3%ADa%20de%20Infancia%20y%20Juventud":MAILTO:oij@ayto-mieres.es
END:VEVENT
BEGIN:VEVENT
DTSTART;TZID=Europe/Madrid:20250910T170000
DTEND;TZID=Europe/Madrid:20250910T190000
DTSTAMP:20260421T115659
CREATED:20250827T090232Z
LAST-MODIFIED:20250827T090232Z
UID:75393-1757523600-1757530800@www.mieres.es
SUMMARY:"MARCHANDO" Juegos Infantiles en Returbiu
DESCRIPTION:MARCHANDO\nJuegos Infantiles\nen Returbiu\nTodos los miércoles\, del 1 al 26 de septiembre\, de 17 a 19:00h.\nCancha Polideportiva- (en caso de lluvia se trasladaría al Colegio Público) \nPara chicos y chicas entre 5 y 16 años\nNo es necesaria inscripción \n\n  \nEl Ayuntamiento de Mieres\, través de la Concejalía de Igualdad\, Feminismo\, Juventud e Infancia pone en marcha un nuevo programa dentro del marco del Plan Corresponsables\, destinado a peques y adolescentes entre 5 y 16 años\, con un sinfín de actividades que seguro disfrutarán\, siendo el objetivo propuesto  fomentar el deporte\, la actividad física y unos hábitos saludables a través del ocio.\n\nEl programa está financiado por el Plan Corresponsables\, a través de fondos del Ministerio de Igualdad – Secretaría de Estado de Igualdad y contra la Violencia de Género\, dicho plan se ejecuta por el Gobierno del Principado de Asturias a través de su Dirección General de Igualdad con la colaboración de los ayuntamientos asturianos\, entre ellos el de Mieres.\n\nEl horario previsto es de 17 a 19 horas\, celebrándose en los siguientes días y lugares :\n\nLunes: en Turón\, en el Parque\, y si llueve en el Polideportivo.\nMartes: en Figaredo\, Parque Tartiere.\nMiércoles: Rioturbio\, en la Cancha.\nJueves: Mieres: Parque Jovellanos\, y si llueve Colegio Santiago Apóstol.\nViernes: Santullano\, en la Cancha.\n\n\nEs una actividad gratuita y sin previa inscripción\, por lo que esperamos que resulte de interés para las familias\, contribuyendo al mismo tiempo a la conciliación y recuperar ese espacio de la calle donde la convivencia de la infancia y la adolescencia crea lazos a través del juego colaborativo.\n\nNos vemos¡¡
URL:https://www.mieres.es/evento/marchando-juegos-infantiles-en-returbiu/2025-09-10/
LOCATION:Polideportivo de Returbiu\, Rioturbio\, 33614
CATEGORIES:Juventud e Infancia
ATTACH;FMTTYPE=image/jpeg:https://www.mieres.es/wp-content/uploads/2025/08/cartel-Marchando-Mieres.jpg
ORGANIZER;CN="Concejal%C3%ADa%20de%20Infancia%20y%20Juventud":MAILTO:oij@ayto-mieres.es
GEO:43.2653376;-5.7388431
END:VEVENT
END:VCALENDAR