BEGIN:VCALENDAR
VERSION:2.0
PRODID:-//Ayuntamiento de Mieres - ECPv5.16.1.1//NONSGML v1.0//EN
CALSCALE:GREGORIAN
METHOD:PUBLISH
X-WR-CALNAME:Ayuntamiento de Mieres
X-ORIGINAL-URL:https://www.mieres.es
X-WR-CALDESC:Eventos para Ayuntamiento de Mieres
BEGIN:VTIMEZONE
TZID:Europe/Madrid
BEGIN:DAYLIGHT
TZOFFSETFROM:+0100
TZOFFSETTO:+0200
TZNAME:CEST
DTSTART:20250330T010000
END:DAYLIGHT
BEGIN:STANDARD
TZOFFSETFROM:+0200
TZOFFSETTO:+0100
TZNAME:CET
DTSTART:20251026T010000
END:STANDARD
END:VTIMEZONE
BEGIN:VEVENT
DTSTART;VALUE=DATE:20250911
DTEND;VALUE=DATE:20250912
DTSTAMP:20260421T051747
CREATED:20250827T113527Z
LAST-MODIFIED:20250827T113527Z
UID:75407-1757548800-1757635199@www.mieres.es
SUMMARY:XXXXIV Feria de Stock en Mieres (09/20 SET)
DESCRIPTION:XXXXIV Feria de Stock en Mieres\nUnión de Comerciantes del Caudal\n• Del 09 al 20 de septiembre en tu tienda\, en tu calle \n  \n\nXXXXIV Feria de Stock en Mieres \nLa Unión de Comerciantes del Caudal organiza la 44 edición de la Feria del Stock\, que tendrá lugar en el concejo del 09 al 20 de septiembre de 2025 y en la que los comerciantes\, tanto con stand fuera como en su propia tienda ofrecerán sus mercancías al mejor precio. \nLocales participantes: \n\nAndares\nComercial Tuñón\nCopistería Pepelinos\nDisco 55\nDkopa Moda\nFerretería Cristaloza\nFlorentina Martínez\nFreestyle\nGales Moda Caballero\nJaleo\nKiss mod\nLa Boutique de los Perfumes\nLa vieja Nana\nLeyva Moda\nLibrería La Pilarica\nLibrería La Pilarica II\nMadrigal Textil\nMiansi Moda\nMiansi Complementos\nModas Tatian\nTatta 8\nVallejo Interiorismo\nZapatería Lady E\n\n\n \n  \n 
URL:https://www.mieres.es/evento/xxxxiv-feria-de-stock-en-mieres-09-20-set/2025-09-11/
LOCATION:Establecimientos comerciales y hosteleros del concejo
CATEGORIES:Comercio y Hostelería,Feria
ATTACH;FMTTYPE=image/jpeg:https://www.mieres.es/wp-content/uploads/2025/08/CARTEL-STOCK-MIERES-2025.jpg
END:VEVENT
BEGIN:VEVENT
DTSTART;VALUE=DATE:20250911
DTEND;VALUE=DATE:20250912
DTSTAMP:20260421T051747
CREATED:20250903T112241Z
LAST-MODIFIED:20250903T112241Z
UID:75434-1757548800-1757635199@www.mieres.es
SUMMARY:Fiestas del Cristo de la Paz. Turón 2025 (10/15SET)
DESCRIPTION:Fiestas del Cristo de la Paz\nTurón 2025\n(10 al 15 de septiembre)\n\nPrograma\n\nJueves 11 de Septiembre \n17:00h III Torneo Futbol Benjamines\nCampo de Fútbol La Bárcena \n20:00h Pregón del Cristo y Chupinazo .\n-Presenta: Rosalía González\n-Pregonero: Imanol Nuñéz (Turonés\, Profesor y Músico)\n-Coronación de la Reina y Damas de las fiestas\n-Entrega Turonés del Año\nSalón de la Salle \n21:30h Música en la calle “Más Que Dos”\nBarrio San Martín \n  \n  \n  \n  \n  \n  \n  \n  \n  \n  \n  \n\n \n 
URL:https://www.mieres.es/evento/fiestas-del-cristo-de-la-paz-turon-2025-10-15set/
LOCATION:Parque de Turón\, Calle Centro\, 9\, 33610 Mieres\, Asturias\, Turón\, Asturias\, 33610 
CATEGORIES:Festejos
ATTACH;FMTTYPE=image/jpeg:https://www.mieres.es/wp-content/uploads/2025/09/cartel-cristo-turon-fiestas-2025.jpg
END:VEVENT
BEGIN:VEVENT
DTSTART;TZID=Europe/Madrid:20250911T170000
DTEND;TZID=Europe/Madrid:20250911T190000
DTSTAMP:20260421T051747
CREATED:20250827T090608Z
LAST-MODIFIED:20250827T090608Z
UID:75387-1757610000-1757617200@www.mieres.es
SUMMARY:"MARCHANDO" Juegos Infantiles en el Parque Xovellanos
DESCRIPTION:MARCHANDO\nJuegos Infantiles\nen Mieres\nTodos los jueves\, del 1 al 26 de septiembre\, de 17 a 19:00h.\nParque Xovellanos (en caso de lluvia se trasladaría al Colegio Público Santiago Apóstol) \nPara chicos y chicas entre 5 y 16 años\nNo es necesaria inscripción \n\n  \nEl Ayuntamiento de Mieres\, través de la Concejalía de Igualdad\, Feminismo\, Juventud e Infancia pone en marcha un nuevo programa dentro del marco del Plan Corresponsables\, destinado a peques y adolescentes entre 5 y 16 años\, con un sinfín de actividades que seguro disfrutarán\, siendo el objetivo propuesto  fomentar el deporte\, la actividad física y unos hábitos saludables a través del ocio.\n\nEl programa está financiado por el Plan Corresponsables\, a través de fondos del Ministerio de Igualdad – Secretaría de Estado de Igualdad y contra la Violencia de Género\, dicho plan se ejecuta por el Gobierno del Principado de Asturias a través de su Dirección General de Igualdad con la colaboración de los ayuntamientos asturianos\, entre ellos el de Mieres.\n\nEl horario previsto es de 17 a 19 horas\, celebrándose en los siguientes días y lugares :\n\nLunes: en Turón\, en el Parque\, y si llueve en el Polideportivo.\nMartes: en Figaredo\, Parque Tartiere.\nMiércoles: Rioturbio\, en la Cancha.\nJueves: Mieres: Parque Jovellanos\, y si llueve Colegio Santiago Apóstol.\nViernes: Santullano\, en la Cancha.\n\n\nEs una actividad gratuita y sin previa inscripción\, por lo que esperamos que resulte de interés para las familias\, contribuyendo al mismo tiempo a la conciliación y recuperar ese espacio de la calle donde la convivencia de la infancia y la adolescencia crea lazos a través del juego colaborativo.\n\nNos vemos¡¡
URL:https://www.mieres.es/evento/marchando-juegos-infantiles-en-el-parque-xovellanos/2025-09-11/
LOCATION:Polideportivo de Returbiu\, Rioturbio\, 33614
CATEGORIES:Juventud e Infancia
ATTACH;FMTTYPE=image/jpeg:https://www.mieres.es/wp-content/uploads/2025/08/cartel-Marchando-Mieres.jpg
ORGANIZER;CN="Concejal%C3%ADa%20de%20Infancia%20y%20Juventud":MAILTO:oij@ayto-mieres.es
GEO:43.2653376;-5.7388431
END:VEVENT
END:VCALENDAR