BEGIN:VCALENDAR
VERSION:2.0
PRODID:-//Ayuntamiento de Mieres - ECPv5.16.1.1//NONSGML v1.0//EN
CALSCALE:GREGORIAN
METHOD:PUBLISH
X-WR-CALNAME:Ayuntamiento de Mieres
X-ORIGINAL-URL:https://www.mieres.es
X-WR-CALDESC:Eventos para Ayuntamiento de Mieres
BEGIN:VTIMEZONE
TZID:Europe/Madrid
BEGIN:DAYLIGHT
TZOFFSETFROM:+0100
TZOFFSETTO:+0200
TZNAME:CEST
DTSTART:20250330T010000
END:DAYLIGHT
BEGIN:STANDARD
TZOFFSETFROM:+0200
TZOFFSETTO:+0100
TZNAME:CET
DTSTART:20251026T010000
END:STANDARD
END:VTIMEZONE
BEGIN:VEVENT
DTSTART;VALUE=DATE:20250912
DTEND;VALUE=DATE:20250913
DTSTAMP:20260421T051747
CREATED:20250827T113527Z
LAST-MODIFIED:20250827T113527Z
UID:75408-1757635200-1757721599@www.mieres.es
SUMMARY:XXXXIV Feria de Stock en Mieres (09/20 SET)
DESCRIPTION:XXXXIV Feria de Stock en Mieres\nUnión de Comerciantes del Caudal\n• Del 09 al 20 de septiembre en tu tienda\, en tu calle \n  \n\nXXXXIV Feria de Stock en Mieres \nLa Unión de Comerciantes del Caudal organiza la 44 edición de la Feria del Stock\, que tendrá lugar en el concejo del 09 al 20 de septiembre de 2025 y en la que los comerciantes\, tanto con stand fuera como en su propia tienda ofrecerán sus mercancías al mejor precio. \nLocales participantes: \n\nAndares\nComercial Tuñón\nCopistería Pepelinos\nDisco 55\nDkopa Moda\nFerretería Cristaloza\nFlorentina Martínez\nFreestyle\nGales Moda Caballero\nJaleo\nKiss mod\nLa Boutique de los Perfumes\nLa vieja Nana\nLeyva Moda\nLibrería La Pilarica\nLibrería La Pilarica II\nMadrigal Textil\nMiansi Moda\nMiansi Complementos\nModas Tatian\nTatta 8\nVallejo Interiorismo\nZapatería Lady E\n\n\n \n  \n 
URL:https://www.mieres.es/evento/xxxxiv-feria-de-stock-en-mieres-09-20-set/2025-09-12/
LOCATION:Establecimientos comerciales y hosteleros del concejo
CATEGORIES:Comercio y Hostelería,Feria
ATTACH;FMTTYPE=image/jpeg:https://www.mieres.es/wp-content/uploads/2025/08/CARTEL-STOCK-MIERES-2025.jpg
END:VEVENT
BEGIN:VEVENT
DTSTART;VALUE=DATE:20250912
DTEND;VALUE=DATE:20250913
DTSTAMP:20260421T051747
CREATED:20250903T090322Z
LAST-MODIFIED:20250909T100103Z
UID:75418-1757635200-1757721599@www.mieres.es
SUMMARY:V Feria del Deporte. Mieres 2025
DESCRIPTION:V Feria del Deporte \n12\,13 y 14 de septiembre de 2025 \n  \n\nParque Xovellanos\nOrganiza: Asociación de Clubes Deportivos de Mieres \n\n\n \n \n 
URL:https://www.mieres.es/evento/v-feria-del-deporte-mieres-2025/
LOCATION:Parque Xovellanos\, Parque Xovellanos\, Mieres\, Asturias\, 33600 
CATEGORIES:Deportes
ATTACH;FMTTYPE=image/jpeg:https://www.mieres.es/wp-content/uploads/2025/09/Feria-del-deporte-2025-mieres.jpg
GEO:43.2517322;-5.7764018
X-APPLE-STRUCTURED-LOCATION;VALUE=URI;X-ADDRESS=Parque Xovellanos Parque Xovellanos Mieres Asturias 33600;X-APPLE-RADIUS=500;X-TITLE=Parque Xovellanos:geo:-5.7764018,43.2517322
END:VEVENT
BEGIN:VEVENT
DTSTART;VALUE=DATE:20250912
DTEND;VALUE=DATE:20250913
DTSTAMP:20260421T051747
CREATED:20250903T112701Z
LAST-MODIFIED:20250903T112701Z
UID:75436-1757635200-1757721599@www.mieres.es
SUMMARY:Fiestas del Cristo de la Paz. Turón 2025 (10/15SET)
DESCRIPTION:Fiestas del Cristo de la Paz\nTurón 2025\n(10 al 15 de septiembre)\n\nPrograma\n\nViernes 12 de Septiembre \n17:00h III Torneo Futbol Benjamines\nCampo de Fútbol La Bárcena \n17:00h DJ Animación y Coctelería Infantil\nEl Parque \n17:30h Holly Party y Fiesta de la Espuma\n(Patrocinada por Garaje Arsenio)\nEl Parque \n17:30h Final del Torneo de Bolos 52 Aniversario Gabriel Mier Suárez\nBolera del Parque \n19:00h Exhibición de Gimnasia Rítmica\nEl Parque \n20:00h Triangular Futbol Sala XIX Memorial “Luis Fenro”\nPolideportivo El Parque \n20:00h Música en la calle “Fuente de Duchamp”\nLa Veguina \n21:00h Música en la calle “Carlos y el chino”\nLa Felguera \n23:00h Actuación “DUO SENSACIÓN”y THE GOAT\n“DAN/ PARRONDO” \n  \n  \n\n \n 
URL:https://www.mieres.es/evento/fiestas-del-cristo-de-la-paz-turon-2025-10-15set-2/
LOCATION:Parque de Turón\, Calle Centro\, 9\, 33610 Mieres\, Asturias\, Turón\, Asturias\, 33610 
CATEGORIES:Festejos
ATTACH;FMTTYPE=image/jpeg:https://www.mieres.es/wp-content/uploads/2025/09/cartel-cristo-turon-fiestas-2025.jpg
END:VEVENT
BEGIN:VEVENT
DTSTART;TZID=Europe/Madrid:20250912T163000
DTEND;TZID=Europe/Madrid:20250912T193000
DTSTAMP:20260421T051747
CREATED:20250818T104320Z
LAST-MODIFIED:20250818T104320Z
UID:75251-1757694600-1757705400@www.mieres.es
SUMMARY:Taller y Show de Facepainting\, con Heidy Romo
DESCRIPTION:Taller para adolescentes (entre 12 y 16 años) \nTaller y Show de Facepainting\n📅 Fechas: 10 y 12 de septiembre\n👩🏻‍🎨 Horario del Taller 16:30 a 19:30\n📞 Teléfono: 985 466 262\n⏰ Horario de inscripción: 9:00 a 14:00\n📍 Lugar: Centro Cultural Mieres\, Asturias \n👩‍🎨 Artista: Heidy Romo – Maquilladora y Bodypainter profesional \n\n  \n🎨✨ ¡Vuelve el Taller de Facepainting para adolescentes en Mieres! \nSi te apasiona el arte y el maquillaje creativo\, esta es tu oportunidad para aprender técnicas profesionales y dar rienda suelta a tu imaginación 💙 \nLa temática será Halloween (Samain)\, con técnicas diferentes. \n  \n\n 
URL:https://www.mieres.es/evento/taller-y-show-de-facepainting-con-heidy-romo-2/
LOCATION:Mieres Centru Cultural\, Calle Jerónimo Ibrán\, 10\, Mieres\, Asturias\, 33600
CATEGORIES:Juventud e Infancia
ATTACH;FMTTYPE=image/jpeg:https://www.mieres.es/wp-content/uploads/2025/08/taller-facepainting-mieres-2025.jpg
ORGANIZER;CN="Concejal%C3%ADa%20de%20Infancia%20y%20Juventud":MAILTO:oij@ayto-mieres.es
END:VEVENT
BEGIN:VEVENT
DTSTART;TZID=Europe/Madrid:20250912T170000
DTEND;TZID=Europe/Madrid:20250912T190000
DTSTAMP:20260421T051747
CREATED:20250827T090824Z
LAST-MODIFIED:20250827T090824Z
UID:75390-1757696400-1757703600@www.mieres.es
SUMMARY:"MARCHANDO" Juegos Infantiles en Santuyano
DESCRIPTION:MARCHANDO\nJuegos Infantiles\nen Santuyano\nTodos los viernes\, del 1 al 26 de septiembre\, de 17 a 19:00h.\nCancha Polideportiva \nPara chicos y chicas entre 5 y 16 años\nNo es necesaria inscripción \n\n  \nEl Ayuntamiento de Mieres\, través de la Concejalía de Igualdad\, Feminismo\, Juventud e Infancia pone en marcha un nuevo programa dentro del marco del Plan Corresponsables\, destinado a peques y adolescentes entre 5 y 16 años\, con un sinfín de actividades que seguro disfrutarán\, siendo el objetivo propuesto  fomentar el deporte\, la actividad física y unos hábitos saludables a través del ocio.\n\nEl programa está financiado por el Plan Corresponsables\, a través de fondos del Ministerio de Igualdad – Secretaría de Estado de Igualdad y contra la Violencia de Género\, dicho plan se ejecuta por el Gobierno del Principado de Asturias a través de su Dirección General de Igualdad con la colaboración de los ayuntamientos asturianos\, entre ellos el de Mieres.\n\nEl horario previsto es de 17 a 19 horas\, celebrándose en los siguientes días y lugares :\n\nLunes: en Turón\, en el Parque\, y si llueve en el Polideportivo.\nMartes: en Figaredo\, Parque Tartiere.\nMiércoles: Rioturbio\, en la Cancha.\nJueves: Mieres: Parque Jovellanos\, y si llueve Colegio Santiago Apóstol.\nViernes: Santullano\, en la Cancha.\n\n\nEs una actividad gratuita y sin previa inscripción\, por lo que esperamos que resulte de interés para las familias\, contribuyendo al mismo tiempo a la conciliación y recuperar ese espacio de la calle donde la convivencia de la infancia y la adolescencia crea lazos a través del juego colaborativo.\n\nNos vemos¡¡
URL:https://www.mieres.es/evento/marchando-juegos-infantiles-en-santuyano/2025-09-12/
LOCATION:Cancha polideportiva de Santuyano\, Santuyano\, Asturias
CATEGORIES:Juventud e Infancia
ATTACH;FMTTYPE=image/jpeg:https://www.mieres.es/wp-content/uploads/2025/08/cartel-Marchando-Mieres.jpg
ORGANIZER;CN="Concejal%C3%ADa%20de%20Infancia%20y%20Juventud":MAILTO:oij@ayto-mieres.es
END:VEVENT
BEGIN:VEVENT
DTSTART;TZID=Europe/Madrid:20250912T193000
DTEND;TZID=Europe/Madrid:20250912T193000
DTSTAMP:20260421T051747
CREATED:20250910T120143Z
LAST-MODIFIED:20250910T120143Z
UID:75510-1757705400-1757705400@www.mieres.es
SUMMARY:Proyección de la película "Golpe a golpe"\, de Emilio Ruiz Barrachina
DESCRIPTION:Proyección de la película documental: \n\n“Golpe a golpe”\nde Emilio Ruiz Barrachina\n\nEn el marco de la exposición 600 AÑOS: UNA HISTORIA COMPARTIDA  \nViernes\, 12 de septiembre\, 19:30h. \n\nAuditoriu Teodoro Cuesta\nEntrada libre hasta completar aforo \n\n\n\n\n  \nGolpe a golpe\nAño: 2024\nDuración: 89 min.\nPaís: España España \nDirección: Emilio Ruiz Barrachina\nGuion: Emilio Ruiz Barrachina\nMúsica: Francisco Luque\, Javier Santos Ocampo\nFotografía: Benito Sierra \nDocumental | Boxeo \nReparto\nSara Montoya Vidal\, Miguelo García\, Rebecca Arrosse\, Graciela Mier\, Yolanda Pardo\, Ruby García Fernández \nSinopsis\nSara Montoya va cada día a buscar a su hermano menor al gimnasio. Un buen día decide entrar en el ring y probar a ponerse los guantes. Desde entonces tiene una vida dedicada al deporte\, un deporte eminentemente masculino\, en el que debe luchar\, además de con el rival\, con su familia\, con la sociedad y consigo misma. Mujer\, gitana y boxeadora\, son cualidades que la llenan de orgullo pero que no han facilitado su vida. \n  \nEn el marco de la EXPOSICIÓN 600 AÑOS: UNA HISTORIA COMPARTIDA  \nCon motivo de la celebración de los 600 años de la llegada del Pueblo Gitano a la Península y la declaración del año 2025 como Año del Pueblo Gitano\, se quiere mostrar esta exposición como conmemoración y muestra no solo de los acontecimientos históricos más relevantes sino también aquellos elementos culturales característicos del pueblo gitano.   \nDe esta manera no solo se da a conocer aspectos propios sino muchas de las aportaciones culturales que la comunidad gitana ha aportado a la construcción de la historia y cultura española general.  
URL:https://www.mieres.es/evento/proyeccion-de-la-pelicula-golpe-a-golpe-de-emilio-ruiz-barrachina/
LOCATION:Casa de Cultura Teodoro Cuesta\, Calle Manuel Llaneza\, 8\, Mieres\, Asturias\, 33600\, España
CATEGORIES:Cine
ATTACH;FMTTYPE=image/jpeg:https://www.mieres.es/wp-content/uploads/2025/09/CARTELpeli-golpe-golpe.jpg
GEO:43.2502294;-5.7729571
X-APPLE-STRUCTURED-LOCATION;VALUE=URI;X-ADDRESS=Casa de Cultura Teodoro Cuesta Calle Manuel Llaneza 8 Mieres Asturias 33600 España;X-APPLE-RADIUS=500;X-TITLE=Calle Manuel Llaneza\, 8:geo:-5.7729571,43.2502294
END:VEVENT
END:VCALENDAR