BEGIN:VCALENDAR
VERSION:2.0
PRODID:-//Ayuntamiento de Mieres - ECPv5.16.1.1//NONSGML v1.0//EN
CALSCALE:GREGORIAN
METHOD:PUBLISH
X-WR-CALNAME:Ayuntamiento de Mieres
X-ORIGINAL-URL:https://www.mieres.es
X-WR-CALDESC:Eventos para Ayuntamiento de Mieres
BEGIN:VTIMEZONE
TZID:Europe/Madrid
BEGIN:DAYLIGHT
TZOFFSETFROM:+0100
TZOFFSETTO:+0200
TZNAME:CEST
DTSTART:20250330T010000
END:DAYLIGHT
BEGIN:STANDARD
TZOFFSETFROM:+0200
TZOFFSETTO:+0100
TZNAME:CET
DTSTART:20251026T010000
END:STANDARD
END:VTIMEZONE
BEGIN:VEVENT
DTSTART;VALUE=DATE:20250915
DTEND;VALUE=DATE:20250916
DTSTAMP:20260421T051756
CREATED:20250827T113527Z
LAST-MODIFIED:20250827T113527Z
UID:75411-1757894400-1757980799@www.mieres.es
SUMMARY:XXXXIV Feria de Stock en Mieres (09/20 SET)
DESCRIPTION:XXXXIV Feria de Stock en Mieres\nUnión de Comerciantes del Caudal\n• Del 09 al 20 de septiembre en tu tienda\, en tu calle \n  \n\nXXXXIV Feria de Stock en Mieres \nLa Unión de Comerciantes del Caudal organiza la 44 edición de la Feria del Stock\, que tendrá lugar en el concejo del 09 al 20 de septiembre de 2025 y en la que los comerciantes\, tanto con stand fuera como en su propia tienda ofrecerán sus mercancías al mejor precio. \nLocales participantes: \n\nAndares\nComercial Tuñón\nCopistería Pepelinos\nDisco 55\nDkopa Moda\nFerretería Cristaloza\nFlorentina Martínez\nFreestyle\nGales Moda Caballero\nJaleo\nKiss mod\nLa Boutique de los Perfumes\nLa vieja Nana\nLeyva Moda\nLibrería La Pilarica\nLibrería La Pilarica II\nMadrigal Textil\nMiansi Moda\nMiansi Complementos\nModas Tatian\nTatta 8\nVallejo Interiorismo\nZapatería Lady E\n\n\n \n  \n 
URL:https://www.mieres.es/evento/xxxxiv-feria-de-stock-en-mieres-09-20-set/2025-09-15/
LOCATION:Establecimientos comerciales y hosteleros del concejo
CATEGORIES:Comercio y Hostelería,Feria
ATTACH;FMTTYPE=image/jpeg:https://www.mieres.es/wp-content/uploads/2025/08/CARTEL-STOCK-MIERES-2025.jpg
END:VEVENT
BEGIN:VEVENT
DTSTART;VALUE=DATE:20250915
DTEND;VALUE=DATE:20250916
DTSTAMP:20260421T051756
CREATED:20250903T114513Z
LAST-MODIFIED:20250903T114727Z
UID:75443-1757894400-1757980799@www.mieres.es
SUMMARY:Fiestas del Cristo de la Paz. Turón 2025 (10/15SET)
DESCRIPTION:Fiestas del Cristo de la Paz\nTurón 2025\n(10 al 15 de septiembre)\n\nPrograma\n\nLunes 15 de Septiembre \n  \n12:30h Colocación de Stolperstein\, por la concejalía de Memoria Democrática\, en Homenaje a Rafael Álvarez López\, Nicolás Álvarez Morán y Manuel Fernández Fernández\, turoneses deportados por el fascismo nazi.\nMonumento al Minero\, Barrio san Francisco \n17:30h Juegos de madera (A cargo de Verde y Azul)\nAtenéu de Turón \n  \n\n \n 
URL:https://www.mieres.es/evento/fiestas-del-cristo-de-la-paz-turon-2025-10-15set-5/
LOCATION:Parque de Turón\, Calle Centro\, 9\, 33610 Mieres\, Asturias\, Turón\, Asturias\, 33610 
CATEGORIES:Festejos
ATTACH;FMTTYPE=image/jpeg:https://www.mieres.es/wp-content/uploads/2025/09/cartel-cristo-turon-fiestas-2025.jpg
END:VEVENT
BEGIN:VEVENT
DTSTART;TZID=Europe/Madrid:20250915T080000
DTEND;TZID=Europe/Madrid:20250915T170000
DTSTAMP:20260421T051756
CREATED:20250807T114846Z
LAST-MODIFIED:20250807T114846Z
UID:75227-1757923200-1757955600@www.mieres.es
SUMMARY:Curso de coeducación para el diseño de actividades de ocio y tiempo libre
DESCRIPTION:Curso gratuito \nCurso de coeducación para el diseño de actividades de ocio y tiempo libre\nImpartido por Chusa Méndez\, coeducadora y formadora de grupos \n  \nDel 9 al 18 de septiembre de 2025\, de 16:00 a 20:00h. \nCasa de las mujeres. C/ Jerónimo Ibrán\, 8 \nInscripciones gratuitas a través del tfno. 985466262 (a partir del lunes 11 de agosto\, de 9 a 14h.) \n\n  \nFECHAS:\nDel 9 de septiembre al 18 de septiembre.\nMODALIDAD:\n30h presenciales.\nDÍAS/SESIONES:\n7 sesiones de 4h y 1 sesión de 3h.\nHORARIO DE IMPARTICIÓN:\n7 sesiones con horario de 16:00 a 20:00.\n1 sesión con horario de 16:00 a 19:00.\nPERSONAS USUARIAS A QUIENES VA DIRIGIDO EL CURSO:\nMonitoras/es de Ocio y Tiempo Libre. \nOBJETIVOS: \n\nAdquirir estrategias coeducativas para la prevención de violencias machistas en el ámbito de la educación no formal.\nConocer la pedagogía coeducativa.\nAplicar la pedagogía coeducativa en el ocio y tiempo libre infantil y juvenil.\nIdentificar conductas que promueven y perpetúan actitudes o situaciones donde se normalice la violencia contra las niñas\, chicas o mujeres.\nConcienciar sobre la importancia de hacer cualquier espacio posible\, un espacio seguro para la infancia y la juventud\, un espacio que no discrimine por razón de género.\nDotar al alumnado de conocimientos con rigor y perspectiva\, objetividad y cuidados a la hora de realización de cualquier actividad en el ámbito del ocio y el tiempo libre.
URL:https://www.mieres.es/evento/curso-de-coeducacion-para-el-diseno-de-actividades-de-ocio-y-tiempo-libre/2025-09-15/
LOCATION:Casa de las Mujeres\, C/ Jerónimo Ibrán 19\, Mieres\, Asturias\, 33600\, España
CATEGORIES:Igualdad
ATTACH;FMTTYPE=image/png:https://www.mieres.es/wp-content/uploads/2025/08/curso-Feminismo-Collage-Moderno-2025.png
GEO:43.2512334;-5.7731606
X-APPLE-STRUCTURED-LOCATION;VALUE=URI;X-ADDRESS=Casa de las Mujeres C/ Jerónimo Ibrán 19 Mieres Asturias 33600 España;X-APPLE-RADIUS=500;X-TITLE=C/ Jerónimo Ibrán 19:geo:-5.7731606,43.2512334
END:VEVENT
BEGIN:VEVENT
DTSTART;TZID=Europe/Madrid:20250915T090000
DTEND;TZID=Europe/Madrid:20250915T090000
DTSTAMP:20260421T051756
CREATED:20250912T104904Z
LAST-MODIFIED:20250912T104904Z
UID:75525-1757926800-1757926800@www.mieres.es
SUMMARY:Clubes de Lectura de la Red de Bibliotecas de Mieres 2025-26 (Apertura del plazo de inscripciones)
DESCRIPTION:  \n\nLa Red de Bibliotecas organiza una nueva edición de los Clubes de lectura. Dirigidos a tod@s l@s que quieran disfrutar compartiendo sus sensaciones ante una lectura común. \nNúmero de plazas en Mieres: 24 participantes por riguroso orden de inscripción. \nGrupos en Mieres: 3 (uno de mañana y dos de tarde). \nPrimera reunión: lunes 9 de octubre. \nNormas: \n\ndos faltas sin justificar se entenderán como baja en el club de lectura.\nen caso de no acudir a la reunión se ruega devolver el libro esa misma semana a más tardar.\n\nLas inscripciones podrán hacerse del 15 al 30 de septiembre en las Bibliotecas de Mieres\, Santa Cruz\, Turón y Ujo. Plazas limitadas\, por riguroso orden de inscripción. \nBiblioteca Vital Aza de Mieres\nc/ Manuel LLaneza\, 8\n985456294\nDe 9:00 a 20.30 h. de lunes a viernes \nBiblioteca de Santa Cruz de Mieres\nPolideportivo de Santa Cruz. 1ª planta.\n985420059\nDe 16:00 a 19:00 h. martes y jueves. \nBiblioteca de Turón\nEl Parque\, s/n.\n985432710\nDe 16:30 a 20:00 h. de lunes a viernes. \nBiblioteca de Uxo(Ujo)\nc/ Dr. Julio Rodríguez Vigil\, 17\n985422109\nDe 16:00 a 19:00 h. de lunes a viernes. \n 
URL:https://www.mieres.es/evento/clubes-de-lectura-de-la-red-de-bibliotecas-de-mieres-2025-26-apertura-del-plazo-de-inscripciones/
LOCATION:Biblioteca Pública de Mieres\, Calle Manuel Llaneza\, 8\, Mieres\, Asturias\, 33600 \, España
CATEGORIES:Bibliotecas
ATTACH;FMTTYPE=image/jpeg:https://www.mieres.es/wp-content/uploads/2025/09/Clubes-de-lectura-2025.jpg
GEO:43.2502294;-5.7729571
X-APPLE-STRUCTURED-LOCATION;VALUE=URI;X-ADDRESS=Biblioteca Pública de Mieres Calle Manuel Llaneza 8 Mieres Asturias 33600  España;X-APPLE-RADIUS=500;X-TITLE=Calle Manuel Llaneza\, 8:geo:-5.7729571,43.2502294
END:VEVENT
BEGIN:VEVENT
DTSTART;TZID=Europe/Madrid:20250915T090000
DTEND;TZID=Europe/Madrid:20250915T090000
DTSTAMP:20260421T051756
CREATED:20250912T105415Z
LAST-MODIFIED:20250912T105415Z
UID:75528-1757926800-1757926800@www.mieres.es
SUMMARY:Club de llectura n’asturianu 2025-2026 (Apertura del plazo de inscripciones)
DESCRIPTION:  \n\n  \nFeches d’inscripción:\nDel llunes 15 al martes 30 de setiembre. \nDuración:\nD’ochobre 2025 a xunu de 2026. \nLlugar d’inscripción:\nBiblioteca de Mieres\, de 9 h a 20:30h.\, de llunes a vienres\nPor ☎️ al 985456294 \nFecha empiezu:\nxueves 2 d’ochobre\, a les 12 hores. \n  \nEntamáu pola Conceyalía de Normalizacion Llinguística na Biblioteca de Mieres.
URL:https://www.mieres.es/evento/club-de-llectura-nasturianu-2025-2026-apertura-del-plazo-de-inscripciones/
LOCATION:Biblioteca Pública de Mieres\, Calle Manuel Llaneza\, 8\, Mieres\, Asturias\, 33600 \, España
CATEGORIES:Bibliotecas
ATTACH;FMTTYPE=image/jpeg:https://www.mieres.es/wp-content/uploads/2025/09/Club-de-LLectura-2025.jpg
GEO:43.2502294;-5.7729571
X-APPLE-STRUCTURED-LOCATION;VALUE=URI;X-ADDRESS=Biblioteca Pública de Mieres Calle Manuel Llaneza 8 Mieres Asturias 33600  España;X-APPLE-RADIUS=500;X-TITLE=Calle Manuel Llaneza\, 8:geo:-5.7729571,43.2502294
END:VEVENT
BEGIN:VEVENT
DTSTART;TZID=Europe/Madrid:20250915T090000
DTEND;TZID=Europe/Madrid:20250915T090000
DTSTAMP:20260421T051756
CREATED:20250912T105708Z
LAST-MODIFIED:20250912T105708Z
UID:75532-1757926800-1757926800@www.mieres.es
SUMMARY:Biblioteatro 2025/26. Apertura del plazo de inscripciones
DESCRIPTION:Biblioteatro\nGrupo de teatro infantil de la Biblioteca Publica de Mieres \n  \n\n  \nComienza el plazo de inscripción para una de nuestras actividades más emblemáticas. Podrán participar en esta actividad niños y jóvenes a partir de los diez años de edad. Las plazas son limitadas y la actividad gratuita. \nLa Biblioteca lleva desde el año 2005 realizando la actividad infantil del “Biblioteatro”. Los ensayos se realizan los miércoles de 17:00 a 18:00 horas. \nLos/las participantes\, además de adentrarse y emocionarse leyendo teatro\, aprenden a moverse en el escenario y a representar una obra en directo en un auditorio como el de la Casa de Cultura. \nLas inscripciones podrán hacerse del 15 al 30 de septiembr\, en la Biblioteca de Mieres\, de lunes a viernes de 09:00 h. a 20:30 horas o en el teléfono 985456294. ¡¡¡Os esperamos!!! \n\n\n 
URL:https://www.mieres.es/evento/biblioteatro-2025-26-apertura-del-plazo-de-inscripciones/
LOCATION:Casa de Cultura Teodoro Cuesta\, Calle Manuel Llaneza\, 8\, Mieres\, Asturias\, 33600\, España
CATEGORIES:Bibliotecas
ATTACH;FMTTYPE=image/jpeg:https://www.mieres.es/wp-content/uploads/2025/09/Biblioteatro-2025.jpg
ORGANIZER;CN="Red%20de%20Bibliotecas%20Municipales%20de%20Mieres":MAILTO:biblioteca@ayto-mieres.es
GEO:43.2502294;-5.7729571
X-APPLE-STRUCTURED-LOCATION;VALUE=URI;X-ADDRESS=Casa de Cultura Teodoro Cuesta Calle Manuel Llaneza 8 Mieres Asturias 33600 España;X-APPLE-RADIUS=500;X-TITLE=Calle Manuel Llaneza\, 8:geo:-5.7729571,43.2502294
END:VEVENT
BEGIN:VEVENT
DTSTART;TZID=Europe/Madrid:20250915T100000
DTEND;TZID=Europe/Madrid:20250915T100000
DTSTAMP:20260421T051756
CREATED:20250827T103145Z
LAST-MODIFIED:20250827T121350Z
UID:75396-1757930400-1757930400@www.mieres.es
SUMMARY:3ª colocación de Stolpersteine en homenaje a los deportados por el fascismo nazi
DESCRIPTION:  \nCOLOCACIÓN DE STOLPERSTEINE\nEn homenaje a los deportados por el fascismo nazi\n\n\n10:00h. Seana. Juan Mateo Iglesias\n11:15h. Uxo. David Moyano Tejerina y Alberto Magdalena Forcelledo\n12:30h. Turón. Rafael Álvarez López\, Nicolás Álvarez Morán y Manuel Fernández Fernández\n\n  \nCon las intervenciones de: \n\nMANUEL ÁNGEL ÁLVAREZ ÁLVAREZ (Alcalde de Mieres)\nBEATRIZ GONZÁLEZ PRIETO (Viceconsejera de Derechos Ciudadanos del Pdo. de Asturias)\nFAMILIARES DE LOS HOMENAJEADOS\nGRUPO DEPORTADOS ASTURIAS\n\nAcompañamiento musical a la gaita y tambor. \n  \nLunes\, 15 de septiembre de 2025 \nVarias lugares del concejo \n\n  \nLas Stolpersteine en Asturias son micromonumentos de reminiscencia del destino de las personas en este país que a causa de las políticas del nazismo\, habían sido asesinados\, deportados\, expulsados o llevados al suicidio. Stolpersteine son cubos de cemento de 10x10x10 centímetros que\, en la parte superior\, llevan incrustadas una placa de latón de 10×10 centímetros (3’9 pulgadas de lado)\, donde se encuentran grabados los datos esenciales de la persona que se conmemora. \nDurante la Segunda Guerra Mundial grandes grupos de republicanos españoles\, que habían huido a Francia después de la victoria de Franco\, fueron detenidos por el régimen nazi o entregados al régimen de Vichy o deportados a diversos campos de concentración nazis\, principalmente al de Mauthausen. Alrededor de 7.000 españoles fueron detenidos allí y condenados a trabajos forzados. Más de la mitad de ellos fueron asesinados por el régimen nazi. El régimen de Franco retiró a los supervivientes españoles su nacionalidad y los convirtió en apátridas. Desde hace décadas se les ha negado cualquier forma de reconocimiento como víctimas y cualquier restitución. \nCon el acto de hoy se realiza una segunda colocación\, esta vez en el casco urbano de Mieres\, dentro de la campaña de instalación de estos reconocimientos en homenaje a las personas deportadas de nuestro concejo. \n 
URL:https://www.mieres.es/evento/3a-colocacion-de-stolpersteine-en-homenaje-a-los-deportados-por-el-fascismo-nazi/
LOCATION:Varias ubicaciones
CATEGORIES:Homenaje,Memoria Democrática
ATTACH;FMTTYPE=image/jpeg:https://www.mieres.es/wp-content/uploads/2025/08/Cartel-acto-stolpersteiner-septiembre-2025-web.jpg
END:VEVENT
BEGIN:VEVENT
DTSTART;TZID=Europe/Madrid:20250915T160000
DTEND;TZID=Europe/Madrid:20250915T160000
DTSTAMP:20260421T051756
CREATED:20250905T110259Z
LAST-MODIFIED:20250905T110259Z
UID:75484-1757952000-1757952000@www.mieres.es
SUMMARY:Taller "Analiza mundos virtuales con perspectiva de género"
DESCRIPTION:Taller: \n“Analiza mundos virtuales con perspectiva de género”\n\nEn el marco del Curso de coeducación para el diseño de actividades de ocio y tiempo libre\nImpartido por Chusa Méndez\, coeducadora y formadora de grupos \n  \n15 y 16 de septiembre de 2025\, de 16:00 a 20:00h. \nCasa de las mujeres. C/ Jerónimo Ibrán\, 8 \nInscripciones gratuitas a través del tfno. 985466262 \n\n  \nLa formación que se va a impartir dotará a cualquier persona\, que decida apuntarse\, de herramientas eficaces para su desarrollo profesional en competencias relacionadas con el ocio y tiempo libre en materia de igualdad\, esto es que podrá identificar y resolver cualquier situación discriminatoria con perspectiva de género. Debemos ser conscientes de que las personas no somos educadas para hacer de la diferencia una riqueza\, los datos están ahí\, sino que somos educadas para hacer que esas diferencias generen desigualdad\, en esto\, el campo de la educación no formal\, también debe instruirse con coeducación. \nPrograma sesión día 15 \n\nAntes que videojuego estuvo… El juego. Breve historia sobre la importancia de “El juego”\nComo se regla el juego\nDel juego al videojuego\nOrigen de los mundos virtuales\nMito o Dato Adultocentrismo escénico.\nDónde debemos poner el foco y la atención para gestionar pantallas.\nPráctica: Dete-activando (Búsqueda de estereotipos en videojuegos actuales)\n\nPrograma sesión día 16 \n\nHerramientas para gamificar de manera virtual sin perder la esencia de lo real.\nClaves para identificar desigualdades en los mundos virtuales.\nPráctica: Creación de videojuego con perspectiva de género.
URL:https://www.mieres.es/evento/taller-analiza-mundos-virtuales-con-perspectiva-de-genero/
LOCATION:Casa de Cultura Teodoro Cuesta\, Calle Manuel Llaneza\, 8\, Mieres\, Asturias\, 33600\, España
CATEGORIES:Taller
ATTACH;FMTTYPE=image/jpeg:https://www.mieres.es/wp-content/uploads/2025/09/taller-Sesion-videojuegos-.jpg
GEO:43.2502294;-5.7729571
X-APPLE-STRUCTURED-LOCATION;VALUE=URI;X-ADDRESS=Casa de Cultura Teodoro Cuesta Calle Manuel Llaneza 8 Mieres Asturias 33600 España;X-APPLE-RADIUS=500;X-TITLE=Calle Manuel Llaneza\, 8:geo:-5.7729571,43.2502294
END:VEVENT
BEGIN:VEVENT
DTSTART;TZID=Europe/Madrid:20250915T170000
DTEND;TZID=Europe/Madrid:20250915T190000
DTSTAMP:20260421T051756
CREATED:20250827T085127Z
LAST-MODIFIED:20250827T085127Z
UID:75360-1757955600-1757962800@www.mieres.es
SUMMARY:"MARCHANDO" Juegos Infantiles en Turón
DESCRIPTION:MARCHANDO\nJuegos Infantiles\nen Turón\nTodos los lunes\, del 1 al 26 de septiembre\, de 17 a 19:00h.\nParque de la Veguina -Turón- (en caso de lluvia se trasladaría al Polideportivo) \nPara chicos y chicas entre 5 y 16 años\nNo es necesaria inscripción \n\n  \nEl Ayuntamiento de Mieres\, través de la Concejalía de Igualdad\, Feminismo\, Juventud e Infancia pone en marcha un nuevo programa dentro del marco del Plan Corresponsables\, destinado a peques y adolescentes entre 5 y 16 años\, con un sinfín de actividades que seguro disfrutarán\, siendo el objetivo propuesto  fomentar el deporte\, la actividad física y unos hábitos saludables a través del ocio.\n\nEl programa está financiado por el Plan Corresponsables\, a través de fondos del Ministerio de Igualdad – Secretaría de Estado de Igualdad y contra la Violencia de Género\, dicho plan se ejecuta por el Gobierno del Principado de Asturias a través de su Dirección General de Igualdad con la colaboración de los ayuntamientos asturianos\, entre ellos el de Mieres.\n\nEl horario previsto es de 17 a 19 horas\, celebrándose en los siguientes días y lugares :\n\nLunes: en Turón\, en el Parque\, y si llueve en el Polideportivo.\nMartes: en Figaredo\, Parque Tartiere.\nMiércoles: Rioturbio\, en la Cancha.\nJueves: Mieres: Parque Jovellanos\, y si llueve Colegio Santiago Apóstol.\nViernes: Santullano\, en la Cancha.\n\n\nEs una actividad gratuita y sin previa inscripción\, por lo que esperamos que resulte de interés para las familias\, contribuyendo al mismo tiempo a la conciliación y recuperar ese espacio de la calle donde la convivencia de la infancia y la adolescencia crea lazos a través del juego colaborativo.\n\nNos vemos¡¡
URL:https://www.mieres.es/evento/marchando-juegos-infantiles-en-turon/2025-09-15/
LOCATION:Parque de Turón\, Calle Centro\, 9\, 33610 Mieres\, Asturias\, Turón\, Asturias\, 33610 
CATEGORIES:Juventud e Infancia
ATTACH;FMTTYPE=image/jpeg:https://www.mieres.es/wp-content/uploads/2025/08/cartel-Marchando-Mieres.jpg
ORGANIZER;CN="Concejal%C3%ADa%20de%20Infancia%20y%20Juventud":MAILTO:oij@ayto-mieres.es
END:VEVENT
END:VCALENDAR