BEGIN:VCALENDAR
VERSION:2.0
PRODID:-//Ayuntamiento de Mieres - ECPv5.16.1.1//NONSGML v1.0//EN
CALSCALE:GREGORIAN
METHOD:PUBLISH
X-WR-CALNAME:Ayuntamiento de Mieres
X-ORIGINAL-URL:https://www.mieres.es
X-WR-CALDESC:Eventos para Ayuntamiento de Mieres
BEGIN:VTIMEZONE
TZID:Europe/Madrid
BEGIN:DAYLIGHT
TZOFFSETFROM:+0100
TZOFFSETTO:+0200
TZNAME:CEST
DTSTART:20250330T010000
END:DAYLIGHT
BEGIN:STANDARD
TZOFFSETFROM:+0200
TZOFFSETTO:+0100
TZNAME:CET
DTSTART:20251026T010000
END:STANDARD
END:VTIMEZONE
BEGIN:VEVENT
DTSTART;VALUE=DATE:20250918
DTEND;VALUE=DATE:20250919
DTSTAMP:20260421T064440
CREATED:20250827T113527Z
LAST-MODIFIED:20250827T113527Z
UID:75414-1758153600-1758239999@www.mieres.es
SUMMARY:XXXXIV Feria de Stock en Mieres (09/20 SET)
DESCRIPTION:XXXXIV Feria de Stock en Mieres\nUnión de Comerciantes del Caudal\n• Del 09 al 20 de septiembre en tu tienda\, en tu calle \n  \n\nXXXXIV Feria de Stock en Mieres \nLa Unión de Comerciantes del Caudal organiza la 44 edición de la Feria del Stock\, que tendrá lugar en el concejo del 09 al 20 de septiembre de 2025 y en la que los comerciantes\, tanto con stand fuera como en su propia tienda ofrecerán sus mercancías al mejor precio. \nLocales participantes: \n\nAndares\nComercial Tuñón\nCopistería Pepelinos\nDisco 55\nDkopa Moda\nFerretería Cristaloza\nFlorentina Martínez\nFreestyle\nGales Moda Caballero\nJaleo\nKiss mod\nLa Boutique de los Perfumes\nLa vieja Nana\nLeyva Moda\nLibrería La Pilarica\nLibrería La Pilarica II\nMadrigal Textil\nMiansi Moda\nMiansi Complementos\nModas Tatian\nTatta 8\nVallejo Interiorismo\nZapatería Lady E\n\n\n \n  \n 
URL:https://www.mieres.es/evento/xxxxiv-feria-de-stock-en-mieres-09-20-set/2025-09-18/
LOCATION:Establecimientos comerciales y hosteleros del concejo
CATEGORIES:Comercio y Hostelería,Feria
ATTACH;FMTTYPE=image/jpeg:https://www.mieres.es/wp-content/uploads/2025/08/CARTEL-STOCK-MIERES-2025.jpg
END:VEVENT
BEGIN:VEVENT
DTSTART;TZID=Europe/Madrid:20250918T080000
DTEND;TZID=Europe/Madrid:20250918T170000
DTSTAMP:20260421T064440
CREATED:20250807T114846Z
LAST-MODIFIED:20250807T114846Z
UID:75230-1758182400-1758214800@www.mieres.es
SUMMARY:Curso de coeducación para el diseño de actividades de ocio y tiempo libre
DESCRIPTION:Curso gratuito \nCurso de coeducación para el diseño de actividades de ocio y tiempo libre\nImpartido por Chusa Méndez\, coeducadora y formadora de grupos \n  \nDel 9 al 18 de septiembre de 2025\, de 16:00 a 20:00h. \nCasa de las mujeres. C/ Jerónimo Ibrán\, 8 \nInscripciones gratuitas a través del tfno. 985466262 (a partir del lunes 11 de agosto\, de 9 a 14h.) \n\n  \nFECHAS:\nDel 9 de septiembre al 18 de septiembre.\nMODALIDAD:\n30h presenciales.\nDÍAS/SESIONES:\n7 sesiones de 4h y 1 sesión de 3h.\nHORARIO DE IMPARTICIÓN:\n7 sesiones con horario de 16:00 a 20:00.\n1 sesión con horario de 16:00 a 19:00.\nPERSONAS USUARIAS A QUIENES VA DIRIGIDO EL CURSO:\nMonitoras/es de Ocio y Tiempo Libre. \nOBJETIVOS: \n\nAdquirir estrategias coeducativas para la prevención de violencias machistas en el ámbito de la educación no formal.\nConocer la pedagogía coeducativa.\nAplicar la pedagogía coeducativa en el ocio y tiempo libre infantil y juvenil.\nIdentificar conductas que promueven y perpetúan actitudes o situaciones donde se normalice la violencia contra las niñas\, chicas o mujeres.\nConcienciar sobre la importancia de hacer cualquier espacio posible\, un espacio seguro para la infancia y la juventud\, un espacio que no discrimine por razón de género.\nDotar al alumnado de conocimientos con rigor y perspectiva\, objetividad y cuidados a la hora de realización de cualquier actividad en el ámbito del ocio y el tiempo libre.
URL:https://www.mieres.es/evento/curso-de-coeducacion-para-el-diseno-de-actividades-de-ocio-y-tiempo-libre/2025-09-18/
LOCATION:Casa de las Mujeres\, C/ Jerónimo Ibrán 19\, Mieres\, Asturias\, 33600\, España
CATEGORIES:Igualdad
ATTACH;FMTTYPE=image/png:https://www.mieres.es/wp-content/uploads/2025/08/curso-Feminismo-Collage-Moderno-2025.png
GEO:43.2512334;-5.7731606
X-APPLE-STRUCTURED-LOCATION;VALUE=URI;X-ADDRESS=Casa de las Mujeres C/ Jerónimo Ibrán 19 Mieres Asturias 33600 España;X-APPLE-RADIUS=500;X-TITLE=C/ Jerónimo Ibrán 19:geo:-5.7731606,43.2512334
END:VEVENT
BEGIN:VEVENT
DTSTART;TZID=Europe/Madrid:20250918T170000
DTEND;TZID=Europe/Madrid:20250918T190000
DTSTAMP:20260421T064440
CREATED:20250827T090608Z
LAST-MODIFIED:20250827T090608Z
UID:75388-1758214800-1758222000@www.mieres.es
SUMMARY:"MARCHANDO" Juegos Infantiles en el Parque Xovellanos
DESCRIPTION:MARCHANDO\nJuegos Infantiles\nen Mieres\nTodos los jueves\, del 1 al 26 de septiembre\, de 17 a 19:00h.\nParque Xovellanos (en caso de lluvia se trasladaría al Colegio Público Santiago Apóstol) \nPara chicos y chicas entre 5 y 16 años\nNo es necesaria inscripción \n\n  \nEl Ayuntamiento de Mieres\, través de la Concejalía de Igualdad\, Feminismo\, Juventud e Infancia pone en marcha un nuevo programa dentro del marco del Plan Corresponsables\, destinado a peques y adolescentes entre 5 y 16 años\, con un sinfín de actividades que seguro disfrutarán\, siendo el objetivo propuesto  fomentar el deporte\, la actividad física y unos hábitos saludables a través del ocio.\n\nEl programa está financiado por el Plan Corresponsables\, a través de fondos del Ministerio de Igualdad – Secretaría de Estado de Igualdad y contra la Violencia de Género\, dicho plan se ejecuta por el Gobierno del Principado de Asturias a través de su Dirección General de Igualdad con la colaboración de los ayuntamientos asturianos\, entre ellos el de Mieres.\n\nEl horario previsto es de 17 a 19 horas\, celebrándose en los siguientes días y lugares :\n\nLunes: en Turón\, en el Parque\, y si llueve en el Polideportivo.\nMartes: en Figaredo\, Parque Tartiere.\nMiércoles: Rioturbio\, en la Cancha.\nJueves: Mieres: Parque Jovellanos\, y si llueve Colegio Santiago Apóstol.\nViernes: Santullano\, en la Cancha.\n\n\nEs una actividad gratuita y sin previa inscripción\, por lo que esperamos que resulte de interés para las familias\, contribuyendo al mismo tiempo a la conciliación y recuperar ese espacio de la calle donde la convivencia de la infancia y la adolescencia crea lazos a través del juego colaborativo.\n\nNos vemos¡¡
URL:https://www.mieres.es/evento/marchando-juegos-infantiles-en-el-parque-xovellanos/2025-09-18/
LOCATION:Polideportivo de Returbiu\, Rioturbio\, 33614
CATEGORIES:Juventud e Infancia
ATTACH;FMTTYPE=image/jpeg:https://www.mieres.es/wp-content/uploads/2025/08/cartel-Marchando-Mieres.jpg
ORGANIZER;CN="Concejal%C3%ADa%20de%20Infancia%20y%20Juventud":MAILTO:oij@ayto-mieres.es
GEO:43.2653376;-5.7388431
END:VEVENT
BEGIN:VEVENT
DTSTART;TZID=Europe/Madrid:20250918T183000
DTEND;TZID=Europe/Madrid:20250918T183000
DTSTAMP:20260421T064440
CREATED:20250912T131012Z
LAST-MODIFIED:20250912T131012Z
UID:75550-1758220200-1758220200@www.mieres.es
SUMMARY:Exposición:  "A Dolores le gustaba cantar". Artistas de la asociación Blanco\, Negro y Magenta (18SEP/31OCT)
DESCRIPTION:Exposición: \n\n“A Dolores le gustaba cantar”\nArtistas de la asociación Blanco\, Negro y Magenta\nDel 18 de septiembre al 31 de octubre de 2025\nHorario de miércoles a viernes\, de 16 a 19:30h. Sábados y domingos de 11 a 14h y de 16 a 19:30h \n\n\nMieres Centru Cultural\nEntrada gratuita \nActo de inauguración jueves 18 de septiembre\, a las 18:30h. \n\n\n\n  \nA Dolores Ibárruri le gustaba cantar. Lo solía hacer cuando se encontraba en compañía de amigos o realizando alguna actividad cotidiana. Entonaba canciones vascas\, religiosas\, populares\, propias de su época y de la educación que recibió. Cuando por fin regresó a España del exilio\, Pasionaria no había perdido esa costumbre.  \nCon esta cita se resume el espíritu de la presente propuesta expositiva de la asociación Blanco\, Negro y Magenta que quiere rendir homenaje a la mujer que está dentro del uno de los símbolos más potentes de la historia de la lucha por la igualdad. Una mujer que parecía estar condicionada a una vida convencional\, pero que su inteligencia\, su sensibilidad en temas humanitarios y su compromiso en la lucha por la justicia social la llevaron a convertirse en un referente que forma parte del grupo de las grandes personalidades de la política universal.  \n——————  \nArtistas de la asociación Blanco\, Negro y Magenta que participan en la exposición: \n\nÁngeles Saura \nCharo Corrales \nConcha Mayordomo \nDolo Fernández \nDora Román \nEmi Azor \nMareta Espinosa \nMarga Villaverde \nMaría Jesús Manzanares \nMiren Manterola \nMiriam Martínez Abellán \nNarges Bazarjani  \nSoniya Patel \n\nComisariado:  \n\nConcha Mayordomo y Mareta Espinosa \n\nImagen:  \n\nMiren Manterola (detalle) \n\n\n 
URL:https://www.mieres.es/evento/exposicion-a-dolores-le-gustaba-cantar-artistas-de-la-asociacion-blanco-negro-y-magenta-18sep-31oct/
LOCATION:Mieres Centru Cultural\, Calle Jerónimo Ibrán\, 10\, Mieres\, Asturias\, 33600
CATEGORIES:Exposiciones,Memoria Democrática
ATTACH;FMTTYPE=image/jpeg:https://www.mieres.es/wp-content/uploads/2025/09/expo-dolores-ibarruri-mieres-2025.jpeg
END:VEVENT
BEGIN:VEVENT
DTSTART;TZID=Europe/Madrid:20250918T190000
DTEND;TZID=Europe/Madrid:20250918T190000
DTSTAMP:20260421T064440
CREATED:20250905T114926Z
LAST-MODIFIED:20250905T114926Z
UID:75491-1758222000-1758222000@www.mieres.es
SUMMARY:Teatro: "¿Al cielo o al infierno?"\, por Grupo de Teatro Recitadores
DESCRIPTION:Teatro: \n“LA VENGANZA DE DON MENDO”\nGrupo de Teatro Centro Social Personas Mayores de Mieres “Recitadores”\n  \nJueves\, 18 de septiembre de 2025. 19:00h.\nSalón de actos del antiguo Colegio La Salle -Turón- \n\n 
URL:https://www.mieres.es/evento/teatro-al-cielo-o-al-infierno-por-grupo-de-teatro-recitadores/
LOCATION:Antiguo Colegio La Salle -Turón-\, Calle San Juan Bautista de la Salle\, 26\, Turón -Mieres-\, 33610
CATEGORIES:Teatro
ATTACH;FMTTYPE=image/jpeg:https://www.mieres.es/wp-content/uploads/2025/09/Cartel-teatro-recitadores-turon-2025.jpg
END:VEVENT
BEGIN:VEVENT
DTSTART;TZID=Europe/Madrid:20250918T193000
DTEND;TZID=Europe/Madrid:20250918T193000
DTSTAMP:20260421T064440
CREATED:20250903T122657Z
LAST-MODIFIED:20250903T123115Z
UID:75451-1758223800-1758223800@www.mieres.es
SUMMARY:Hablemos de porno: una conversación en torno al libro "Por-No Educar\, una guía para abordar la pornografía desde la educación sexual"
DESCRIPTION:Charla y presentación de libro: \n“Por-No Educar\, una guía para abordar la pornografía desde la educación sexual”\nde María Rodríguez\nJueves 18 de septiembre\, 19:30h.\nSalón de actos de la Casa de la Cultura Teodoro Cuesta \nEntrada libre hasta completar aforo \n\n  \nEsta charla busca reflexionar sobre el papel que tiene la pornografía en la construcción del imaginario sexual de las personas adolescentes. Se explorarán estrategias para fomentar la comunicación abierta\, el pensamiento crítico y el desarrollo de una sexualidad consciente\, responsable y satisfactoria. Además\, se proporcionarán herramientas para acompañar y dialogar sobre estos temas desde el respeto\, la empatía y la información actualizada. El objetivo es dotar de recursos para acompañar la sexualidad de la infancia y adolescencia de una manera positiva\, favoreciendo el bienestar y las relaciones basadas en los buenos tratos. Dirigida a familias\, profesorado y otros agentes sociales que acompañen a infancia y adolescencia. \nMaría Rodríguez es doctora en Género y Diversidad y sexóloga. Coordina el proyecto sexológico Rizoma (@rizomasexologia) y colabora ofreciendo formación y elaborando materiales didácticos y de divulgación en diferentes programas de educación sexual. Es profesora del Máster Oficial en Sexología\, Educación Sexual y Asesoramiento Sexológico de la Universidad Camilo José Cela de Madrid\, y autora de guías como “Construcción del imaginario sexual en las personas jóvenes: la pornografía como escuela” (CMPA\, 2020) o “Una guía de salud sexual para saberlo todo” (dpto. de Salud y Educación del País Vasco\, 2024). Recientemente ha publicado el libro “PorNo educar: una guía para abordar la pornografía desde la educación sexual” (Vergara\, Penguin Random House\, 2025). \n\n 
URL:https://www.mieres.es/evento/hablemos-de-porno-una-conversacion-en-torno-al-libro-por-no-educar-una-guia-para-abordar-la-pornografia-desde-la-educacion-sexual/
LOCATION:Casa de Cultura Teodoro Cuesta\, Calle Manuel Llaneza\, 8\, Mieres\, Asturias\, 33600\, España
CATEGORIES:Igualdad,Juventud e Infancia
ATTACH;FMTTYPE=image/jpeg:https://www.mieres.es/wp-content/uploads/2025/09/cartel-web-por-no-educar-charla-mieres-2025.jpg
GEO:43.2502294;-5.7729571
X-APPLE-STRUCTURED-LOCATION;VALUE=URI;X-ADDRESS=Casa de Cultura Teodoro Cuesta Calle Manuel Llaneza 8 Mieres Asturias 33600 España;X-APPLE-RADIUS=500;X-TITLE=Calle Manuel Llaneza\, 8:geo:-5.7729571,43.2502294
END:VEVENT
END:VCALENDAR