BEGIN:VCALENDAR
VERSION:2.0
PRODID:-//Ayuntamiento de Mieres - ECPv5.16.1.1//NONSGML v1.0//EN
CALSCALE:GREGORIAN
METHOD:PUBLISH
X-WR-CALNAME:Ayuntamiento de Mieres
X-ORIGINAL-URL:https://www.mieres.es
X-WR-CALDESC:Eventos para Ayuntamiento de Mieres
BEGIN:VTIMEZONE
TZID:Europe/Madrid
BEGIN:DAYLIGHT
TZOFFSETFROM:+0100
TZOFFSETTO:+0200
TZNAME:CEST
DTSTART:20250330T010000
END:DAYLIGHT
BEGIN:STANDARD
TZOFFSETFROM:+0200
TZOFFSETTO:+0100
TZNAME:CET
DTSTART:20251026T010000
END:STANDARD
END:VTIMEZONE
BEGIN:VEVENT
DTSTART;VALUE=DATE:20250921
DTEND;VALUE=DATE:20250922
DTSTAMP:20260421T051708
CREATED:20250915T085057Z
LAST-MODIFIED:20250915T085057Z
UID:75565-1758412800-1758499199@www.mieres.es
SUMMARY:Semana Europea de la Movilidad 2025. Exhibición de patinaje y Circuito de Trial-Bike
DESCRIPTION:SEMANA EUROPEA DE LA MOVILIDAD 2025\nDomingo 21 de septiembre\n  \nEXHIBICIÓN DE PATINAJE Y ROLLER DISCO\nCon el Club Mierense de Patinaje Artístico\nLugar: Parque Xovellanos\nHora: De 12 a 14:00h.\nAl finalizar la exhibición realizaremos una Roller Disco\, trae tus patines y participa!!! \nCIRCUITO DE TRIAL-BIKE\nLugar: Calle Indalecio Prieto (Cortada al tráfico)\nHora: De 17 a 19:00h.\nCon bicicletas disponibles para la realización del circuito por quien lo desee. \n  \n\n  \nEl objetivo de la Semana Europea de la Movilidad es fomentar un cambio en los hábitos de transporte\, para conseguir mejorar la calidad de vida urbana\, reducir la contaminación ambiental y acústica\, y aumentar la seguridad vial. Además\, pretende asegurar que el espacio público sea accesible y seguro para todas y todos\, incluidos peatones y ciclistas. \nQueremos presentar estas actividades con la finalidad de fomentar la movilidad e urbana sostenible\, y reducir así las emisiones contaminantes en nuestro día a día. Son diferentes actividades pensadas para todas las edades\, infancia\, adolescencia y público más adulto\, con las que pretendemos sensibilizar a la ciudadanía en el cuidado del medio ambiente\, y en el cambio de hábitos que podemos hacer para construir el Mieres que queremos en el futuro. \nCon estas actividades pretendemos concienciar sobre los beneficios tanto para la salud pública\, como para el medio ambiente\, asociados al uso de modos de transporte más sostenibles\, en particular\, el transporte público\, la bicicleta y los desplazamientos a pie. \nLa Semana Europea de la Movilidad es una campaña dirigida a sensibilizar\, tanto a los responsables políticos como a la ciudadanía\, sobre las consecuencias negativas que tiene para la salud pública y el medio ambiente el uso excesivo del coche en la ciudad. Asimismo\, busca promover el uso de modos de transporte más sostenibles\, en particular\, el transporte público\, la bicicleta y los desplazamientos a pie. \nEste año\, el tema elegido es ‘Movilidad para todas las personas’. Mediante esta temática\, la Comisión Europea pretende poner el foco en la importancia de que toda la ciudadanía pueda contar con un transporte disponible\, accesible\, asequible\, seguro y sostenible\, con independencia de los ingresos\, la ubicación\, el género o las capacidades. \n 
URL:https://www.mieres.es/evento/semana-europea-de-la-movilidad-2025-exhibicion-de-patinaje-y-circuito-de-trial-bike/
LOCATION:Parque Xovellanos\, Parque Xovellanos\, Mieres\, Asturias\, 33600 
CATEGORIES:Jornadas,Medio Ambiente
ATTACH;FMTTYPE=image/jpeg:https://www.mieres.es/wp-content/uploads/2025/09/Cartel-web-Semana-Movilidad-2025.jpg
GEO:43.2517322;-5.7764018
X-APPLE-STRUCTURED-LOCATION;VALUE=URI;X-ADDRESS=Parque Xovellanos Parque Xovellanos Mieres Asturias 33600;X-APPLE-RADIUS=500;X-TITLE=Parque Xovellanos:geo:-5.7764018,43.2517322
END:VEVENT
BEGIN:VEVENT
DTSTART;TZID=Europe/Madrid:20250921T093000
DTEND;TZID=Europe/Madrid:20250921T093000
DTSTAMP:20260421T051708
CREATED:20250916T111923Z
LAST-MODIFIED:20250916T111923Z
UID:75597-1758447000-1758447000@www.mieres.es
SUMMARY:Hockey: Torneo de los Mártires 2025. Club Patín Mieres (23/25SET)
DESCRIPTION:HOCKEY SOBRE PATINES \nTORNEO DE LOS MÁRTIRES\nClub Patín Mieres\nPabellón Visiola Rollán\n19\, 20 y 21 de septiembre de 2025 \n\n  \nEquipos participantes: \nOk Liga Iberdrola (Femenina) \nClub Patín Mieres\nOviedo Roller\nMarineda Hockey (A Coruña)\nBembibre HC ( Bembibre ) \nOk Liga Bronce (Masculino) \nClub Patín Mieres\nUDC Rochapea (Navarra)\nOleiros HC (A Coruña)\nCD Alameda de Osuna (Comunidad de Madrid) \n  \nCALENDARIO DE COMPETICIÓN:\n \n  \n 
URL:https://www.mieres.es/evento/hockey-torneo-de-los-martires-2025-club-patin-mieres-23-25set-3/
LOCATION:Pabellón Visiola Rollán\, Calle Llanes s/n\, Mieres\, Asturias\, 33600\, España
CATEGORIES:Deportes
ATTACH;FMTTYPE=image/jpeg:https://www.mieres.es/wp-content/uploads/2025/09/torneo-martires-club-patin-2025.jpg
GEO:43.2576447;-5.7801748
X-APPLE-STRUCTURED-LOCATION;VALUE=URI;X-ADDRESS=Pabellón Visiola Rollán Calle Llanes s/n Mieres Asturias 33600 España;X-APPLE-RADIUS=500;X-TITLE=Calle Llanes s/n:geo:-5.7801748,43.2576447
END:VEVENT
BEGIN:VEVENT
DTSTART;TZID=Europe/Madrid:20250921T110000
DTEND;TZID=Europe/Madrid:20250921T110000
DTSTAMP:20260421T051708
CREATED:20250702T092819Z
LAST-MODIFIED:20250702T092819Z
UID:74957-1758452400-1758452400@www.mieres.es
SUMMARY:Rutas Turísticas 2025: "Ruta de la Revolución de Octubre de 1934" (21SEP)
DESCRIPTION:RUTAS TURÍSTICAS GRATUITAS 2025\nEste verano DISFRUTA MIERES\n  \nRUTA DE LA REVOLUCIÓN DE OCTUBRE DE 1934\nRecorrido guiado por el casco urbano\, por los lugares más relevantes en los acontecimientos de la revolución de octubre del 34 en Mieres. \n  \nDETALLES DE LA ACTIVIDAD \n\nFechas y horas:\n\nJueves 21 de agosto: 17:00 h.\nDomingo 21 de septiembre: 11:00 h.\n\n\nPunto de encuentro: Plaza de La Pasera (Mieres del Camín).\nItinerario: Parroquia de San Juan Bautista – Armería de La Pasera – Casino de Mieres – Cine Novedades – Túnel del Pozo Balanza del ferrocarril de El Peñón – Ayuntamiento – asalto a la comisaría de Mieres – Panadería de Isaac Posada – Palacio de Camposagrado – Juzgados de Primera Instancia – Convento de Padres Pasionistas – Colegio Santiago Apóstol “El Hachu” – Casa del Pueblo – Teatro del Orfeón Mierense – Colegio Santo Domingo de Guzmán – Escuela de Capataces.\nDuración aproximada: 2 h\nServicios incluidos: guía en español\nServicios no incluidos: traslados al punto de encuentro. Traslados entre los puntos que componen la visita.\nEdad mínima: no establecida.\nCuándo reservar: puedes hacerlo hasta 48 horas antes de la actividad\, siempre y cuando haya plazas disponibles.\nMascotas: no permitidas.\nEsta actividad necesita un mínimo de 5 participantes. En caso de no alcanzar ese número\, nos pondremos en contacto contigo para comunicártelo.\n\n  \nRESERVAS \nPlazas limitadas. Imprescindible formalizar reserva previa con 48 horas de antelación a la actividad. \nLa reserva se realizará a través del formulario online disponible en esta misma web\, más abajo. Unos días antes de la actividad le enviaremos un mensaje de confirmación para informarle de todos los detalles de la ruta. \n  \nCANCELACIONES \nPara cancelar la reserva realizada será necesario contactar con la Oficina de Turismo de Mieres a través de cualquiera de los siguientes medios: \n\nTfno.: 985 45 05 33\nE-mail: turismo@ayto-mieres.es\nWhastApp: https://wa.me/message/7WTB3WTX46UYE1\n\nLas plazas son limitadas y se habilitan listas de espera para suplir posibles cancelaciones\, motivo por el cual\, en el caso de que no puedan asistir a la ruta\, rogamos nos lo comuniquen con antelación para poder asignar las plazas a las personas que se encuentran en lista de espera. \nMás información: Oficina de Turismo de Mieres\, C/Manuel Llaneza\, 8. Tfno. 985450533. E-mail turismo@ayto-mieres.es \n\n  \nRutas Turísticas 2025 \nLa Concejalía de Turismo del Ayuntamiento de Mieres pone en marcha una nueva edición del programa “Este verano\, DISFRUTA MIERES”\, una iniciativa que el pasado año obtuvo una gran respuesta por parte de la ciudadanía\, con más de 500 personas participantes –la gran mayoría de otras comunidades autónomas y también visitantes internacionales y de Asturias– en las citas organizadas\, y que este año llega con novedades: más visitas y rutas guiadas\, una ruta de la Revolución de Octubre del 34 y una visita monográfica al Santuario de los Mártires\, además de ampliar las salidas del bus turístico\, que hará su recorrido todos los domingos de julio y agosto.\nGeorrutas\, rutas etnográficas\, cicloturistas\, senderistas\, visitas guiadas… De todo y para todos los gustos y públicos en una programación que se alargará durante todo el verano.\nTodas las actividades son gratuitas y para participar\, puesto que las plazas son limitadas\, será necesario formalizar reserva previa en los formularios online ofrecidos en cada una de las citas de nuestra agenda. \nConsulta y descarga el programa completo aquí \n  \n\n  \n \nCargando… 
URL:https://www.mieres.es/evento/rutas-turisticas-2025-ruta-de-la-revolucion-de-octubre-de-1934-21sep/
LOCATION:Casco urbano\, Mieres del Camín\, Asturias\, 33600\, España
CATEGORIES:Ruta Turística,Turismo
ATTACH;FMTTYPE=image/jpeg:https://www.mieres.es/wp-content/uploads/2025/07/CARTEL_rutasTuristicasMieres25.jpg
ORGANIZER;CN="Concejal%C3%ADa%20de%20Turismo":MAILTO:turismo@ayto-mieres.es
GEO:43.2491037;-5.7747551
END:VEVENT
BEGIN:VEVENT
DTSTART;TZID=Europe/Madrid:20250921T160000
DTEND;TZID=Europe/Madrid:20250921T160000
DTSTAMP:20260421T051708
CREATED:20250917T123158Z
LAST-MODIFIED:20250917T123158Z
UID:75658-1758470400-1758470400@www.mieres.es
SUMMARY:Baloncesto: Copa Principado Nacional Femenina 2025 (fase de grupos)
DESCRIPTION:Baloncesto: \nCopa Principado Nacional Femenina 2025\n  \nMieres acoge la primera competición oficial de la temporada 2025/2026 de baloncesto femenino\, en forma del inicio de la Copa Principado Nacional Femenina\, competición que reúne\, durante los dos próximos fines de semana\, a los cinco equipos asturianos de la categoría (CDB FODEBA\, BVM2012\, CD Art-Chivo\, Universidad de Oviedo y AA Avilesina) junto a la Preselección Asturiana Cadete y que se jugará íntegramente en el Polideportivo de Rioturbio (Mieres)\, bajo la siguiente programación: \nFASE DE GRUPOS: \nGRUPO A\nVIERNES 19 (20:00H): CDB FODEBA – BVM2012\nSÁBADO 20 (20:00H): BVM2012 – CD ART-CHIVO\nDOMINGO 21 (18:00H): CD ART-CHIVO – CDB FODEBA \nGRUPO B\nVIERNES 19 (18:30H) UNIVERSIDAD DE OVIEDO – PRESELECCIÓN ASTURIANA CADETE\nSÁBADO 20 (18:00H) PRESELECCIÓN ASTURIANA CADETE – AA AVILESINA\nDOMINGO 21 (16:00H) AA AVILESINA – UNIVERSIDAD DE OVIEDO \nSEMIFINALES\nSÁBADO 27 (18:00H) SEMIFINAL 1: 1° A – 2° B\nSÁBADO 27 (20:00H) SEMIFINAL 2: 1° B – 2° A \nFINAL\nDOMINGO 28 (16:00H) GANADOR SEMIFINAL 1 – GANADOR SEMIFINAL 2 \n  \n\n 
URL:https://www.mieres.es/evento/baloncesto-copa-principado-nacional-femenina-2025-fase-de-grupos-3/
LOCATION:Polideportivo de Returbiu\, Rioturbio\, 33614
CATEGORIES:Deportes
ATTACH;FMTTYPE=image/jpeg:https://www.mieres.es/wp-content/uploads/2025/09/CARTEL-COPA-PRINCIPADO-NACIONAL-FEMENINA.jpg
GEO:43.2653376;-5.7388431
END:VEVENT
BEGIN:VEVENT
DTSTART;TZID=Europe/Madrid:20250921T163000
DTEND;TZID=Europe/Madrid:20250921T163000
DTSTAMP:20260421T051708
CREATED:20250912T113743Z
LAST-MODIFIED:20250912T113743Z
UID:75542-1758472200-1758472200@www.mieres.es
SUMMARY:Campeonato de Asturias de Ajedrez por equipos 2025 (Sub12 y Sub18)
DESCRIPTION:Ajedrez \nCampeonato de Asturias de Ajedrez por equipos 2025\n(Sub12 y Sub18)\n12\, 13\, 27 y 28 de septiembre. A partir de las 16:30h.\nMieres Centru Cultural \n\n\n \n1.- El torneo se disputará en el Centru Cultural Mieres (Calle Jerónimo Ibrán 8 de Mieres)\, los días 12\, 13\, 27 y 28 de septiembre a partir de las 16:30 y organizado por el Club de Ajedrez Mieres del Camino.\n2.- Se disputarán dos torneos separados\, uno por cada categoría\, que serán válidos para Elo FIDE (las partidas donde uno de los jugadores tenga más de 1800 no computarán).\n3.- Cada club podrán presentar más de un equipo en cada categoría.\n4.- Los equipos estarán formados por un mínimo de 4 jugadores y un máximo de 20. El orden de fuerza del equipo y delegado\, se enviará por correo electrónico a info@ajedrezastur.es.\n5.- En los equipos de la categoría sub 18 se podrán inscribir jugadores federados con el club nacidos en 2007 y posteriores. Podrán jugar los jugadores inscritos en la categoría sub12 pero tendrán que figurar en el orden de fuerza inicial de la categoría sub18.\n6.- En los equipos de la categoría sub 12 se podrán inscribir jugadores federados con el club nacidos en 2013 y posteriores.\n7.-Se establecerán los sistemas de juego más adecuados en función del número de equipos inscritos en cada categoría.\n8.- Se jugarán dos partidas diarias a las 16:30 horas la primera y a las 18:30 la segunda.\n9.- El ritmo de juego será de 30 minutos de tiempo total con treinta segundos de incremento por jugada efectuada\, por jugador y durante toda la partida.\n10.- El número de tableros a los que se disputarán los encuentros es de cuatro para ambas categorías.\n11.- La puntuación en todas las categorías será 2\, 1\, 0\, según se haya ganado\, empatado o perdido el encuentro al sumar los resultados individuales.\n12.- La inscripción será realizada por los clubes y el plazo de inscripción finalizará el martes 9 de septiembre a las 19:00. Una vez finalizado el plazo de inscripción se remitirá la lista de inscritos a los clubes\, que tendrán hasta el jueves 11 de septiembre a las 19:00 para subsanar posibles errores.\n16.- Para todo aquello no recogido en esta circular será de aplicación el capítulo 11 del reglamento general de competiciones\, “Campeonatos de Equipos”.\n17.- Toda la información del torneo se publicará en la página web: https://www.ajedrezastur.es/campeonato-de-asturias-porequipos-sub-12-y-sub-18/ \n  \n\n 
URL:https://www.mieres.es/evento/campeonato-de-asturias-de-ajedrez-por-equipos-2025/2025-09-21/
LOCATION:Mieres Centru Cultural\, Calle Jerónimo Ibrán\, 10\, Mieres\, Asturias\, 33600
CATEGORIES:Deportes
ATTACH;FMTTYPE=image/jpeg:https://www.mieres.es/wp-content/uploads/2025/09/Cartel-ajedrez-septiembre-2025.jpg
END:VEVENT
BEGIN:VEVENT
DTSTART;TZID=Europe/Madrid:20250921T170000
DTEND;TZID=Europe/Madrid:20250921T190000
DTSTAMP:20260421T051708
CREATED:20250818T105712Z
LAST-MODIFIED:20250818T105712Z
UID:75257-1758474000-1758481200@www.mieres.es
SUMMARY:Taller de improvisación teatral "¡Vuelve la Impro!"
DESCRIPTION:Taller para adolescentes (entre 12 y 16 años) \nTaller de improvisación teatral\n“¡Vuelve la Impro!”\n📅 Comienza: Domingo\, 7 de septiembre de 2025\n📍 Lugar: Salón de Actos de la Casa de Cultura de Mieres\n🕔 Horario: Todos los domingos de septiembre\, de 17:00 a 19:00h.\n👥 Edad: 12 a 16 años \n☎ Inscripciones 985 46 62 62 (de 9 a 14h)\n🔢 Plazas limitadas: 15 \n\n  \n✨🎭 ¡Estrenamos Taller de IMPRO! 🎭✨ \n💡 Improvisar es jugar\, reír\, crear historias al vuelo… y descubrir que equivocarse es un regalo. \nAprende a potenciar tu creatividad y tu escucha activa con la increíble Noemi Miranda (@noemiyeimpro / Trivilorio Impro)\, una crack de la escena que te guiará para que la imaginación no tenga límites. \n🔥 Aquí TODO VALE: soltarte\, probar\, inventar y pasarlo en grande. \n  \n\n 
URL:https://www.mieres.es/evento/taller-de-improvisacion-teatral-vuelve-la-impro/2025-09-21/
LOCATION:Casa de Cultura Teodoro Cuesta\, Calle Manuel Llaneza\, 8\, Mieres\, Asturias\, 33600\, España
CATEGORIES:Juventud e Infancia
ATTACH;FMTTYPE=image/jpeg:https://www.mieres.es/wp-content/uploads/2025/08/Cartel_Impro-mieres-2025.jpg
ORGANIZER;CN="Concejal%C3%ADa%20de%20Infancia%20y%20Juventud":MAILTO:oij@ayto-mieres.es
GEO:43.2502294;-5.7729571
X-APPLE-STRUCTURED-LOCATION;VALUE=URI;X-ADDRESS=Casa de Cultura Teodoro Cuesta Calle Manuel Llaneza 8 Mieres Asturias 33600 España;X-APPLE-RADIUS=500;X-TITLE=Calle Manuel Llaneza\, 8:geo:-5.7729571,43.2502294
END:VEVENT
BEGIN:VEVENT
DTSTART;TZID=Europe/Madrid:20250921T200000
DTEND;TZID=Europe/Madrid:20250921T200000
DTSTAMP:20260421T051708
CREATED:20250917T122209Z
LAST-MODIFIED:20250917T122209Z
UID:75650-1758484800-1758484800@www.mieres.es
SUMMARY:Baloncesto: Final Four 1ª FBPA masculina Copa Asturias 2025 (final)
DESCRIPTION:Baloncesto: \nFinal Four 1ª FBPA masculina Copa Asturias 2025\n  \nLos días 20 y 21 de septiembre se pone en juego el título de la Copa de Asturias 1ª división FBPA masculina. \nLa F4 se disputará íntegramente en el Polideportivo de Rioturbio con los siguientes horarios: \n  \nSABADO 20 DE SEPTIEMBRE. SEMIFINALES \n10:30 REAL GRUPO DE CULTURA COVADONGA – GIJÓN BALONCESTO \n12:30  BALONCESTO VILLA DE MIERES – CENTRO ASTURIANO DE OVIEDO. \n  \nDOMINGO 21 DE SEPTIEMBRE. FINAL \n20:00  FINAL \n  \n\n 
URL:https://www.mieres.es/evento/baloncesto-final-four-1a-fbpa-masculina-copa-asturias-2025-final/
LOCATION:Polideportivo de Returbiu\, Rioturbio\, 33614
CATEGORIES:Deportes
ATTACH;FMTTYPE=image/jpeg:https://www.mieres.es/wp-content/uploads/2025/09/CARTEL-COPA-PRINCIPADO-NACIONAL-masculino.jpg
GEO:43.2653376;-5.7388431
END:VEVENT
END:VCALENDAR