BEGIN:VCALENDAR
VERSION:2.0
PRODID:-//Ayuntamiento de Mieres - ECPv5.16.1.1//NONSGML v1.0//EN
CALSCALE:GREGORIAN
METHOD:PUBLISH
X-WR-CALNAME:Ayuntamiento de Mieres
X-ORIGINAL-URL:https://www.mieres.es
X-WR-CALDESC:Eventos para Ayuntamiento de Mieres
BEGIN:VTIMEZONE
TZID:Europe/Madrid
BEGIN:DAYLIGHT
TZOFFSETFROM:+0100
TZOFFSETTO:+0200
TZNAME:CEST
DTSTART:20250330T010000
END:DAYLIGHT
BEGIN:STANDARD
TZOFFSETFROM:+0200
TZOFFSETTO:+0100
TZNAME:CET
DTSTART:20251026T010000
END:STANDARD
END:VTIMEZONE
BEGIN:VEVENT
DTSTART;TZID=Europe/Madrid:20250924T080000
DTEND;TZID=Europe/Madrid:20250924T170000
DTSTAMP:20260421T051729
CREATED:20250807T112055Z
LAST-MODIFIED:20250807T112055Z
UID:75218-1758700800-1758733200@www.mieres.es
SUMMARY:Falamos. Cursu semipresencial gratuitu d'Asturianu Edición 2025
DESCRIPTION: \nCursu semipresencial gratuitu d’Asturianu\nFALAMOS\nNivel Intermediu\n42 hores: 20h presenciales y 22h en llínia\nClases presenciales en 8 xornaes\, los miércoles de 16:00 a 18:30h.\nna Casa de Cultura Teodoro Cuesta de Mieres \nEntamu: 10 de setiembre \nInscripciones gratuites (n’orde d’inscripción) y más información na web: www.falamos.info \n  \n\n\n  \nUn añu más\, l´Ayuntamientu de Mieres pondrá clases d´asturianu al traviés del programa FALAMOS en collaboración col Principáu d´Asturies\, qu’ufierta cursos semipresenciales gratuitos d’asturianu pa la población adulto nel cuartu trimestre de 2025. \nNesta convocatoria el nivel sedrá l´intermediu. \nEl cursu ye de 42 hores: 20h presenciales y 22h en llínia. Les clases presenciales fairánse en 8 xornaes de dos hores y media cada una\, en Mieres\, el Cursu daráse nel Aula Grande de la Casa de Cultura “Teodoro Cuesta”. \nLes clases entamarán el día 10 de setiembre\, na Casa de Cultura\, los miércoles\, con horariu de 16:00 a 18:30h.\, del 10/09/2025 al 29/10/2025. \nEsti proyectu ye una colaboración ente la FACC y la Dirección Xeneral de Política Llingüística del Principáu d’Asturies\, enxunto con la Conceyalía de Normalización Llingüística del Ayuntamiento de Mieres. \n\n\nPROGRAMA \nMódulo 1: Asturies\, destín turísticu. L’artículu\, L’apostrofación. Les contracciones. La negación.\nMódulo 2: Mercando y fartucando. Sustantivu y axetivu. Xéneru y númberu. Sustantivos cuntables y non cuntables. El Grau superlativu del axetivu.\nMódulo 3: Espaciu Natural. Pronomes personales. La reflexividá.\nMódulo 4: Músiques y lletres. Indefiníos\, demostrativos y numberales.\nMódulo 5: Polideportivu. Posesivos. Preposiciones.\nMódulo 6: De folixa. El verbu.\nMódulo 7: Medios y redes. Alverbiu y locuciones alverbiales.\nMódulo 8: Llingua y empresa. La oración subordinada: conxunciones y locuciones.
URL:https://www.mieres.es/evento/falamos-cursu-semipresencial-gratuitu-dasturianu-edicion-2025/2025-09-24/
LOCATION:Casa de Cultura Teodoro Cuesta\, Calle Manuel Llaneza\, 8\, Mieres\, Asturias\, 33600\, España
CATEGORIES:Llingua
ATTACH;FMTTYPE=image/jpeg:https://www.mieres.es/wp-content/uploads/2025/08/MIERES_ASTURIANO-INTERMEDIO-2025-falamos.jpg
GEO:43.2502294;-5.7729571
X-APPLE-STRUCTURED-LOCATION;VALUE=URI;X-ADDRESS=Casa de Cultura Teodoro Cuesta Calle Manuel Llaneza 8 Mieres Asturias 33600 España;X-APPLE-RADIUS=500;X-TITLE=Calle Manuel Llaneza\, 8:geo:-5.7729571,43.2502294
END:VEVENT
BEGIN:VEVENT
DTSTART;TZID=Europe/Madrid:20250924T160000
DTEND;TZID=Europe/Madrid:20250924T170000
DTSTAMP:20260421T051729
CREATED:20260115T130146Z
LAST-MODIFIED:20260115T130146Z
UID:77263-1758729600-1758733200@www.mieres.es
SUMMARY:Talleres de capacitación familiar
DESCRIPTION:Promoción de la salud \nTalleres de capacitación familiar\nImpartido por Fundación Siloé \nCasa de las Mujeres\, de 16 a 17:00 h\nLos jueves 15\, 22 y 29 de enero\, 5 y 12 de febrero \nInscripciones gratuitas online\, a través del formulario ofrecido en esta misma página \n\n\n\n\nEstos talleres se enmarcan dentro de la promoción de la salud\, trabajando a nivel de capacitación familiar sobre:\n\nEtapas evolutivas del desarrollo.\nLa crianza y estilos educativos.\nRegulación emocional y vínculo.\nHabilidades comunicativas.\nFormas de aprendizaje\, normas y límites.
URL:https://www.mieres.es/evento/talleres-de-capacitacion-familiar/2025-09-24/
LOCATION:Casa de las Mujeres\, C/ Jerónimo Ibrán 19\, Mieres\, Asturias\, 33600\, España
CATEGORIES:Salud,Taller
ATTACH;FMTTYPE=image/jpeg:https://www.mieres.es/wp-content/uploads/2026/01/Talleres-Capacitacion-Familiar-2026.jpg
GEO:43.2512334;-5.7731606
X-APPLE-STRUCTURED-LOCATION;VALUE=URI;X-ADDRESS=Casa de las Mujeres C/ Jerónimo Ibrán 19 Mieres Asturias 33600 España;X-APPLE-RADIUS=500;X-TITLE=C/ Jerónimo Ibrán 19:geo:-5.7731606,43.2512334
END:VEVENT
BEGIN:VEVENT
DTSTART;TZID=Europe/Madrid:20250924T170000
DTEND;TZID=Europe/Madrid:20250924T190000
DTSTAMP:20260421T051729
CREATED:20250827T090232Z
LAST-MODIFIED:20250827T090232Z
UID:75395-1758733200-1758740400@www.mieres.es
SUMMARY:"MARCHANDO" Juegos Infantiles en Returbiu
DESCRIPTION:MARCHANDO\nJuegos Infantiles\nen Returbiu\nTodos los miércoles\, del 1 al 26 de septiembre\, de 17 a 19:00h.\nCancha Polideportiva- (en caso de lluvia se trasladaría al Colegio Público) \nPara chicos y chicas entre 5 y 16 años\nNo es necesaria inscripción \n\n  \nEl Ayuntamiento de Mieres\, través de la Concejalía de Igualdad\, Feminismo\, Juventud e Infancia pone en marcha un nuevo programa dentro del marco del Plan Corresponsables\, destinado a peques y adolescentes entre 5 y 16 años\, con un sinfín de actividades que seguro disfrutarán\, siendo el objetivo propuesto  fomentar el deporte\, la actividad física y unos hábitos saludables a través del ocio.\n\nEl programa está financiado por el Plan Corresponsables\, a través de fondos del Ministerio de Igualdad – Secretaría de Estado de Igualdad y contra la Violencia de Género\, dicho plan se ejecuta por el Gobierno del Principado de Asturias a través de su Dirección General de Igualdad con la colaboración de los ayuntamientos asturianos\, entre ellos el de Mieres.\n\nEl horario previsto es de 17 a 19 horas\, celebrándose en los siguientes días y lugares :\n\nLunes: en Turón\, en el Parque\, y si llueve en el Polideportivo.\nMartes: en Figaredo\, Parque Tartiere.\nMiércoles: Rioturbio\, en la Cancha.\nJueves: Mieres: Parque Jovellanos\, y si llueve Colegio Santiago Apóstol.\nViernes: Santullano\, en la Cancha.\n\n\nEs una actividad gratuita y sin previa inscripción\, por lo que esperamos que resulte de interés para las familias\, contribuyendo al mismo tiempo a la conciliación y recuperar ese espacio de la calle donde la convivencia de la infancia y la adolescencia crea lazos a través del juego colaborativo.\n\nNos vemos¡¡
URL:https://www.mieres.es/evento/marchando-juegos-infantiles-en-returbiu/2025-09-24/
LOCATION:Polideportivo de Returbiu\, Rioturbio\, 33614
CATEGORIES:Juventud e Infancia
ATTACH;FMTTYPE=image/jpeg:https://www.mieres.es/wp-content/uploads/2025/08/cartel-Marchando-Mieres.jpg
ORGANIZER;CN="Concejal%C3%ADa%20de%20Infancia%20y%20Juventud":MAILTO:oij@ayto-mieres.es
GEO:43.2653376;-5.7388431
END:VEVENT
BEGIN:VEVENT
DTSTART;TZID=Europe/Madrid:20250924T173000
DTEND;TZID=Europe/Madrid:20250924T173000
DTSTAMP:20260421T051729
CREATED:20250918T112705Z
LAST-MODIFIED:20250918T112705Z
UID:75671-1758735000-1758735000@www.mieres.es
SUMMARY:Semana de los Mártires 2025 en la Residencia Valle del Caudal: Musicoterapia. "Aquellos tiempos cuando subíamos a los Mártires"
DESCRIPTION:Semana de los Mártires 2025\nen la Residencia Valle del Caudal \nMiércoles\, 24 de septiembre\n17:30h. \nMusicoterapia y reminiscencias\n“Aquellos tiempos cuando subíamos a los Mártires”\n  \nResidencia Valle del Caudal -Mieres- \nActividades dirigidas a los/as residentes\, familiares y amistades \n\n 
URL:https://www.mieres.es/evento/semana-de-los-martires-2025-en-la-residencia-valle-del-caudal-musicoterapia-aquellos-tiempos-cuando-subiamos-a-los-martires/
LOCATION:Residencia de personas mayores Valle del Caudal\, Calle Doce de Octubre s/n\, Mieres\, Asturias\, 33600
CATEGORIES:Bienestar Social
ATTACH;FMTTYPE=image/jpeg:https://www.mieres.es/wp-content/uploads/2025/09/Cartel-Fiestas-Martires-OASS-2025.jpg
GEO:43.2523473;-5.773673
X-APPLE-STRUCTURED-LOCATION;VALUE=URI;X-ADDRESS=Residencia de personas mayores Valle del Caudal Calle Doce de Octubre s/n Mieres Asturias 33600;X-APPLE-RADIUS=500;X-TITLE=Calle Doce de Octubre s/n:geo:-5.773673,43.2523473
END:VEVENT
BEGIN:VEVENT
DTSTART;TZID=Europe/Madrid:20250924T190000
DTEND;TZID=Europe/Madrid:20250924T190000
DTSTAMP:20260421T051729
CREATED:20250924T104003Z
LAST-MODIFIED:20250924T104101Z
UID:75750-1758740400-1758740400@www.mieres.es
SUMMARY:Sesión informativa a la ciudadanía sobre el nuevo PGO. Turón
DESCRIPTION:Coloquio: \nSesión informativa a la ciudadanía\nsobre el nuevo Plan General de Ordenación\nTURÓN\nMiércoles\, 24 de septiembre de 2025. 19:00 horas \nSalón de actos del antiguo Colegio La Salle\nEntrada gratuita hasta completar aforo. \n\n  \nEl Equipo Redactor del PGO y las responsables del área de Desarrollo Urbano Sostenible del Gobierno de Mieres informarán sobre el Plan General de Ordenación y resolverán las dudas de los vecinos y las vecinas. \n  \n\n 
URL:https://www.mieres.es/evento/sesion-informativa-a-la-ciudadania-sobre-el-nuevo-pgo-turon/
LOCATION:Antiguo Colegio La Salle -Turón-\, Calle San Juan Bautista de la Salle\, 26\, Turón -Mieres-\, 33610
CATEGORIES:Charlas-coloquio
ATTACH;FMTTYPE=image/jpeg:https://www.mieres.es/wp-content/uploads/2025/09/TURON-Anuncio-sesiones-informativas-PGO-scaled.jpg
END:VEVENT
BEGIN:VEVENT
DTSTART;TZID=Europe/Madrid:20250924T193000
DTEND;TZID=Europe/Madrid:20250924T193000
DTSTAMP:20260421T051729
CREATED:20250916T072806Z
LAST-MODIFIED:20250916T073142Z
UID:75571-1758742200-1758742200@www.mieres.es
SUMMARY:Presentación del libro: "Palestina\, la existencia negada"\, de Teresa Aranguren
DESCRIPTION:Presentación del libro: \n\nPalestina\, la existencia negada\nde Teresa Aranguren\n\nEdiciones del Oriente y el Mediterráneo \nOrganizado por Asociación Amigos de Mieres \n\n\nSalón de actos de la casa de Cultura Teodoro Cuesta\nEntrada gratuita hasta completar aforo \n\n\n\n\n  \nAntes de ser problema\, conflicto o reverso trágico del Estado de Israel\, Palestina fue simplemente Palestina\, lo cual es una obviedad\, pero una obviedad silenciada y no por casualidad. \nCon una escritura clara y una documentación precisa\, Teresa Aranguren despliega ante nuestros ojos el origen de lo que se ha dado en llamar el conflicto palestino-israelí. \nDesde sus orígenes\, en las postrimerías del siglo XIX con el nacimiento del sionismo\, hasta el genocidio en curso perpetrado por el Estado de Israel. Y se inicia con lo que hoy consideraríamos un tremendo bulo\, de una enorme eficacia porque\, a pesar del desmentido de los hechos\, se mantiene vigente: «Una tierra sin pueblo para un pueblo sin tierra». \n  \nTeresa Aranguren es licenciada en Filosofía y Letras y Diplomada en Psicología y Antropología por la Universidad Complutense de Madrid. Comenzó su carrera como periodista en 1971. En 1981 era corresponsal de Mundo Obrero cubriendo la invasión de Israel sobre el Líbano\, también trabajó para la revista Interviú o el periódico El Independiente cubriendo la guerra de Irán-Irak en Teherán. Fue la única mujer que cubrió esta guerra como enviada especial\, exceptuando a una fotógrafa libanesa. \nDurante 15 años (desde 1989) fue la enviada en Oriente Medio de Telemadrid\, cubriendo las sucesivas guerras del Golfo\, el conflicto palestino-israelí y la guerra de los Balcanes. En esta ocasión Telemadrid fue la primera televisión española en llegar a Belgrado durante la campaña de bombardeos de la OTAN. Ha publicado los libros “Palestina: El hilo de la memoria”\, “Olivo Roto: Escenas de la ocupación” y más recientemente\, junto a la fotógrafa Sandra Barrilaro y los escritores palestinos Bichara Jader y John Mansour\, “Contra el olvido\, una memoria fotográfica de Palestina antes de la Nakba”. Es una gran conocedora del mundo árabe y de sus principales protagonistas. \n\nEn todas sus obras se ha destacado su interés por romper los estereotipos y barreras culturales y mostrar el valor humano de aquellos a quienes el azar de la geografía y de la historia ha convertido en víctimas. \n  \n\n\n 
URL:https://www.mieres.es/evento/presentacion-del-libro-palestina-la-existencia-negada-de-teresa-aranguren/
LOCATION:Casa de Cultura Teodoro Cuesta\, Calle Manuel Llaneza\, 8\, Mieres\, Asturias\, 33600\, España
CATEGORIES:Letras
ATTACH;FMTTYPE=image/jpeg:https://www.mieres.es/wp-content/uploads/2025/09/libro-palestina-existencia-negada.jpg
GEO:43.2502294;-5.7729571
X-APPLE-STRUCTURED-LOCATION;VALUE=URI;X-ADDRESS=Casa de Cultura Teodoro Cuesta Calle Manuel Llaneza 8 Mieres Asturias 33600 España;X-APPLE-RADIUS=500;X-TITLE=Calle Manuel Llaneza\, 8:geo:-5.7729571,43.2502294
END:VEVENT
END:VCALENDAR