BEGIN:VCALENDAR
VERSION:2.0
PRODID:-//Ayuntamiento de Mieres - ECPv5.16.1.1//NONSGML v1.0//EN
CALSCALE:GREGORIAN
METHOD:PUBLISH
X-WR-CALNAME:Ayuntamiento de Mieres
X-ORIGINAL-URL:https://www.mieres.es
X-WR-CALDESC:Eventos para Ayuntamiento de Mieres
BEGIN:VTIMEZONE
TZID:Europe/Madrid
BEGIN:DAYLIGHT
TZOFFSETFROM:+0100
TZOFFSETTO:+0200
TZNAME:CEST
DTSTART:20250330T010000
END:DAYLIGHT
BEGIN:STANDARD
TZOFFSETFROM:+0200
TZOFFSETTO:+0100
TZNAME:CET
DTSTART:20251026T010000
END:STANDARD
END:VTIMEZONE
BEGIN:VEVENT
DTSTART;VALUE=DATE:20250927
DTEND;VALUE=DATE:20250928
DTSTAMP:20260421T051744
CREATED:20250917T105815Z
LAST-MODIFIED:20250917T105815Z
UID:75621-1758931200-1759017599@www.mieres.es
SUMMARY:Romería de los Santos Mártires de Cuna 2025
DESCRIPTION:  \nFiestas de los Mártires de Cuna 2025 \nPrograma. Sábado\, 27\nRomería de los Mártires \n \n  \nEXPLANADA DE LA ERMITA \n07:00h. Primera misa en el Santuario\, posteriormente\, una a cada hora. \n11.00 h. Subida a la ermita con el Grupo folklórico L’Artusu y de la Banda de Gaites “Villa de Mieres”. \n12:00 h. Misa Mayor\, procesión de los Santos Mártires y Puya’l Ramu. \n13:00 h. Actuación del Grupo folklórico L’Artusu y de la Banda de Gaites “Villa de Mieres”. \n  \nEN LA CARPA DE INSIERTO \n17:00 h. Orquesta “Caramelo Show”. \n19:15 h. Orquesta “Tatto”. \n21:30 h. Caramelo Show (2º pase). \n22:45 h. Tatto (2º pase). \n00:00 h. DJ Masid. \n  \n\n \n  \n 
URL:https://www.mieres.es/evento/romeria-de-los-santos-martires-de-cuna-2025/
LOCATION:Insierto\, Santuario de los Mártires San Cosme y San Damián\, Asturias\, 33615
CATEGORIES:Festejos
ATTACH;FMTTYPE=image/jpeg:https://www.mieres.es/wp-content/uploads/2025/09/Cartel-fiestas-martires-2025-e1758799022567.jpg
GEO:43.2208629;-5.8065033
X-APPLE-STRUCTURED-LOCATION;VALUE=URI;X-ADDRESS=Insierto Santuario de los Mártires San Cosme y San Damián Asturias 33615;X-APPLE-RADIUS=500;X-TITLE=Santuario de los Mártires San Cosme y San Damián:geo:-5.8065033,43.2208629
END:VEVENT
BEGIN:VEVENT
DTSTART;TZID=Europe/Madrid:20250927T180000
DTEND;TZID=Europe/Madrid:20250927T180000
DTSTAMP:20260421T051744
CREATED:20250917T123356Z
LAST-MODIFIED:20250917T123356Z
UID:75660-1758996000-1758996000@www.mieres.es
SUMMARY:Baloncesto: Copa Principado Nacional Femenina 2025 (semifinales)
DESCRIPTION:Baloncesto: \nCopa Principado Nacional Femenina 2025\n  \nMieres acoge la primera competición oficial de la temporada 2025/2026 de baloncesto femenino\, en forma del inicio de la Copa Principado Nacional Femenina\, competición que reúne\, durante los dos próximos fines de semana\, a los cinco equipos asturianos de la categoría (CDB FODEBA\, BVM2012\, CD Art-Chivo\, Universidad de Oviedo y AA Avilesina) junto a la Preselección Asturiana Cadete y que se jugará íntegramente en el Polideportivo de Rioturbio (Mieres)\, bajo la siguiente programación: \nFASE DE GRUPOS: \nGRUPO A\nVIERNES 19 (20:00H): CDB FODEBA – BVM2012\nSÁBADO 20 (20:00H): BVM2012 – CD ART-CHIVO\nDOMINGO 21 (18:00H): CD ART-CHIVO – CDB FODEBA \nGRUPO B\nVIERNES 19 (18:30H) UNIVERSIDAD DE OVIEDO – PRESELECCIÓN ASTURIANA CADETE\nSÁBADO 20 (18:00H) PRESELECCIÓN ASTURIANA CADETE – AA AVILESINA\nDOMINGO 21 (16:00H) AA AVILESINA – UNIVERSIDAD DE OVIEDO \nSEMIFINALES\nSÁBADO 27 (18:00H) SEMIFINAL 1: 1° A – 2° B\nSÁBADO 27 (20:00H) SEMIFINAL 2: 1° B – 2° A \nFINAL\nDOMINGO 28 (16:00H) GANADOR SEMIFINAL 1 – GANADOR SEMIFINAL 2 \n  \n\n 
URL:https://www.mieres.es/evento/baloncesto-copa-principado-nacional-femenina-2025-semifinales/
LOCATION:Polideportivo de Returbiu\, Rioturbio\, 33614
CATEGORIES:Deportes
ATTACH;FMTTYPE=image/jpeg:https://www.mieres.es/wp-content/uploads/2025/09/CARTEL-COPA-PRINCIPADO-NACIONAL-FEMENINA.jpg
GEO:43.2653376;-5.7388431
END:VEVENT
END:VCALENDAR