BEGIN:VCALENDAR
VERSION:2.0
PRODID:-//Ayuntamiento de Mieres - ECPv5.16.1.1//NONSGML v1.0//EN
CALSCALE:GREGORIAN
METHOD:PUBLISH
X-WR-CALNAME:Ayuntamiento de Mieres
X-ORIGINAL-URL:https://www.mieres.es
X-WR-CALDESC:Eventos para Ayuntamiento de Mieres
BEGIN:VTIMEZONE
TZID:Europe/Madrid
BEGIN:DAYLIGHT
TZOFFSETFROM:+0100
TZOFFSETTO:+0200
TZNAME:CEST
DTSTART:20250330T010000
END:DAYLIGHT
BEGIN:STANDARD
TZOFFSETFROM:+0200
TZOFFSETTO:+0100
TZNAME:CET
DTSTART:20251026T010000
END:STANDARD
END:VTIMEZONE
BEGIN:VEVENT
DTSTART;TZID=Europe/Madrid:20250930T130000
DTEND;TZID=Europe/Madrid:20250930T140000
DTSTAMP:20260421T035408
CREATED:20250620T115417Z
LAST-MODIFIED:20250620T115417Z
UID:74827-1759237200-1759240800@www.mieres.es
SUMMARY:¡No te quedes en casa! Espacios de salida temprana en colegios (9/30SEP)
DESCRIPTION:  \n¡No te quedes en casa! \nEspacios de salida temprana en colegios\nDel 9 al 30 de septiembre de 2025\nde lunes a viernes\, de 13 a 14h. \nEn todos los colegios del concejo \n\n  \nPrograma dirigido al alumnado de Infantil y Primaria para ofrecer las mejores actividades y acompañamiento\, mientras fortalecen la sana convivencia\, durante la reducción de la jornada escolar\, facilitando la conciliación familiar. \nFORMULARIO DE INSCRIPCIÓN\n  \nCargando…
URL:https://www.mieres.es/evento/no-te-quedes-en-casa-espacios-de-salida-temprana-en-colegios-9-30sep-2/
LOCATION:Varias ubicaciones
CATEGORIES:Juventud e Infancia
ATTACH;FMTTYPE=image/jpeg:https://www.mieres.es/wp-content/uploads/2025/06/cartel-web-2025-¡no-te-quedes-en-casa.jpg
ORGANIZER;CN="Concejal%C3%ADa%20de%20Infancia%20y%20Juventud":MAILTO:oij@ayto-mieres.es
END:VEVENT
BEGIN:VEVENT
DTSTART;TZID=Europe/Madrid:20250930T170000
DTEND;TZID=Europe/Madrid:20250930T170000
DTSTAMP:20260421T035408
CREATED:20250924T105646Z
LAST-MODIFIED:20250924T105646Z
UID:75757-1759251600-1759251600@www.mieres.es
SUMMARY:Sesión informativa a la ciudadanía sobre el nuevo PGO. Cenera
DESCRIPTION:Coloquio: \nSesión informativa a la ciudadanía\nsobre el nuevo Plan General de Ordenación\nCENERA\nMartes\, 30 de septiembre de 2025. 17:00 horas \nLocal de la Asociación Vecinal\nEntrada libre \n\n  \nEl Equipo Redactor del PGO y las responsables del área de Desarrollo Urbano Sostenible del Gobierno de Mieres informarán sobre el Plan General de Ordenación y resolverán las dudas de los vecinos y las vecinas. \n  \n\n 
URL:https://www.mieres.es/evento/sesion-informativa-a-la-ciudadania-sobre-el-nuevo-pgo-cenera/
LOCATION:Cenera\, Cenera\, Asturias\, 33615\, España
CATEGORIES:Charlas-coloquio
ATTACH;FMTTYPE=image/jpeg:https://www.mieres.es/wp-content/uploads/2025/09/CENERA-Anuncio-sesiones-informativas-PGO-scaled.jpg
GEO:43.2176497;-5.8185729
END:VEVENT
BEGIN:VEVENT
DTSTART;TZID=Europe/Madrid:20250930T190000
DTEND;TZID=Europe/Madrid:20250930T190000
DTSTAMP:20260421T035408
CREATED:20250923T095608Z
LAST-MODIFIED:20250923T101547Z
UID:75692-1759258800-1759258800@www.mieres.es
SUMMARY:Día Mundial del Alzheimer. Ponencias y coloquio: "Igualando derechos"
DESCRIPTION:Ponencias y coloquio: \nDía Mundial del Alzheimer\n“Igualando derechos”\n\nMartes\, 30 de septiembre de 2025\, 19:00h.\nSalón de actos de la casa de Cultura Teodoro Cuesta \nEntrada libre hasta completar aforo \nOrganizado por Asociación Alzheimer Asturias \n\n 
URL:https://www.mieres.es/evento/dia-mundial-del-alzheimer-ponencias-y-coloquio-igualando-derechos/
LOCATION:Casa de Cultura Teodoro Cuesta\, Calle Manuel Llaneza\, 8\, Mieres\, Asturias\, 33600\, España
CATEGORIES:Charlas-coloquio,Salud
ATTACH;FMTTYPE=image/jpeg:https://www.mieres.es/wp-content/uploads/2025/09/Cartel-dia-mundial-alzheimer-2025-mieres_Pagina_1.jpg
GEO:43.2502294;-5.7729571
X-APPLE-STRUCTURED-LOCATION;VALUE=URI;X-ADDRESS=Casa de Cultura Teodoro Cuesta Calle Manuel Llaneza 8 Mieres Asturias 33600 España;X-APPLE-RADIUS=500;X-TITLE=Calle Manuel Llaneza\, 8:geo:-5.7729571,43.2502294
END:VEVENT
BEGIN:VEVENT
DTSTART;TZID=Europe/Madrid:20250930T190000
DTEND;TZID=Europe/Madrid:20250930T190000
DTSTAMP:20260421T035408
CREATED:20250924T112250Z
LAST-MODIFIED:20250924T112250Z
UID:75760-1759258800-1759258800@www.mieres.es
SUMMARY:Sesión informativa a la ciudadanía sobre el nuevo PGO. Santa Cruz
DESCRIPTION:Coloquio: \nSesión informativa a la ciudadanía\nsobre el nuevo Plan General de Ordenación\nSANTA CRUZ\nMartes\, 30 de septiembre de 2025. 19:00 horas \nLocal de la Asociación Vecinal\nEntrada libre \n\n  \nEl Equipo Redactor del PGO y las responsables del área de Desarrollo Urbano Sostenible del Gobierno de Mieres informarán sobre el Plan General de Ordenación y resolverán las dudas de los vecinos y las vecinas. \n  \n\n 
URL:https://www.mieres.es/evento/sesion-informativa-a-la-ciudadania-sobre-el-nuevo-pgo-santa-cruz/
LOCATION:Santa Cruz\, 33612
CATEGORIES:Charlas-coloquio
ATTACH;FMTTYPE=image/jpeg:https://www.mieres.es/wp-content/uploads/2025/09/CENERA-Anuncio-sesiones-informativas-PGO-scaled.jpg
END:VEVENT
END:VCALENDAR