BEGIN:VCALENDAR
VERSION:2.0
PRODID:-//Ayuntamiento de Mieres - ECPv5.16.1.1//NONSGML v1.0//EN
CALSCALE:GREGORIAN
METHOD:PUBLISH
X-WR-CALNAME:Ayuntamiento de Mieres
X-ORIGINAL-URL:https://www.mieres.es
X-WR-CALDESC:Eventos para Ayuntamiento de Mieres
BEGIN:VTIMEZONE
TZID:Europe/Madrid
BEGIN:DAYLIGHT
TZOFFSETFROM:+0100
TZOFFSETTO:+0200
TZNAME:CEST
DTSTART:20250330T010000
END:DAYLIGHT
BEGIN:STANDARD
TZOFFSETFROM:+0200
TZOFFSETTO:+0100
TZNAME:CET
DTSTART:20251026T010000
END:STANDARD
END:VTIMEZONE
BEGIN:VEVENT
DTSTART;VALUE=DATE:20251011
DTEND;VALUE=DATE:20251012
DTSTAMP:20260419T141822
CREATED:20251006T092840Z
LAST-MODIFIED:20251006T092840Z
UID:75962-1760140800-1760227199@www.mieres.es
SUMMARY:XII Ochobre Folk. Festival de baille y música tradicional
DESCRIPTION:XII Ochobre Folk\nFestival de baille y música tradicional\n10\, 11 y 12  d’ochobre 2025 \n  \nPrograma sábadu\, 11 d’ochobre: \nParque Xovellanos \n\n11:00h Taller: AVERAMIENTU AL PANDERU CUADRÁU DEPEÑAPARDA Y LOS SOS BAILLES con Cefe Torres y David Vicente. (Preciu -15€\, reserves vía whatsapp nel 625012328)\n12:00h DESFILE DE LA ESCOLA DE GAITAS DE ORTIGUEIRA\n12:30h TALLER BAILLE PA NEÑ@S\n13:00h TALLER BAILLE ASTURIANU\, CHARRU Y GALLEGU\n18:00h. DESFILE DE GRUPOS Peles Cais\n18:30h ALCUENTRU FOLCLÓRICU COLOS GRUPOS:\n– Grupu Folclóricu Prau LLerón (Asturies)\n– Grupo Folclórico Surco (Salamanca)\n– Escola de gaitas de Ortigueira (Galicia)\n21:00h Bandina LOS COLLAÍNOS\n23:00h Conciertos con: PICARÓS\n\n  \n  \n  \n\n 
URL:https://www.mieres.es/evento/xii-ochobre-folk-festival-de-baille-y-musica-tradicional-3/
LOCATION:Parque Xovellanos\, Parque Xovellanos\, Mieres\, Asturias\, 33600 
CATEGORIES:Cultura Tradicional
ATTACH;FMTTYPE=image/jpeg:https://www.mieres.es/wp-content/uploads/2025/09/ochobre-folk-2025.jpg
GEO:43.2517322;-5.7764018
X-APPLE-STRUCTURED-LOCATION;VALUE=URI;X-ADDRESS=Parque Xovellanos Parque Xovellanos Mieres Asturias 33600;X-APPLE-RADIUS=500;X-TITLE=Parque Xovellanos:geo:-5.7764018,43.2517322
END:VEVENT
BEGIN:VEVENT
DTSTART;TZID=Europe/Madrid:20251011T170000
DTEND;TZID=Europe/Madrid:20251011T170000
DTSTAMP:20260419T141822
CREATED:20250926T075824Z
LAST-MODIFIED:20250926T080224Z
UID:75804-1760202000-1760202000@www.mieres.es
SUMMARY:Otoño Turístico y Cultural 2025: "Visita guiada conmemorativa de la inauguración de la Iglesia de Bustiello" (11OCT)
DESCRIPTION:OTOÑO TURÍSTICO Y CULTURAL EN MIERES 2025\nVisitas guiadas gratuitas\n  \nVISITA GUIADA CONMEMORATIVA DE LA INAUGURACIÓN DE LA IGLESIA DE BUSTIELLO \nInaugurada el 11 de octubre de 1894\, la iglesia del poblado minero de Bustiello es un testimonio vivo del paternalismo ejercido por parte del empresariado de la época. Destaca por su valor histórico y artístico\, así como por su inserción en el conjunto del poblado. El templo\, definido como el “pequeño Vaticano”\, es de estilo historicista e incorpora en su factura elementos de tradición románica y gótica. \n  \nDETALLES DE LA ACTIVIDAD \n\nHora: 17:00 h.\nPunto de encuentro: Centro de Interpretación del poblado minero de Bustiello. Enlace Google Maps: https://maps.app.goo.gl/g7ydoAHr6HR7WPgv8\nDuración aproximada: 1 h 30 min\nServicios incluidos: guía en español\nServicios no incluidos: traslados al punto de encuentro.\nAccesibilidad: esta ruta no es accesible para personas con movilidad reducida.\nEdad mínima: 14 años.\nCuándo reservar: puedes hacerlo hasta 48 horas antes de la actividad\, siempre y cuando haya plazas disponibles.\nMascotas: no permitidas\nEsta actividad necesita un mínimo de 5 participantes. En caso de no alcanzar ese número\, nos pondremos en contacto contigo para comunicártelo.\n\n  \nRESERVAS \nPlazas limitadas. Imprescindible formalizar reserva previa con 48 horas de antelación a la actividad. La reserva se realizará a través del formulario online (ofrecido en esta misma página\, más abajo). \n  \nCANCELACIONES \nPara cancelar la reserva realizada será necesario contactar con la Oficina de Turismo de Mieres a través de cualquiera de los siguientes medios: \n\nTfno.: 985 45 05 33\nE-mail: turismo@ayto-mieres.es\nWhastApp: https://wa.me/message/7WTB3WTX46UYE1\n\nLas plazas son limitadas y se habilitan listas de espera para suplir posibles cancelaciones\, motivo por el cual\, en el caso de que no puedan asistir a la ruta\, rogamos nos lo comuniquen con antelación para poder asignar las plazas a las personas que se encuentran en lista de espera. \nMás información:\nOficina de Turismo de Mieres\, C/Manuel Llaneza\, 8.\nTfno. 985450533. E-mail turismo@ayto-mieres.es \n\n  \nVisitas guiadas “Otoño turístico y cultural en Mieres 2025” \nLa Concejalía de Turismo del Ayuntamiento de Mieres pone en marcha\, en colaboración con otras áreas municipales\, la programación Otoño Turístico y Cultural con distintas rutas y visitas guiadas gratuitas para dar a conocer el patrimonio cultural e histórico del concejo y dinamizar la actividad en el territorio. Un amplio programa que incluye visitas guiadas al Pozu Santa Bárbara y a la nueva intervención artística “Framerate: Pulse of the Earth (El Pulso de la Tierra)” que se inaugura el 15 de octubre\, la Ruta de la Revolución de Octubre o visitas a la Iglesia de Bustiello o al Poblado Minero\, entre otras. De todo y para todos los gustos y públicos en un Otoño Turístico y Cultural que arranca el próximo 5 de octubre con más de una docena de citas. \nConsulta y descarga el programa completo aquí \n  \n\n  \n \nImportante:\nSi el formulario permite la inscripción\, significa que aún quedan plazas libres.\nEn el caso de estar completo\, el formulario se cierra automáticamente.\nImprescindible rellenar un formulario por persona. Cargando… 
URL:https://www.mieres.es/evento/otono-turistico-y-cultural-2025-visita-guiada-conmemorativa-de-la-inauguracion-de-la-iglesia-de-bustiello-11oct/
LOCATION:Iglesia de Bustiello\, Iglesia de Bustiello\, Mieres\, Asturias
CATEGORIES:Ruta Turística,Turismo
ATTACH;FMTTYPE=image/jpeg:https://www.mieres.es/wp-content/uploads/2025/09/Cartel_VisitasOtonoMieres_2025.jpg
ORGANIZER;CN="Concejal%C3%ADa%20de%20Turismo":MAILTO:turismo@ayto-mieres.es
GEO:43.1883258;-5.7685442
X-APPLE-STRUCTURED-LOCATION;VALUE=URI;X-ADDRESS=Iglesia de Bustiello Iglesia de Bustiello Mieres Asturias;X-APPLE-RADIUS=500;X-TITLE=Iglesia de Bustiello\, Mieres:geo:-5.7685442,43.1883258
END:VEVENT
END:VCALENDAR