BEGIN:VCALENDAR
VERSION:2.0
PRODID:-//Ayuntamiento de Mieres - ECPv5.16.1.1//NONSGML v1.0//EN
CALSCALE:GREGORIAN
METHOD:PUBLISH
X-WR-CALNAME:Ayuntamiento de Mieres
X-ORIGINAL-URL:https://www.mieres.es
X-WR-CALDESC:Eventos para Ayuntamiento de Mieres
BEGIN:VTIMEZONE
TZID:Europe/Madrid
BEGIN:DAYLIGHT
TZOFFSETFROM:+0100
TZOFFSETTO:+0200
TZNAME:CEST
DTSTART:20250330T010000
END:DAYLIGHT
BEGIN:STANDARD
TZOFFSETFROM:+0200
TZOFFSETTO:+0100
TZNAME:CET
DTSTART:20251026T010000
END:STANDARD
END:VTIMEZONE
BEGIN:VEVENT
DTSTART;TZID=Europe/Madrid:20251014T173000
DTEND;TZID=Europe/Madrid:20251014T173000
DTSTAMP:20260419T184610
CREATED:20250930T112855Z
LAST-MODIFIED:20251001T104053Z
UID:75882-1760463000-1760463000@www.mieres.es
SUMMARY:Ca mes un cuentu. Cuentacuentos n'asturianu\, con Andrea Lobo
DESCRIPTION:Ca mes un cuentu \nCuentacuentos n’asturianu\npor Andrea Lobo\nBiblioteca Pública de Mieres \nInscripción previa na Biblioteca. Aforo llindáu. \n\n  \nChirimbín\, chirimbaina! Vuelve la Bruxa Lloba a la biblioteca de Mieres. ¡Chirimbín\, chirimbón! ¿Qué Fechizocuentos saldrán güei? Chirimbín\, Chirimberes! El cestu máxicu ta enllenu de nuevos cuentos\, música y marionetes a la gueta los güeyos y oreyes. \nPa neños/es a partir de 3 años.\nEspectáculo de narración oral con títeres\, obxetos y música en direuto. \n✍️Podéis apuntavos na Biblioteca de Mieres\, n’horariu de 9:00 a 20:30 hores o al☎️ teléfonu 985456294 en Mieres.¡¡¡¡Esperámosvos!!!! \n 
URL:https://www.mieres.es/evento/ca-mes-un-cuentu-cuentacuentos-nasturianu-con-andrea-lobo-2/
LOCATION:Biblioteca Pública de Mieres\, Calle Manuel Llaneza\, 8\, Mieres\, Asturias\, 33600 \, España
CATEGORIES:Bibliotecas,Letras,Llingua,Teatro
ATTACH;FMTTYPE=image/jpeg:https://www.mieres.es/wp-content/uploads/2025/09/andrea-lobo-octubre-2025.jpg
GEO:43.2502294;-5.7729571
X-APPLE-STRUCTURED-LOCATION;VALUE=URI;X-ADDRESS=Biblioteca Pública de Mieres Calle Manuel Llaneza 8 Mieres Asturias 33600  España;X-APPLE-RADIUS=500;X-TITLE=Calle Manuel Llaneza\, 8:geo:-5.7729571,43.2502294
END:VEVENT
BEGIN:VEVENT
DTSTART;TZID=Europe/Madrid:20251014T193000
DTEND;TZID=Europe/Madrid:20251014T193000
DTSTAMP:20260419T184610
CREATED:20251001T104654Z
LAST-MODIFIED:20251008T080232Z
UID:75906-1760470200-1760470200@www.mieres.es
SUMMARY:Laboral Cinemateca Ambulante Mieres: "La receta perfecta"\, de Louise Curvoisier
DESCRIPTION:Laboral Cinemateca Ambulante \n\nProyección de la película: \n“La receta perfecta”\nde Louise Curvoisier\n  \nAuditoriu Teodoro Cuesta\nEntrada libre hasta completar aforo \n\n  \nTotone\, de 18 años\, pasa la mayor parte del tiempo bebiendo cerveza y yendo de fiesta con su grupo de amigos\, en la región del Jura. Pero la realidad y la desgracia le atrapan\, y tiene que buscarse la vida y cuidar de su hermana de 7 años. Entonces se propone fabricar el mejor queso Comté de la región\, el que le haría ganar la medalla de oro en el concurso agrícola\, dotado con 30.000 euros. \n  \nFrancia | 2024 | 90 min. | VOSE francés | NR -12 \nDirección: Louise Curvoisier \nGuion: Théo Abadie\, Louise Curvoisier \nReparto: Clément Faveau\, Luna Garret\, Mathis Bertrand\, Dimitry Baudry\, Maïwène Barthelemy\, Armand Sancy Richard \nInformación adicional: Mejor actriz relevación y Mejor ópera prima en los Premios César 2025; Premio de la Juventud en el Festival de Cannes 2024; Premio Punto de Encuentro y Premio del público en el Festival Internacional de Cine de Valladolid\, SEMINCI 2024; Festival Internacional de Cine de Buenos Aires\, BAFICI 2024 \n  \nLa programación cinematográfica ofrecida por La Cinemateca Ambulante está coordinada por el Festival Internacional de Cine de Gijón/Xixón (Divertia Gijón S.A.).
URL:https://www.mieres.es/evento/laboral-cinemateca-ambulante-mieres-la-receta-perfecta-de-louise-curvoisier/
LOCATION:Casa de Cultura Teodoro Cuesta\, Calle Manuel Llaneza\, 8\, Mieres\, Asturias\, 33600\, España
CATEGORIES:Cine
ATTACH;FMTTYPE=image/jpeg:https://www.mieres.es/wp-content/uploads/2025/10/cine-mieres-receta-perfecta.jpeg
GEO:43.2502294;-5.7729571
X-APPLE-STRUCTURED-LOCATION;VALUE=URI;X-ADDRESS=Casa de Cultura Teodoro Cuesta Calle Manuel Llaneza 8 Mieres Asturias 33600 España;X-APPLE-RADIUS=500;X-TITLE=Calle Manuel Llaneza\, 8:geo:-5.7729571,43.2502294
END:VEVENT
END:VCALENDAR