BEGIN:VCALENDAR
VERSION:2.0
PRODID:-//Ayuntamiento de Mieres - ECPv5.16.1.1//NONSGML v1.0//EN
CALSCALE:GREGORIAN
METHOD:PUBLISH
X-WR-CALNAME:Ayuntamiento de Mieres
X-ORIGINAL-URL:https://www.mieres.es
X-WR-CALDESC:Eventos para Ayuntamiento de Mieres
BEGIN:VTIMEZONE
TZID:Europe/Madrid
BEGIN:DAYLIGHT
TZOFFSETFROM:+0100
TZOFFSETTO:+0200
TZNAME:CEST
DTSTART:20250330T010000
END:DAYLIGHT
BEGIN:STANDARD
TZOFFSETFROM:+0200
TZOFFSETTO:+0100
TZNAME:CET
DTSTART:20251026T010000
END:STANDARD
END:VTIMEZONE
BEGIN:VEVENT
DTSTART;TZID=Europe/Madrid:20251021T173000
DTEND;TZID=Europe/Madrid:20251021T173000
DTSTAMP:20260420T043236
CREATED:20251001T095536Z
LAST-MODIFIED:20251001T095536Z
UID:75887-1761067800-1761067800@www.mieres.es
SUMMARY:Cuentacuentos y Taller de animación a la lectura "El cuentu la bruxa"
DESCRIPTION:Cuentacuentos y taller de animación a la lectura\nEspecial Otoño \nEl cuentu la bruxa\nMartes\, 21 de octubre de 2025 \nBiblioteca Pública de Mieres. Sala juvenil \n\nLa Red de Bibliotecas Municipales de Mieres organiza un nuevo cuentacuentos y taller de animación a la lectura\, en esta ocasión “Especial otoño”… Disfrutareis de un divertido cuento\, de juegos y de una manualidad. Realizado por CuatroGotes Producciones. \n✍️Podéis apuntaros en la Biblioteca de Mieres\, hasta el 17 de febrero\, de lunes a viernes\, en horario de 9:00 a 20:30 horas o al ☎️ teléfono 985456294 ¡¡¡¡Os esperamos!!!! \n  \n\n  \n 
URL:https://www.mieres.es/evento/cuentacuentos-y-taller-de-animacion-a-la-lectura-el-cuentu-la-bruxa/
LOCATION:Biblioteca Pública de Mieres\, Calle Manuel Llaneza\, 8\, Mieres\, Asturias\, 33600 \, España
CATEGORIES:Bibliotecas,Cuentacuentos
ATTACH;FMTTYPE=image/jpeg:https://www.mieres.es/wp-content/uploads/2025/10/cuentu-bruxa-biblioteca-mieres-2025.jpg
ORGANIZER;CN="Red%20de%20Bibliotecas%20Municipales%20de%20Mieres":MAILTO:biblioteca@ayto-mieres.es
GEO:43.2502294;-5.7729571
X-APPLE-STRUCTURED-LOCATION;VALUE=URI;X-ADDRESS=Biblioteca Pública de Mieres Calle Manuel Llaneza 8 Mieres Asturias 33600  España;X-APPLE-RADIUS=500;X-TITLE=Calle Manuel Llaneza\, 8:geo:-5.7729571,43.2502294
END:VEVENT
BEGIN:VEVENT
DTSTART;TZID=Europe/Madrid:20251021T173000
DTEND;TZID=Europe/Madrid:20251021T173000
DTSTAMP:20260420T043236
CREATED:20251001T103354Z
LAST-MODIFIED:20251001T103354Z
UID:75901-1761067800-1761067800@www.mieres.es
SUMMARY:Entrega de Premios a los/as superlectores/as del año y Tardes con Leo: "Operación pico cerrado"
DESCRIPTION:Cuentacuentos\nTardes con Leo \nOperación pico cerrado\nde Ana Hochenleyter\ny Entrega de Premios a los/as superlectores/as del año\n  \nMartes\, 21 de octubre de 2025\n17:30h.\nBiblioteca Pública del Atenéu de Turón \n\n  \nCuentacuentos a cargo de Leo\, la mascota de las bibliotecas de nuestra Red de Bibliotecas Municipales\, basado en el libro Operación pico cerrado (Editorial Volteletras)\, escrito por Ana Hochenleyter e ilustrado por Leire Martín. Una historia muy divertida en la que nos veremos reflejados en muchos aspectos. \nOperación pico cerrado es un álbum ilustrado de humor\, autenticidad y amistad. Clotilde no puede estar callada\, por eso sus amigos han inventado una norma para poder dormir. Esta gallina lo pone muy difícil\, porque si cierra el pico\, un huevo se le escapa\, ¿Qué tendrán dentro? \n  \nPatrocinado por la Caja Rural de Asturias y realizado por Paula Huelga\, de Xitech.  ¡¡¡¡Os esperamos!!!! \n  \n\n 
URL:https://www.mieres.es/evento/entrega-de-premios-a-los-as-superlectores-as-del-ano-y-tardes-con-leo-operacion-pico-cerrado/
LOCATION:Biblioteca del Atenéu de Turón\, Calle Centro\, 9\, 33610 Mieres\, Asturias\, Turón\, Asturias\, 33610 \, España
CATEGORIES:Bibliotecas,Cuentacuentos
ATTACH;FMTTYPE=image/jpeg:https://www.mieres.es/wp-content/uploads/2025/09/operacion-pico-cerrado.jpg
ORGANIZER;CN="Red%20de%20Bibliotecas%20Municipales%20de%20Mieres":MAILTO:biblioteca@ayto-mieres.es
GEO:43.2091303;-5.7416142
X-APPLE-STRUCTURED-LOCATION;VALUE=URI;X-ADDRESS=Biblioteca del Atenéu de Turón Calle Centro 9 33610 Mieres Asturias Turón Asturias 33610  España;X-APPLE-RADIUS=500;X-TITLE=Calle Centro\, 9\, 33610 Mieres\, Asturias:geo:-5.7416142,43.2091303
END:VEVENT
BEGIN:VEVENT
DTSTART;TZID=Europe/Madrid:20251021T190000
DTEND;TZID=Europe/Madrid:20251021T190000
DTSTAMP:20260420T043236
CREATED:20251007T095345Z
LAST-MODIFIED:20251007T095345Z
UID:75989-1761073200-1761073200@www.mieres.es
SUMMARY:Taller "Acompañamiento en sexualidad para familias"\, con Pitu Aparicio
DESCRIPTION:Taller: \n“Acompañamiento en sexualidad para familias”\ncon Pitu Aparicio\n  \nMartes\, 21 de octubre de 2025\, 19:00h. \nSalón de actos de la casa de Cultura \nInscripciones previas\, gratuitas\, a través del tfno. 985466262 \n\n  \nSexualidad\, género y coeducación: \nAbordamos conceptos como el género\, la orientación y las identidades\, desmontando mitos y tabúes sobre la sexualidad\, generando un espacio de seguridad y dudas sobre anticonceptivos\, relaciones\, deseo\, placer y desarrollo de los cuerpos. Educando desde el juego trabajamos límites\, intimidad\, consentimiento y amor romántico para mejorar la calidad de nuestras interacciones. \nLas formaciones de Pitu son tan especiales porque el ambiente de seguridad que se genera con su metodología de cuidados\, posibilita que se trabaje sobre temas que siempre han sido tabú. \nEl denominador común que atraviesa todos los talleres es ‘La metodología de cuidados’ que consiste en poner en el centro las necesidades de cada persona participante\, atendiendo a sus emociones\, a las violencias que le atraviesan\, a los factores de riesgo que vive\, generando así un espacio libre de juicios donde poder compartir desde la cercanía\, la escucha activa\, el juego\, la confidencialidad y el respeto mutuo.
URL:https://www.mieres.es/evento/taller-acompanamiento-en-sexualidad-para-familias-con-pitu-aparicio/
LOCATION:Casa de Cultura Teodoro Cuesta\, Calle Manuel Llaneza\, 8\, Mieres\, Asturias\, 33600\, España
CATEGORIES:Igualdad,Taller
ATTACH;FMTTYPE=image/jpeg:https://www.mieres.es/wp-content/uploads/2025/10/Cartel-taller-acompanamiento-en-sexualidad-Mieres.jpg
GEO:43.2502294;-5.7729571
X-APPLE-STRUCTURED-LOCATION;VALUE=URI;X-ADDRESS=Casa de Cultura Teodoro Cuesta Calle Manuel Llaneza 8 Mieres Asturias 33600 España;X-APPLE-RADIUS=500;X-TITLE=Calle Manuel Llaneza\, 8:geo:-5.7729571,43.2502294
END:VEVENT
BEGIN:VEVENT
DTSTART;TZID=Europe/Madrid:20251021T200000
DTEND;TZID=Europe/Madrid:20251021T200000
DTSTAMP:20260420T043236
CREATED:20251001T115222Z
LAST-MODIFIED:20251001T115222Z
UID:75920-1761076800-1761076800@www.mieres.es
SUMMARY:X Encuentro de Blogueros y RRSS de Montaña: “Caminando por Degaña entre osos\, brañas y montañas”\, por Víctor Manuel Delgado
DESCRIPTION:X Encuentro de Blogueros y RRSS de Montaña \n\n“Caminando por Degaña entre osos\, brañas y montañas”\npor Víctor Manuel Delgado\n  \nMartes 21 de octubre\, 20:00 h\nAuditorio Teodoro Cuesta\n \n  \nEntrada libre hasta completar aforo
URL:https://www.mieres.es/evento/x-encuentro-de-blogueros-y-rrss-de-montana-caminando-por-degana-entre-osos-branas-y-montanas-por-victor-manuel-delgado/
LOCATION:Casa de Cultura Teodoro Cuesta\, Calle Manuel Llaneza\, 8\, Mieres\, Asturias\, 33600\, España
CATEGORIES:Deportes
ATTACH;FMTTYPE=image/jpeg:https://www.mieres.es/wp-content/uploads/2025/10/encuentro-blogueros-montana-mieres-2025.jpg
GEO:43.2502294;-5.7729571
X-APPLE-STRUCTURED-LOCATION;VALUE=URI;X-ADDRESS=Casa de Cultura Teodoro Cuesta Calle Manuel Llaneza 8 Mieres Asturias 33600 España;X-APPLE-RADIUS=500;X-TITLE=Calle Manuel Llaneza\, 8:geo:-5.7729571,43.2502294
END:VEVENT
END:VCALENDAR