BEGIN:VCALENDAR
VERSION:2.0
PRODID:-//Ayuntamiento de Mieres - ECPv5.16.1.1//NONSGML v1.0//EN
CALSCALE:GREGORIAN
METHOD:PUBLISH
X-WR-CALNAME:Ayuntamiento de Mieres
X-ORIGINAL-URL:https://www.mieres.es
X-WR-CALDESC:Eventos para Ayuntamiento de Mieres
BEGIN:VTIMEZONE
TZID:Europe/Madrid
BEGIN:DAYLIGHT
TZOFFSETFROM:+0100
TZOFFSETTO:+0200
TZNAME:CEST
DTSTART:20250330T010000
END:DAYLIGHT
BEGIN:STANDARD
TZOFFSETFROM:+0200
TZOFFSETTO:+0100
TZNAME:CET
DTSTART:20251026T010000
END:STANDARD
END:VTIMEZONE
BEGIN:VEVENT
DTSTART;VALUE=DATE:20251027
DTEND;VALUE=DATE:20251028
DTSTAMP:20260421T022643
CREATED:20251017T114703Z
LAST-MODIFIED:20251024T082848Z
UID:76146-1761523200-1761609599@www.mieres.es
SUMMARY:Mieres de pinchu 2025
DESCRIPTION:Podrás votar aquí por tu pincho favorito\ndesde las 13:00h. del viernes 24 de octubre hasta las 23:59h. del domingo 2 de noviembre de 2025\n(Atención: el sistema solo contabilizará una votación cada 24 horas desde cada IP o dispositivo).\n  \n\n \n \n \n\n 
URL:https://www.mieres.es/evento/mieres-de-pinchu-2025/2025-10-27/
LOCATION:Establecimientos comerciales y hosteleros del concejo
CATEGORIES:Comercio y Hostelería,Concurso,Gastronomía
ATTACH;FMTTYPE=image/jpeg:https://www.mieres.es/wp-content/uploads/2025/10/cartel-pinchu-2025.jpg
END:VEVENT
BEGIN:VEVENT
DTSTART;TZID=Europe/Madrid:20251027T103000
DTEND;TZID=Europe/Madrid:20251027T103000
DTSTAMP:20260421T022643
CREATED:20251021T113536Z
LAST-MODIFIED:20251021T113536Z
UID:76190-1761561000-1761561000@www.mieres.es
SUMMARY:Samaín 2025 en la Residencia Valle del Caudal: Taller de cerámica
DESCRIPTION:Samaín 2025\nen la Residencia Valle del Caudal \nLunes\, 27 de octubre\n10:30h. \nTaller de cerámica\ncon Espacio Titania\n  \nResidencia Valle del Caudal -Mieres- \nActividades dirigidas a los/as residentes\, familiares y amistades \n\n 
URL:https://www.mieres.es/evento/samain-2025-en-la-residencia-valle-del-caudal-taller-de-ceramica/
LOCATION:Residencia de personas mayores Valle del Caudal\, Calle Doce de Octubre s/n\, Mieres\, Asturias\, 33600
CATEGORIES:Bienestar Social
ATTACH;FMTTYPE=image/jpeg:https://www.mieres.es/wp-content/uploads/2025/10/actividades-samain-2025-residencia.jpg
GEO:43.2523473;-5.773673
X-APPLE-STRUCTURED-LOCATION;VALUE=URI;X-ADDRESS=Residencia de personas mayores Valle del Caudal Calle Doce de Octubre s/n Mieres Asturias 33600;X-APPLE-RADIUS=500;X-TITLE=Calle Doce de Octubre s/n:geo:-5.773673,43.2523473
END:VEVENT
BEGIN:VEVENT
DTSTART;TZID=Europe/Madrid:20251027T173000
DTEND;TZID=Europe/Madrid:20251027T173000
DTSTAMP:20260421T022643
CREATED:20251017T082838Z
LAST-MODIFIED:20251020T075841Z
UID:76098-1761586200-1761586200@www.mieres.es
SUMMARY:Samaín 2025. Taller de decoración terrorífica
DESCRIPTION:Regresa a Mieres el Samaín\, que llega con numerosas actividades para peques y adultos\, entre las que no faltarán los juegos\,  talleres\, la música\, títeres\, los disfraces y pasacalles. \nBajo el lema “Nun ye Halloween\, ye Samaín”\, esta cita pretende retomar la festividad de origen celta que conmemoraba el fin de la época de cosechas y ensalzaba la oscuridad. Una fiesta ligada con las tradiciones y los orígenes\, que en nuestro concejo comenzamos a celebrar en el año 2013 y que ya ha pasado a formar parte del calendario habitual de festejos\, siendo muy esperada por los más pequeños. \n\nLlunes\, 27 d’ochobre \nTaller de decoración terrorífica \n-17:00 a 18:15h. – de 3 a 5 años\n-18:30 a 19:45h. – de 6 años p’arriba \nMieres Centru Cultural\n25 plazas por grupo. \nInscripciones online gratuitas en el formulario que encontrarán en esta misma página\, a partir del lunes\, 20 de octubre\, a las 10:00h. \n\n\nFORMULARIOS DE INSCRIPCIÓN\n\nCargando…Cargando…
URL:https://www.mieres.es/evento/samain-2025-taller-de-decoracion-terrorifica/
LOCATION:Mieres Centru Cultural\, Calle Jerónimo Ibrán\, 10\, Mieres\, Asturias\, 33600
CATEGORIES:Festejos,Juventud e Infancia,Salud
ATTACH;FMTTYPE=image/jpeg:https://www.mieres.es/wp-content/uploads/2025/10/cartel-web-Samain-2025.jpg
ORGANIZER;CN="Concejal%C3%ADa%20de%20Infancia%20y%20Juventud":MAILTO:oij@ayto-mieres.es
END:VEVENT
END:VCALENDAR