BEGIN:VCALENDAR
VERSION:2.0
PRODID:-//Ayuntamiento de Mieres - ECPv5.16.1.1//NONSGML v1.0//EN
CALSCALE:GREGORIAN
METHOD:PUBLISH
X-WR-CALNAME:Ayuntamiento de Mieres
X-ORIGINAL-URL:https://www.mieres.es
X-WR-CALDESC:Eventos para Ayuntamiento de Mieres
BEGIN:VTIMEZONE
TZID:Europe/Madrid
BEGIN:DAYLIGHT
TZOFFSETFROM:+0100
TZOFFSETTO:+0200
TZNAME:CEST
DTSTART:20250330T010000
END:DAYLIGHT
BEGIN:STANDARD
TZOFFSETFROM:+0200
TZOFFSETTO:+0100
TZNAME:CET
DTSTART:20251026T010000
END:STANDARD
END:VTIMEZONE
BEGIN:VEVENT
DTSTART;VALUE=DATE:20251029
DTEND;VALUE=DATE:20251030
DTSTAMP:20260421T022449
CREATED:20251017T114703Z
LAST-MODIFIED:20251024T082932Z
UID:76148-1761696000-1761782399@www.mieres.es
SUMMARY:Mieres de pinchu 2025
DESCRIPTION:Podrás votar aquí por tu pincho favorito\ndesde las 13:00h. del viernes 24 de octubre hasta las 23:59h. del domingo 2 de noviembre de 2025\n(Atención: el sistema solo contabilizará una votación cada 24 horas desde cada IP o dispositivo).\n  \n\n \n \n \n\n 
URL:https://www.mieres.es/evento/mieres-de-pinchu-2025/2025-10-29/
LOCATION:Establecimientos comerciales y hosteleros del concejo
CATEGORIES:Comercio y Hostelería,Concurso,Gastronomía
ATTACH;FMTTYPE=image/jpeg:https://www.mieres.es/wp-content/uploads/2025/10/cartel-pinchu-2025.jpg
END:VEVENT
BEGIN:VEVENT
DTSTART;TZID=Europe/Madrid:20251029T080000
DTEND;TZID=Europe/Madrid:20251029T170000
DTSTAMP:20260421T022449
CREATED:20250807T112055Z
LAST-MODIFIED:20250807T112055Z
UID:75223-1761724800-1761757200@www.mieres.es
SUMMARY:Falamos. Cursu semipresencial gratuitu d'Asturianu Edición 2025
DESCRIPTION: \nCursu semipresencial gratuitu d’Asturianu\nFALAMOS\nNivel Intermediu\n42 hores: 20h presenciales y 22h en llínia\nClases presenciales en 8 xornaes\, los miércoles de 16:00 a 18:30h.\nna Casa de Cultura Teodoro Cuesta de Mieres \nEntamu: 10 de setiembre \nInscripciones gratuites (n’orde d’inscripción) y más información na web: www.falamos.info \n  \n\n\n  \nUn añu más\, l´Ayuntamientu de Mieres pondrá clases d´asturianu al traviés del programa FALAMOS en collaboración col Principáu d´Asturies\, qu’ufierta cursos semipresenciales gratuitos d’asturianu pa la población adulto nel cuartu trimestre de 2025. \nNesta convocatoria el nivel sedrá l´intermediu. \nEl cursu ye de 42 hores: 20h presenciales y 22h en llínia. Les clases presenciales fairánse en 8 xornaes de dos hores y media cada una\, en Mieres\, el Cursu daráse nel Aula Grande de la Casa de Cultura “Teodoro Cuesta”. \nLes clases entamarán el día 10 de setiembre\, na Casa de Cultura\, los miércoles\, con horariu de 16:00 a 18:30h.\, del 10/09/2025 al 29/10/2025. \nEsti proyectu ye una colaboración ente la FACC y la Dirección Xeneral de Política Llingüística del Principáu d’Asturies\, enxunto con la Conceyalía de Normalización Llingüística del Ayuntamiento de Mieres. \n\n\nPROGRAMA \nMódulo 1: Asturies\, destín turísticu. L’artículu\, L’apostrofación. Les contracciones. La negación.\nMódulo 2: Mercando y fartucando. Sustantivu y axetivu. Xéneru y númberu. Sustantivos cuntables y non cuntables. El Grau superlativu del axetivu.\nMódulo 3: Espaciu Natural. Pronomes personales. La reflexividá.\nMódulo 4: Músiques y lletres. Indefiníos\, demostrativos y numberales.\nMódulo 5: Polideportivu. Posesivos. Preposiciones.\nMódulo 6: De folixa. El verbu.\nMódulo 7: Medios y redes. Alverbiu y locuciones alverbiales.\nMódulo 8: Llingua y empresa. La oración subordinada: conxunciones y locuciones.
URL:https://www.mieres.es/evento/falamos-cursu-semipresencial-gratuitu-dasturianu-edicion-2025/2025-10-29/
LOCATION:Casa de Cultura Teodoro Cuesta\, Calle Manuel Llaneza\, 8\, Mieres\, Asturias\, 33600\, España
CATEGORIES:Llingua
ATTACH;FMTTYPE=image/jpeg:https://www.mieres.es/wp-content/uploads/2025/08/MIERES_ASTURIANO-INTERMEDIO-2025-falamos.jpg
GEO:43.2502294;-5.7729571
X-APPLE-STRUCTURED-LOCATION;VALUE=URI;X-ADDRESS=Casa de Cultura Teodoro Cuesta Calle Manuel Llaneza 8 Mieres Asturias 33600 España;X-APPLE-RADIUS=500;X-TITLE=Calle Manuel Llaneza\, 8:geo:-5.7729571,43.2502294
END:VEVENT
BEGIN:VEVENT
DTSTART;TZID=Europe/Madrid:20251029T100000
DTEND;TZID=Europe/Madrid:20251029T153000
DTSTAMP:20260421T022449
CREATED:20251021T075255Z
LAST-MODIFIED:20251021T075255Z
UID:76168-1761732000-1761751800@www.mieres.es
SUMMARY:Semana europea de la prevención de residuos 2025: Campaña "Conecta el valor\, desconecta el residuo"
DESCRIPTION:Semana europea de la prevención de residuos 2024\n22-30 noviembre 2025\n\nCampaña Conecta el valor\, desconecta el residuo\n\n29 de octubre\, C/Manuel Llaneza/esquina con C/Luis Fdez. Cabeza\nDe 10:00 a 15:30h \n\n  \nUna iniciativa de COGERSA y nuestra Concejalía de Medio Ambiente\, para sensibilizar a la ciudadanía sobre uno de los residuos que más ha crecido en la UE en los últimos años\, los residuos de aparatos eléctricos y electrónicos (RAEE). Visita la carpa\, aprende sobre cómo reducir la generación de RAEE y participa en el sorteo de diferentes dispositivos electrónicos. \nExposición carpa\nEducadores ambientales sensibilizarán a la ciudadanía sobre qué son los RAEE\, sus impactos en el medio ambiente y su gestión sostenible. \nSorteo Reciclar tRAEE premio\nSorteo para la ciudadanía que participe en la visita a la carpa y juego de “rosco” para ganar artículos eléctricos y electrónicos (tablets\, libros electrónicos\, auriculares inalámbricos…). \nEmbajadores de la SEPR\nGrupos aproximadamente de 50 escolares del concejo (5º-6º EP o 1 ESO)\nDinámica lo sabe no lo sabe entre la ciudadanía para concienciar sobre los RAEE. \n  \n\n 
URL:https://www.mieres.es/evento/semana-europea-de-la-prevencion-de-residuos-2025-campana-conecta-el-valor-desconecta-el-residuo/
LOCATION:C/ Manuel Llaneza
CATEGORIES:Medio Ambiente
ATTACH;FMTTYPE=image/jpeg:https://www.mieres.es/wp-content/uploads/2025/10/Campana-Conecta-el-valor-desconecta-el-residuo-Mieres.jpg
END:VEVENT
BEGIN:VEVENT
DTSTART;TZID=Europe/Madrid:20251029T113000
DTEND;TZID=Europe/Madrid:20251029T113000
DTSTAMP:20260421T022449
CREATED:20251021T115015Z
LAST-MODIFIED:20251021T115015Z
UID:76195-1761737400-1761737400@www.mieres.es
SUMMARY:Samaín 2025 en la Residencia Valle del Caudal: Taller intergeneracional de decoración
DESCRIPTION:Samaín 2025\nen la Residencia Valle del Caudal \nMiércoles\, 29 de octubre\n11:30h. \nTaller de decoración de calabazas\nActividad intergeneracional con alumnado del Colegio Aniceto Sela\n  \nResidencia Valle del Caudal -Mieres- \nActividades dirigidas a los/as residentes\, familiares y amistades \n\n 
URL:https://www.mieres.es/evento/samain-2025-en-la-residencia-valle-del-caudal-taller-intergeneracional-de-decoracion/
LOCATION:Residencia de personas mayores Valle del Caudal\, Calle Doce de Octubre s/n\, Mieres\, Asturias\, 33600
CATEGORIES:Bienestar Social
ATTACH;FMTTYPE=image/jpeg:https://www.mieres.es/wp-content/uploads/2025/10/actividades-samain-2025-residencia.jpg
GEO:43.2523473;-5.773673
X-APPLE-STRUCTURED-LOCATION;VALUE=URI;X-ADDRESS=Residencia de personas mayores Valle del Caudal Calle Doce de Octubre s/n Mieres Asturias 33600;X-APPLE-RADIUS=500;X-TITLE=Calle Doce de Octubre s/n:geo:-5.773673,43.2523473
END:VEVENT
BEGIN:VEVENT
DTSTART;TZID=Europe/Madrid:20251029T160000
DTEND;TZID=Europe/Madrid:20251029T170000
DTSTAMP:20260421T022449
CREATED:20260115T130146Z
LAST-MODIFIED:20260115T130146Z
UID:77268-1761753600-1761757200@www.mieres.es
SUMMARY:Talleres de capacitación familiar
DESCRIPTION:Promoción de la salud \nTalleres de capacitación familiar\nImpartido por Fundación Siloé \nCasa de las Mujeres\, de 16 a 17:00 h\nLos jueves 15\, 22 y 29 de enero\, 5 y 12 de febrero \nInscripciones gratuitas online\, a través del formulario ofrecido en esta misma página \n\n\n\n\nEstos talleres se enmarcan dentro de la promoción de la salud\, trabajando a nivel de capacitación familiar sobre:\n\nEtapas evolutivas del desarrollo.\nLa crianza y estilos educativos.\nRegulación emocional y vínculo.\nHabilidades comunicativas.\nFormas de aprendizaje\, normas y límites.
URL:https://www.mieres.es/evento/talleres-de-capacitacion-familiar/2025-10-29/
LOCATION:Casa de las Mujeres\, C/ Jerónimo Ibrán 19\, Mieres\, Asturias\, 33600\, España
CATEGORIES:Salud,Taller
ATTACH;FMTTYPE=image/jpeg:https://www.mieres.es/wp-content/uploads/2026/01/Talleres-Capacitacion-Familiar-2026.jpg
GEO:43.2512334;-5.7731606
X-APPLE-STRUCTURED-LOCATION;VALUE=URI;X-ADDRESS=Casa de las Mujeres C/ Jerónimo Ibrán 19 Mieres Asturias 33600 España;X-APPLE-RADIUS=500;X-TITLE=C/ Jerónimo Ibrán 19:geo:-5.7731606,43.2512334
END:VEVENT
BEGIN:VEVENT
DTSTART;TZID=Europe/Madrid:20251029T190000
DTEND;TZID=Europe/Madrid:20251029T190000
DTSTAMP:20260421T022449
CREATED:20251027T095111Z
LAST-MODIFIED:20251027T095111Z
UID:76271-1761764400-1761764400@www.mieres.es
SUMMARY:Videofórum: "PlanEat". El impacto de nuestra alimentación en el medio natural
DESCRIPTION:Videofórum: \n “PlanEat”\nEl impacto de nuestra alimentación en el medio natural\n\nOrganizado por Plataforma del Caudal por las pensiones públicas \n\nMiércoles\, 29 de octubre\, 19:00h. \n\nSalón de actos de la Casa de Cultura Teodoro Cuesta\nEntrada gratuita hasta completar aforo \n\n  \nPlaneat es un documental revelador que explora la relación entre la dieta\, la salud y el impacto ambiental. A través de entrevistas con científicos\, médicos y ecologistas\, la película destaca cómo una dieta basada en plantas puede mejorar la salud y al mismo tiempo reducir nuestra huella ecológica. \n1h 27min | Documental\nDirigida por Or Shlomi\, Shelley Lee Davies \n\n\n\n\n 
URL:https://www.mieres.es/evento/videoforum-planeat-el-impacto-de-nuestra-alimentacion-en-el-medio-natural/
LOCATION:Casa de Cultura Teodoro Cuesta\, Calle Manuel Llaneza\, 8\, Mieres\, Asturias\, 33600\, España
CATEGORIES:Cine,Debate,Medio Ambiente
ATTACH;FMTTYPE=image/jpeg:https://www.mieres.es/wp-content/uploads/2025/10/videoforum-impacto-alimentacion-mieres-2025.jpg
GEO:43.2502294;-5.7729571
X-APPLE-STRUCTURED-LOCATION;VALUE=URI;X-ADDRESS=Casa de Cultura Teodoro Cuesta Calle Manuel Llaneza 8 Mieres Asturias 33600 España;X-APPLE-RADIUS=500;X-TITLE=Calle Manuel Llaneza\, 8:geo:-5.7729571,43.2502294
END:VEVENT
END:VCALENDAR