BEGIN:VCALENDAR
VERSION:2.0
PRODID:-//Ayuntamiento de Mieres - ECPv5.16.1.1//NONSGML v1.0//EN
CALSCALE:GREGORIAN
METHOD:PUBLISH
X-WR-CALNAME:Ayuntamiento de Mieres
X-ORIGINAL-URL:https://www.mieres.es
X-WR-CALDESC:Eventos para Ayuntamiento de Mieres
BEGIN:VTIMEZONE
TZID:Europe/Madrid
BEGIN:DAYLIGHT
TZOFFSETFROM:+0100
TZOFFSETTO:+0200
TZNAME:CEST
DTSTART:20250330T010000
END:DAYLIGHT
BEGIN:STANDARD
TZOFFSETFROM:+0200
TZOFFSETTO:+0100
TZNAME:CET
DTSTART:20251026T010000
END:STANDARD
END:VTIMEZONE
BEGIN:VEVENT
DTSTART;TZID=Europe/Madrid:20251118T103000
DTEND;TZID=Europe/Madrid:20251118T103000
DTSTAMP:20260421T022740
CREATED:20251104T125405Z
LAST-MODIFIED:20251104T130639Z
UID:76409-1763461800-1763461800@www.mieres.es
SUMMARY:Amagüestu 2025 en la Residencia Valle del Caudal: Juegos tradicionales-intergeneracionales con el Colegio Santo Domingo de Guzmán
DESCRIPTION:Amagüestu 2025\nen la Residencia Valle del Caudal \nMartes\, 18 de noviembre\n10:30h. \nJuegos tradicionales-intergeneracionales\ncon el Colegio Santo Domingo de Guzmán\n  \nResidencia Valle del Caudal -Mieres- \nActividades dirigidas a los/as residentes\, familiares y amistades \n\n 
URL:https://www.mieres.es/evento/amaguestu-2025-en-la-residencia-valle-del-caudal-juegos-tradicionales-intergeneracionales-con-el-colegio-santo-domingo-de-guzman/
LOCATION:Residencia de personas mayores Valle del Caudal\, Calle Doce de Octubre s/n\, Mieres\, Asturias\, 33600
CATEGORIES:Bienestar Social
ATTACH;FMTTYPE=image/jpeg:https://www.mieres.es/wp-content/uploads/2025/11/Amaguestu-en-la-Residencia-Valle-del-Caudal-2025.jpg
GEO:43.2523473;-5.773673
X-APPLE-STRUCTURED-LOCATION;VALUE=URI;X-ADDRESS=Residencia de personas mayores Valle del Caudal Calle Doce de Octubre s/n Mieres Asturias 33600;X-APPLE-RADIUS=500;X-TITLE=Calle Doce de Octubre s/n:geo:-5.773673,43.2523473
END:VEVENT
BEGIN:VEVENT
DTSTART;TZID=Europe/Madrid:20251118T173000
DTEND;TZID=Europe/Madrid:20251118T173000
DTSTAMP:20260421T022740
CREATED:20251030T131045Z
LAST-MODIFIED:20251118T084556Z
UID:76381-1763487000-1763487000@www.mieres.es
SUMMARY:Tardes con Leo: "En calma"
DESCRIPTION:  \n\nCuentacuentos\nTardes con Leo \nEn calma\nde Carmen Mateo\nBiblioteca Pública del Atenéu de Turón \n\n  \nCuentacuentos a cargo de Leo\, la mascota de las bibliotecas de nuestra Red de Bibliotecas Municipales\, basado en el libro En calma (Ediciones Mensajero)\, escrito por Carmen Mateo e ilustrado por Sara Mateos. \n  \nAtardece en la sabana y\, mientras los animales se disponen a dormir\, se escucha un misterioso ruido. Alguien nuevo y pequeño ha llegado hasta allí alertando al león\, a la jirafa y al elefante\, quienes proponen varias opciones para que el cachorro se calme. Pero parece que encontrar la solución no va a ser nada fácil. ¿Conseguirán entre todos que la sabana vuelva a estar EN CALMA?  \nEstamos ante una historia que\, con un tono divertido y dulce a la vez\, nos enseña a ponernos en el lugar de los demás y no mirar solo desde nuestra perspectiva. Además\, destaca el concepto de crianza compartida\, de solidaridad con el prójimo\, de grupo de apoyo y de la calma como elemento necesario para actuar correctamente. Una historia sencilla en texto\, con elementos repetitivos que la hacen contable y final circular (aunque finalmente resuelto) que sacará alguna carcajada y con la que muchos lectores se podrán identificará… \n  \nPatrocinado por la Caja Rural de Asturias y realizado por Paula Huelga\, de Xitech. Plazas limitadas\, asignadas por orden de inscripción. Podéis apuntaros en la Biblioteca en horario de 09:00 a 20:30 horas o al teléfono 985456294. ¡¡¡¡Os esperamos!!!! \n  \n\n 
URL:https://www.mieres.es/evento/tardes-con-leo-en-calma-2/
LOCATION:Biblioteca del Atenéu de Turón\, Calle Centro\, 9\, 33610 Mieres\, Asturias\, Turón\, Asturias\, 33610 \, España
CATEGORIES:Bibliotecas,Cuentacuentos
ATTACH;FMTTYPE=image/jpeg:https://www.mieres.es/wp-content/uploads/2025/10/en-calma-tardes-con-leo.jpg
ORGANIZER;CN="Red%20de%20Bibliotecas%20Municipales%20de%20Mieres":MAILTO:biblioteca@ayto-mieres.es
GEO:43.2091303;-5.7416142
X-APPLE-STRUCTURED-LOCATION;VALUE=URI;X-ADDRESS=Biblioteca del Atenéu de Turón Calle Centro 9 33610 Mieres Asturias Turón Asturias 33610  España;X-APPLE-RADIUS=500;X-TITLE=Calle Centro\, 9\, 33610 Mieres\, Asturias:geo:-5.7416142,43.2091303
END:VEVENT
BEGIN:VEVENT
DTSTART;TZID=Europe/Madrid:20251118T180000
DTEND;TZID=Europe/Madrid:20251118T180000
DTSTAMP:20260421T022740
CREATED:20251028T091602Z
LAST-MODIFIED:20251029T121948Z
UID:76304-1763488800-1763488800@www.mieres.es
SUMMARY:Jornadas 25N. Charla-debate: “Violencia de género y jóvenes”\, con Cruz Roja Juventud
DESCRIPTION:Jornadas 25N 2025\nCharla-debate: \n“Violencia de género y jóvenes”\ncon Cruz Roja Juventud\nAcompañadas por profesionales especialistas\, el grupo de participación adolescente y voluntariado. \nMartes\, 18 de noviembre de 2025\, 18:00h.\nSalón de actos de la casa de Cultura \nEntrada libre hasta completar aforo \n\n\n  \nEn esta jornada se tratará de dar visibilidad al problema de la Violencia de género\, poniendo el foco en la población juvenil\, desde una visión multidisciplinar al contar con profesionales de diferentes sectores que trabajan en la prevención\, sensibilización e intervención. \nEl grupo de participación adolescente\, voluntariado de CRJ\, Espacio Propio\, y profesionales del sector darán respuestas en una mesa redonda a diferentes cuestiones relacionadas con la Violencia de género en la juventud \n 
URL:https://www.mieres.es/evento/jornadas-25n-charla-debate-violencia-genero-jovenes-cruz-roja-juventud/
LOCATION:Casa de Cultura Teodoro Cuesta\, Calle Manuel Llaneza\, 8\, Mieres\, Asturias\, 33600\, España
CATEGORIES:Igualdad,Taller
ATTACH;FMTTYPE=image/jpeg:https://www.mieres.es/wp-content/uploads/2025/10/violencia-de-genero-y-jovenes.jpg
GEO:43.2502294;-5.7729571
X-APPLE-STRUCTURED-LOCATION;VALUE=URI;X-ADDRESS=Casa de Cultura Teodoro Cuesta Calle Manuel Llaneza 8 Mieres Asturias 33600 España;X-APPLE-RADIUS=500;X-TITLE=Calle Manuel Llaneza\, 8:geo:-5.7729571,43.2502294
END:VEVENT
BEGIN:VEVENT
DTSTART;TZID=Europe/Madrid:20251118T180000
DTEND;TZID=Europe/Madrid:20251118T180000
DTSTAMP:20260421T022740
CREATED:20251030T131629Z
LAST-MODIFIED:20251030T131629Z
UID:76384-1763488800-1763488800@www.mieres.es
SUMMARY:Tardes con Leo: "Si yo tuviera una púa"
DESCRIPTION:  \n\nCuentacuentos\nTardes con Leo \nSi yo tuviera una púa\nde Eva Clemente\n  \nBiblioteca Pública de Ujo \n\n  \nCuentacuentos a cargo de Leo\, la mascota de las bibliotecas de nuestra Red de Bibliotecas Municipales\, basado en el libro Si yo tuviera una púa (Ediciones Emonautas)\, escrito por Eva Clemente e ilustrado por Teresa Arias. Un cuento que nos muestra la importancia de poner límites y ser asertivos. Decir que «no» puede ser complicado incluso para nosotros los adultos. Por eso creemos que es importante enseñar a los niños a hacerlo desde que son pequeños. «Amistad por interés no dura\, pues no es». \n  \nPepincho Repúa quiere encontrar amigos para jugar. Pero ¿cuánto está dispuesto a pagar para intentar conseguirlos? Un zorro con peculiares aficiones\, una perra muy presumida\, un águila que no ha merendado\, un sapo que sueña con coronas… Estos son algunos de los personajes que encontrará este entrañable erizo durante un camino cargado de aprendizajes que le llevará a descubrir qué es la autoestima y lo importante que es aprender a cuidarse y decir que no de vez en cuando. \n  \nPatrocinado por la Caja Rural de Asturias y realizado por Paula Huelga\, de Xitech. Plazas limitadas\, asignadas por orden de inscripción. Podéis apuntaros en la Biblioteca en horario de 09:00 a 20:30 horas o al teléfono 985456294. ¡¡¡¡Os esperamos!!!! \n  \n\n 
URL:https://www.mieres.es/evento/tardes-con-leo-si-yo-tuviera-una-pua/
LOCATION:Biblioteca Pública de Ujo\,  C/ Doctor Julio Rodríguez Vigil\, s/n\, Ujo\, Asturias\, 33640 
CATEGORIES:Bibliotecas,Cuentacuentos
ATTACH;FMTTYPE=image/jpeg:https://www.mieres.es/wp-content/uploads/2025/10/si-yo-tuviera-una-pua-tardes-con-leo.jpg
ORGANIZER;CN="Red%20de%20Bibliotecas%20Municipales%20de%20Mieres":MAILTO:biblioteca@ayto-mieres.es
GEO:43.2032356;-5.7911073
X-APPLE-STRUCTURED-LOCATION;VALUE=URI;X-ADDRESS=Biblioteca Pública de Ujo  C/ Doctor Julio Rodríguez Vigil s/n Ujo Asturias 33640;X-APPLE-RADIUS=500;X-TITLE=C/ Doctor Julio Rodríguez Vigil\, s/n:geo:-5.7911073,43.2032356
END:VEVENT
END:VCALENDAR