BEGIN:VCALENDAR
VERSION:2.0
PRODID:-//Ayuntamiento de Mieres - ECPv5.16.1.1//NONSGML v1.0//EN
CALSCALE:GREGORIAN
METHOD:PUBLISH
X-WR-CALNAME:Ayuntamiento de Mieres
X-ORIGINAL-URL:https://www.mieres.es
X-WR-CALDESC:Eventos para Ayuntamiento de Mieres
BEGIN:VTIMEZONE
TZID:Europe/Madrid
BEGIN:DAYLIGHT
TZOFFSETFROM:+0100
TZOFFSETTO:+0200
TZNAME:CEST
DTSTART:20250330T010000
END:DAYLIGHT
BEGIN:STANDARD
TZOFFSETFROM:+0200
TZOFFSETTO:+0100
TZNAME:CET
DTSTART:20251026T010000
END:STANDARD
END:VTIMEZONE
BEGIN:VEVENT
DTSTART;TZID=Europe/Madrid:20251119T123000
DTEND;TZID=Europe/Madrid:20251119T123000
DTSTAMP:20260421T022643
CREATED:20251118T094412Z
LAST-MODIFIED:20251118T094412Z
UID:76550-1763555400-1763555400@www.mieres.es
SUMMARY:"¡Manos a la tierra! Siembra de otoño!". Taller Jornadas de puertas abiertas del Huerto Intergeneracional de La Mayacina
DESCRIPTION:Jornadas de puertas abiertas del Huerto Intergeneracional de La Mayacina \nMicro-Taller: \n\n“¡Manos a la tierra! Siembra de otoño!”\nImpartido por Ana María García\n  \nMiércoles\, 19 de noviembre de 2025. 12:30h. \n\n\nHuerto Intergeneracional de La Mayacina\nParticipación libre y gratuita \n\n\n\n\n  \nMicrotaller divulgativo sobre la preparación de bancales\, plantación y siembra de otoño\, en esta ocasión de ajos\, cebollas y habas.\nAdemás se atenderán todas las dudas y preguntas sobre el huerto sostenible y la salud. \n\n  \n\n\n 
URL:https://www.mieres.es/evento/manos-a-la-tierra-siembra-de-otono-taller-jornadas-de-puertas-abiertas-del-huerto-intergeneracional-de-la-mayacina/
LOCATION:Ecohuerto La Mayacina\, Asturias\, 33600\, España
CATEGORIES:Salud
ATTACH;FMTTYPE=image/jpeg:https://www.mieres.es/wp-content/uploads/2025/11/cartel-jornadas-ecohuerto-nov2025.jpg
END:VEVENT
BEGIN:VEVENT
DTSTART;TZID=Europe/Madrid:20251119T160000
DTEND;TZID=Europe/Madrid:20251119T170000
DTSTAMP:20260421T022643
CREATED:20260115T130146Z
LAST-MODIFIED:20260115T130146Z
UID:77271-1763568000-1763571600@www.mieres.es
SUMMARY:Talleres de capacitación familiar
DESCRIPTION:Promoción de la salud \nTalleres de capacitación familiar\nImpartido por Fundación Siloé \nCasa de las Mujeres\, de 16 a 17:00 h\nLos jueves 15\, 22 y 29 de enero\, 5 y 12 de febrero \nInscripciones gratuitas online\, a través del formulario ofrecido en esta misma página \n\n\n\n\nEstos talleres se enmarcan dentro de la promoción de la salud\, trabajando a nivel de capacitación familiar sobre:\n\nEtapas evolutivas del desarrollo.\nLa crianza y estilos educativos.\nRegulación emocional y vínculo.\nHabilidades comunicativas.\nFormas de aprendizaje\, normas y límites.
URL:https://www.mieres.es/evento/talleres-de-capacitacion-familiar/2025-11-19/
LOCATION:Casa de las Mujeres\, C/ Jerónimo Ibrán 19\, Mieres\, Asturias\, 33600\, España
CATEGORIES:Salud,Taller
ATTACH;FMTTYPE=image/jpeg:https://www.mieres.es/wp-content/uploads/2026/01/Talleres-Capacitacion-Familiar-2026.jpg
GEO:43.2512334;-5.7731606
X-APPLE-STRUCTURED-LOCATION;VALUE=URI;X-ADDRESS=Casa de las Mujeres C/ Jerónimo Ibrán 19 Mieres Asturias 33600 España;X-APPLE-RADIUS=500;X-TITLE=C/ Jerónimo Ibrán 19:geo:-5.7731606,43.2512334
END:VEVENT
BEGIN:VEVENT
DTSTART;TZID=Europe/Madrid:20251119T163000
DTEND;TZID=Europe/Madrid:20251119T163000
DTSTAMP:20260421T022643
CREATED:20251104T125924Z
LAST-MODIFIED:20251104T130611Z
UID:76413-1763569800-1763569800@www.mieres.es
SUMMARY:Amagüestu 2025 en la Residencia Valle del Caudal: Sidra dulce y castañas
DESCRIPTION:Amagüestu 2025\nen la Residencia Valle del Caudal \nMiércoles\, 19 de noviembre\n16:30h. \nMerienda con sidra dulce y castañas\n  \nResidencia Valle del Caudal -Mieres- \nActividades dirigidas a los/as residentes\, familiares y amistades \n\n 
URL:https://www.mieres.es/evento/amaguestu-2025-en-la-residencia-valle-del-caudal-sidra-dulce-y-castanas/
LOCATION:Residencia de personas mayores Valle del Caudal\, Calle Doce de Octubre s/n\, Mieres\, Asturias\, 33600
CATEGORIES:Bienestar Social
ATTACH;FMTTYPE=image/jpeg:https://www.mieres.es/wp-content/uploads/2025/11/Amaguestu-en-la-Residencia-Valle-del-Caudal-2025.jpg
GEO:43.2523473;-5.773673
X-APPLE-STRUCTURED-LOCATION;VALUE=URI;X-ADDRESS=Residencia de personas mayores Valle del Caudal Calle Doce de Octubre s/n Mieres Asturias 33600;X-APPLE-RADIUS=500;X-TITLE=Calle Doce de Octubre s/n:geo:-5.773673,43.2523473
END:VEVENT
BEGIN:VEVENT
DTSTART;TZID=Europe/Madrid:20251119T173000
DTEND;TZID=Europe/Madrid:20251119T173000
DTSTAMP:20260421T022643
CREATED:20251114T110836Z
LAST-MODIFIED:20251114T112030Z
UID:76520-1763573400-1763573400@www.mieres.es
SUMMARY:Visita guiada a la colección de arte del Instituto Bernaldo de Quirós y a la exposición temporal "Un alma sola". Jornada de Puertas Abiertas
DESCRIPTION:  \nEl IES Bernaldo de Quirós organiza una jornada de puertas abiertas a su colección de arte\, que estará abierta para el público en general próximo miércoles 19 de noviembre entre las 17:30 y 19:30h . A las 17:30 comenzará una visita guiada\, que incluirá un recorrido por la colección permanente y el Palacio\, junto con la exposición temporal Un alma sola\, de Jezabel Rodríguez\, que reúne una interesante muestra de su obra\, caracterizada por la delicadeza de los matices\, las transparencias y veladuras que envuelven a los objetos cotidianos y la luz que se difunde delicadamente en cada pieza. \n  \n\n  \n  \nEl I.E.S. Bernaldo de Quirós cuenta con una de las pinacotecas más importantes de Asturias\, especialmente en lo relativo a pintores asturianos\, que se complementa con un fondo escultórico\, de obra gráfica y cerámica. Con esta jornada de puertas abiertas el nuevo equipo directivo del centro quiere acercar y ofrecer la posibilidad de conocer este patrimonio a todos los vecinos/as. \nLos orígenes del Museo se remontan al año 1972\, cuando la revista Asturias Semanal\, en colaboración con la Caja de Ahorros de Asturias\, organizó el I Certamen de Pintura Joven\, cuyos cuadros se presentarían en Oviedo\, Gijón\, Avilés y Langreo\, pero no en Mieres\, que carecía de un lugar mínimamente adecuado para la presentación. Carmen Díaz Castañón\, que por aquel entonces dirigía el Instituto\, ofreció las instalaciones del Palacio de Camposagrado\, lo que permitió que los cuadros se pudieran exhibir en la cuenca del Caudal. \nDe este modo se inició una serie de exposiciones que en los años siguientes llevarían al Palacio de los Bernaldo de Quirós las obras de Fernando Rodríguez Sáiz\, Hyto Posada o José Manuel Ordóñez. \nEn octubre de 1974 el curso se inauguró en el Instituto con la apertura de una sala de exposiciones permanente. Carmen Díaz Castañón fue contundente en su presentación: “Así como la Biblioteca es ya elemento insustituible en toda formación\, creemos que empieza a serlo también el Museo. La realidad última de la belleza es ella misma\, y nuestras palabras no serán nunca más ¿y no es poco- que una aproximación a ella”. \nComenzaba así una tradición por la que el Bernaldo de Quirós\, sin desatender las necesidades educativas\, dedicaba una parte de su presupuesto a la adquisición de obras de arte. Además se impuso una condición que aún perdura: todo aquel que quiera exponer puede hacerlo\, siempre y cuando done al Instituto una de sus obras. Y así\, poco a poco el Instituto ve cómo se enriquecen sus fondos. \nQuizá la más importante exposición itinerante fue la de los grabados de Goya que organizó la Fundación Juan March en 1982. En 1993 los fondos salieron de la sala donde se exhibían para expandirse por las distintas dependencias del Palacio. \nHoy el Museo cuenta con más de doscientas obras de autores como Nicanor Piñole\, Aurelio Suárez\, Navascués\, Rubio Camín\, Pelayo Ortega\, Eduardo Úrculo\, Manuel Viola\, José Luis Fajardo\, Celso Granda\, Orlando Pelayo\, Marola\, Vaquero Palacios\, Alejandro Mieres\, Antonio Suárez\, Hyto Posada\, Rubén Darío Velázquez\, Higinio Del Valle o Rodríguez Sáiz\, así como esculturas de José María Navascués\, Pablo Serrano\, Eusebio Sempere\, Fernando Alba o José Luis Fernández. \nMención especial merece la obra gráfica en el sentido más tradicional\, de gran diversidad de autores y estilos: aguafuertes\, aguatintas\, litografías y serigrafías de Saura\, Barjola\, Chillida\, Torner\, Mompó\, Tàpies\, Navascués\, Lucio Muños\, Quetglas\, Orlando Pelayo\, Guinovart o Mompó. \nEn el Instituto Bernaldo de Quirós pinturas y esculturas conviven en los pasillos\, las salas de reuniones y algún que otro despacho. También para el Museo el edificio se había quedado pequeño\, pero las obras de remodelación y restauración culminadas en 2008 permitieron al fin disponer de un espacio amplio y adecuado para tanta belleza. \n  \n\n 
URL:https://www.mieres.es/evento/visita-guiada-a-la-coleccion-de-arte-del-instituto-bernaldo-de-quiros-y-a-la-exposicion-temporal-un-alma-sola-jornada-de-puertas-abiertas/
LOCATION:Instituto de Enseñanza Secundaria Bernaldo de Quirós\, Calle Fray Paulino s/n 33600 Mieres\, Mieres\, Asturias\, 33600
CATEGORIES:Arte
ATTACH;FMTTYPE=image/jpeg:https://www.mieres.es/wp-content/uploads/2024/11/coleccion-arte-ies-bernaldo-quiros.jpg
GEO:43.249719;-5.7785282
X-APPLE-STRUCTURED-LOCATION;VALUE=URI;X-ADDRESS=Instituto de Enseñanza Secundaria Bernaldo de Quirós Calle Fray Paulino s/n 33600 Mieres Mieres Asturias 33600;X-APPLE-RADIUS=500;X-TITLE=Calle Fray Paulino s/n 33600 Mieres:geo:-5.7785282,43.249719
END:VEVENT
BEGIN:VEVENT
DTSTART;TZID=Europe/Madrid:20251119T193000
DTEND;TZID=Europe/Madrid:20251119T193000
DTSTAMP:20260421T022643
CREATED:20251024T095321Z
LAST-MODIFIED:20251024T095321Z
UID:76256-1763580600-1763580600@www.mieres.es
SUMMARY:Jornadas 25N. Ciclo cine Igualdad: "Rita"\, de Paz Vega
DESCRIPTION:JORNADAS 25N 2025\nCiclo cine Igualdad\nRita\nMiércoles\, 19 de noviembre\, 19:30h\nAuditoriu Teodoro Cuesta \nEntrada libre hasta completar aforo \n\n\nRita\nAño: 2024\nDuración: 94 min.\nPaís: España\nDirección: Paz Vega\nGuion: Paz Vega\nFotografía: Eva Díaz\nMúsica: Pablo Cervantes \nReparto\n Sofía Allepuz\, Paz Vega\, Roberto Álamo\, Alejandro Escamilla\, Amada Santos… \nSinopsis\nSevilla\, verano de 1984. Rita y Lolo son dos hermanos\, de 7 y 5 años\, que viven en el seno de una sencilla familia de clase obrera. Comienzan las vacaciones de verano y el país entero está revolucionado con la Eurocopa de fútbol\, donde España ha llegado a la final. El calor aprieta y Rita sueña con ir a la playa\, pero la vida en el barrio le ofrece otra realidad. (FILMAFFINITY) \n  \n  \n\nActividad financiada con cargo a los créditos del Pacto de Estado contra la violencia de género\, recibidos del Ministerio de la Presidencia\, Relaciones con las Cortes e Igualdad\, a través de la Secretaría de Estado
URL:https://www.mieres.es/evento/jornadas-25n-ciclo-cine-igualdad-rita-de-paz-vega/
LOCATION:Casa de Cultura Teodoro Cuesta\, Calle Manuel Llaneza\, 8\, Mieres\, Asturias\, 33600\, España
CATEGORIES:Charlas-coloquio,Igualdad
ATTACH;FMTTYPE=image/jpeg:https://www.mieres.es/wp-content/uploads/2025/10/25N-2025-cine-igualdad.jpg
GEO:43.2502294;-5.7729571
X-APPLE-STRUCTURED-LOCATION;VALUE=URI;X-ADDRESS=Casa de Cultura Teodoro Cuesta Calle Manuel Llaneza 8 Mieres Asturias 33600 España;X-APPLE-RADIUS=500;X-TITLE=Calle Manuel Llaneza\, 8:geo:-5.7729571,43.2502294
END:VEVENT
END:VCALENDAR