BEGIN:VCALENDAR
VERSION:2.0
PRODID:-//Ayuntamiento de Mieres - ECPv5.16.1.1//NONSGML v1.0//EN
CALSCALE:GREGORIAN
METHOD:PUBLISH
X-WR-CALNAME:Ayuntamiento de Mieres
X-ORIGINAL-URL:https://www.mieres.es
X-WR-CALDESC:Eventos para Ayuntamiento de Mieres
BEGIN:VTIMEZONE
TZID:Europe/Madrid
BEGIN:DAYLIGHT
TZOFFSETFROM:+0100
TZOFFSETTO:+0200
TZNAME:CEST
DTSTART:20250330T010000
END:DAYLIGHT
BEGIN:STANDARD
TZOFFSETFROM:+0200
TZOFFSETTO:+0100
TZNAME:CET
DTSTART:20251026T010000
END:STANDARD
END:VTIMEZONE
BEGIN:VEVENT
DTSTART;TZID=Europe/Madrid:20251121T100000
DTEND;TZID=Europe/Madrid:20251121T130000
DTSTAMP:20260421T022510
CREATED:20251113T094445Z
LAST-MODIFIED:20251113T101428Z
UID:76469-1763719200-1763730000@www.mieres.es
SUMMARY:I Jornada "Digitalízate a tu ritmo. La inteligencia artificial también es para tí"
DESCRIPTION:  \n\n  \nTalleres ‘Paso a paso digital’ \nI Jornada “Digitalízate a tu ritmo. La inteligencia artificial también es para tí”\nViernes 21 de noviembre de 2025\, de 10:00 a 13.00h. \n\n\nCasa de Cultura Teodoro Cuesta\nInscripciones gratuitas a través del teléfono 614166213 o del correo electrónico administracion@blancomediacion.com \n\n\nOrganizado por la Agrupación Vecinal de Mieres y CAVASTUR \n\n\n\n  \nPierde el miedo a la tecnología y gana autonomía en tu día a día.\nAprende como la digitalización y la inteligencia artificial pueden hacer tu vida más fácil. \n  \n\n 
URL:https://www.mieres.es/evento/i-jornada-digitalizate-a-tu-ritmo-la-inteligencia-artificial-tambien-es-para-ti/
LOCATION:Casa de Cultura Teodoro Cuesta\, Calle Manuel Llaneza\, 8\, Mieres\, Asturias\, 33600\, España
CATEGORIES:Taller
ATTACH;FMTTYPE=image/jpeg:https://www.mieres.es/wp-content/uploads/2025/11/cartel-digitalizate-a-ti-mismo-2025-mieres.jpeg
GEO:43.2502294;-5.7729571
X-APPLE-STRUCTURED-LOCATION;VALUE=URI;X-ADDRESS=Casa de Cultura Teodoro Cuesta Calle Manuel Llaneza 8 Mieres Asturias 33600 España;X-APPLE-RADIUS=500;X-TITLE=Calle Manuel Llaneza\, 8:geo:-5.7729571,43.2502294
END:VEVENT
BEGIN:VEVENT
DTSTART;TZID=Europe/Madrid:20251121T110000
DTEND;TZID=Europe/Madrid:20251121T110000
DTSTAMP:20260421T022510
CREATED:20251029T113210Z
LAST-MODIFIED:20251029T113210Z
UID:76347-1763722800-1763722800@www.mieres.es
SUMMARY:I Cross Escolar Comarcal. Juegos deportivos del Pdo. de Asturias 2025/26
DESCRIPTION: Juegos Deportivos del Pdo. de Asturias 2025/26 \n\nI Cross Escolar Comarcal\n  \nViernes\, 21 de noviembre de 2025. 11:00h.\nEstadio Hermanos Antuña \nInscripciones gratuitas en los propios colegios Categorías de chupetín a benjamín) y en el Club Atletismo Mieres (infantil y cadete) \n\n 
URL:https://www.mieres.es/evento/i-cross-escolar-comarcal-juegos-deportivos-del-pdo-de-asturias-2025-26/
LOCATION:Estadio Hermanos Antuña\, Estadio Hermanos Antuña\, Mieres\, Asturias\, 33600
CATEGORIES:Deportes
ATTACH;FMTTYPE=image/jpeg:https://www.mieres.es/wp-content/uploads/2025/10/Primer-cross-escolar-mieres-2025.jpg
ORGANIZER;CN="Club%20Atletismo%20Mieres":MAILTO:atletismomieres@hotmail.com
GEO:43.249719;-5.7785282
X-APPLE-STRUCTURED-LOCATION;VALUE=URI;X-ADDRESS=Estadio Hermanos Antuña Estadio Hermanos Antuña Mieres Asturias 33600;X-APPLE-RADIUS=500;X-TITLE=Estadio Hermanos Antuña:geo:-5.7785282,43.249719
END:VEVENT
BEGIN:VEVENT
DTSTART;TZID=Europe/Madrid:20251121T110000
DTEND;TZID=Europe/Madrid:20251121T110000
DTSTAMP:20260421T022510
CREATED:20251104T130950Z
LAST-MODIFIED:20251104T130950Z
UID:76420-1763722800-1763722800@www.mieres.es
SUMMARY:Amagüestu 2025 en la Residencia Valle del Caudal: Fiesta del Amagüestu con el C. P. Aniceto Sela
DESCRIPTION:Amagüestu 2025\nen la Residencia Valle del Caudal \nViernes\, 21 de noviembre\n11:00h. \nFiesta del Amagüestu intergeneracional\ncon el C. P. Aniceto Sela\n\nResidencia Valle del Caudal -Mieres- \nActividades dirigidas a los/as residentes\, familiares y amistades \n\n 
URL:https://www.mieres.es/evento/amaguestu-2025-en-la-residencia-valle-del-caudal-fiesta-del-amaguestu-con-el-c-p-aniceto-sela/
LOCATION:Colegio Aniceto Sela\, C/ Manuel LLaneza\, s/n\, Mieres\, Asturias\, 33600
CATEGORIES:Bienestar Social
ATTACH;FMTTYPE=image/jpeg:https://www.mieres.es/wp-content/uploads/2025/11/Amaguestu-en-la-Residencia-Valle-del-Caudal-2025.jpg
GEO:43.2503441;-5.7763606
X-APPLE-STRUCTURED-LOCATION;VALUE=URI;X-ADDRESS=Colegio Aniceto Sela C/ Manuel LLaneza s/n Mieres Asturias 33600;X-APPLE-RADIUS=500;X-TITLE=C/ Manuel LLaneza\, s/n:geo:-5.7763606,43.2503441
END:VEVENT
BEGIN:VEVENT
DTSTART;TZID=Europe/Madrid:20251121T180000
DTEND;TZID=Europe/Madrid:20251121T180000
DTSTAMP:20260421T022510
CREATED:20251104T130821Z
LAST-MODIFIED:20251104T130821Z
UID:76419-1763748000-1763748000@www.mieres.es
SUMMARY:Amagüestu 2025 en la Residencia Valle del Caudal: Actuación del Coro Minero de Turón
DESCRIPTION:Amagüestu 2025\nen la Residencia Valle del Caudal \nViernes\, 21 de noviembre\n18:00h. \nActuación del Coro Minero de Turón\n  \nResidencia Valle del Caudal -Mieres- \nActividades dirigidas a los/as residentes\, familiares y amistades \n\n 
URL:https://www.mieres.es/evento/amaguestu-2025-en-la-residencia-valle-del-caudal-actuacion-del-coro-minero-de-turon/
LOCATION:Residencia de personas mayores Valle del Caudal\, Calle Doce de Octubre s/n\, Mieres\, Asturias\, 33600
CATEGORIES:Bienestar Social
ATTACH;FMTTYPE=image/jpeg:https://www.mieres.es/wp-content/uploads/2025/11/Amaguestu-en-la-Residencia-Valle-del-Caudal-2025.jpg
GEO:43.2523473;-5.773673
X-APPLE-STRUCTURED-LOCATION;VALUE=URI;X-ADDRESS=Residencia de personas mayores Valle del Caudal Calle Doce de Octubre s/n Mieres Asturias 33600;X-APPLE-RADIUS=500;X-TITLE=Calle Doce de Octubre s/n:geo:-5.773673,43.2523473
END:VEVENT
BEGIN:VEVENT
DTSTART;TZID=Europe/Madrid:20251121T183000
DTEND;TZID=Europe/Madrid:20251121T183000
DTSTAMP:20260421T022510
CREATED:20251114T125940Z
LAST-MODIFIED:20251114T130239Z
UID:76528-1763749800-1763749800@www.mieres.es
SUMMARY:II Concurso 'Explorando el Pote de mi Güela'. XXXIV Jornadas Gastronómicas del Pote del Valle de Turón
DESCRIPTION:  \n\nXXXIV Jornadas Gastronómicas del Pote de Turón \nII Concurso ‘Explorando el Pote de mi Güela’\n  \n21 de noviembre de 2025. 18:30h\nCentro Social y de Personas Mayores de Turón \n\n  \nDentro de nuestras queridas Jornadas del Pote\, celebramos de nuevo este concurso pensado para aficionados\, amantes de la cocina tradicional y defensores del sabor de casa. \nCada participante deberá traer el pote ya preparado desde casa. En el recinto habrá cocinas disponibles para calentarlo y dejarlo listo para la degustación del jurado.\nEs una oportunidad perfecta para compartir recetas de familia\, dar visibilidad a nuestra cultura gastronómica y disfrutar juntos de un ambiente cercano y festivo. \n Os animamos a participar y a mantener viva la tradición del pote\, como lo facien les nuestres güeles.\nEl Concurso se enmarca en las XXXIV Jornadas del Pote de Turón\, que se celebrarán del 28 de noviembre al 8 de diciembre en el valle turonés\, con la participación de una decena de establecimientos hosteleros. \n  \n\n 
URL:https://www.mieres.es/evento/ii-concurso-explorando-el-pote-de-mi-guela-xxxiv-jornadas-gastronomicas-del-pote-del-valle-de-turon/
LOCATION:Centro Social de Personas Mayores\, C/ Escuela de Capataces 41\, Mieres\, Asturias\, 33600 \, España
CATEGORIES:Comercio y Hostelería,Gastronomía
ATTACH;FMTTYPE=image/jpeg:https://www.mieres.es/wp-content/uploads/2025/11/Cartel-pote-mi-guela-2025.jpeg
GEO:43.2528414;-5.774689
X-APPLE-STRUCTURED-LOCATION;VALUE=URI;X-ADDRESS=Centro Social de Personas Mayores C/ Escuela de Capataces 41 Mieres Asturias 33600  España;X-APPLE-RADIUS=500;X-TITLE=C/ Escuela de Capataces 41:geo:-5.774689,43.2528414
END:VEVENT
BEGIN:VEVENT
DTSTART;TZID=Europe/Madrid:20251121T200000
DTEND;TZID=Europe/Madrid:20251121T200000
DTSTAMP:20260421T022510
CREATED:20251028T092721Z
LAST-MODIFIED:20251028T092721Z
UID:76306-1763755200-1763755200@www.mieres.es
SUMMARY:Jornadas 25N. Teatro: "Mujeres a escena"\, por Arte Producciones José Rico
DESCRIPTION:Jornadas 25N 2025\nTeatro: \n“Mujeres a escena”\npor Arte Producciones José Rico\n  \nViernes\, 21 de noviembre de 2025\, 20:00h.\nAuditoriu Teodoro Cuesta \nEntrada libre hasta completar aforo \n\n  \nTres trabajadoras de un teatro están ultimando los aspectos técnicos antes de que comience la representación. Mientras trabajan\, entre cables\, focos y herramientas\, hablan del montaje de esa tarde y de otras obras de teatro que han visto en su vida o que incluso han representado en su época escolar. Así\, se meten en la piel de famosos personajes femeninos del teatro que les han marcado de alguna manera… \nJuegan entre ellas a ser «grandes actrices» por un ratito. Para cada relato\, encuentran una canción acorde que le da sentido actual a los textos. \nUn espectáculo sencillo\, emotivo\, muy ágil y divertido\, que pretende enfatizar el valor que han tenido los personajes femeninos en la literatura teatral universal para la evolución y el cambio social. Todo ello contado por tres mujeres\, enfundadas en monos de trabajo que\, a la vez que laboran con aspectos técnicos\, se convierten en actrices y cantantes. \nVeremos en escena grandes clásicos\, siglo de oro y teatro actual. Y escucharemos\, con voz en directo de Natalia Suárez Ríos\, Vanessa Estraviz y Dulce Victoria Pérez Rumoroso\, famosas canciones de artistas como Amaral\, Alaska o hasta la mismísima Rocío Jurado. \n  \n\nReparto: Natalia Suárez Ríos\, Vanesa Estraviz y Dulce Victoria Pérez. \nDirección y dramaturgia: José Rico (a partir de textos de VVAA). \nVestuario: Arantxa Fernández \nEscenografía y Atrezzo: Arte Producciones \nFotografía: Bertophoto \nDuración: 75 minutos \n  \n\nActividad financiada con cargo a los créditos del Pacto de Estado contra la violencia de género\, recibidos del Ministerio de la Presidencia\, Relaciones con las Cortes e Igualdad\, a través de la Secretaría de Estado
URL:https://www.mieres.es/evento/jornadas-25n-teatro-mujeres-a-escena-por-arte-producciones-jose-rico/
LOCATION:Casa de Cultura Teodoro Cuesta\, Calle Manuel Llaneza\, 8\, Mieres\, Asturias\, 33600\, España
CATEGORIES:Igualdad,Teatro
ATTACH;FMTTYPE=image/jpeg:https://www.mieres.es/wp-content/uploads/2025/10/WhatsApp-Image-2025-10-17-at-14.28.10.jpeg
GEO:43.2502294;-5.7729571
X-APPLE-STRUCTURED-LOCATION;VALUE=URI;X-ADDRESS=Casa de Cultura Teodoro Cuesta Calle Manuel Llaneza 8 Mieres Asturias 33600 España;X-APPLE-RADIUS=500;X-TITLE=Calle Manuel Llaneza\, 8:geo:-5.7729571,43.2502294
END:VEVENT
END:VCALENDAR