BEGIN:VCALENDAR
VERSION:2.0
PRODID:-//Ayuntamiento de Mieres - ECPv5.16.1.1//NONSGML v1.0//EN
CALSCALE:GREGORIAN
METHOD:PUBLISH
X-WR-CALNAME:Ayuntamiento de Mieres
X-ORIGINAL-URL:https://www.mieres.es
X-WR-CALDESC:Eventos para Ayuntamiento de Mieres
BEGIN:VTIMEZONE
TZID:Europe/Madrid
BEGIN:DAYLIGHT
TZOFFSETFROM:+0100
TZOFFSETTO:+0200
TZNAME:CEST
DTSTART:20250330T010000
END:DAYLIGHT
BEGIN:STANDARD
TZOFFSETFROM:+0200
TZOFFSETTO:+0100
TZNAME:CET
DTSTART:20251026T010000
END:STANDARD
END:VTIMEZONE
BEGIN:VEVENT
DTSTART;VALUE=DATE:20251123
DTEND;VALUE=DATE:20251124
DTSTAMP:20260421T022653
CREATED:20251120T133028Z
LAST-MODIFIED:20251120T133028Z
UID:76574-1763856000-1763942399@www.mieres.es
SUMMARY:Agenda deportiva fin de semana (22/23NOV2025)
DESCRIPTION:  \n \n\n\n\n22/11/2025\n10:00h.\nPABELLON VISIOLA ROLLAN\nALEVIN\nC.P. MIERES NEGRO – TELECABLE HC B\n\n\n22/11/2025\n13:15h.\nPABELLON VISIOLA ROLLAN\nBENJAMIN\nC.P. MIERES BLANCO – TELECABLE HC C\n\n\n22/11/2025\n14:30h.\nPABELLON VISIOLA ROLLAN\nALEVIN\nC.P. MIERES DORADO – C.P.CORREDORIA\n\n\n22/11/2025\n15:45h.\nPABELLON VISIOLA ROLLAN\nJUVENIL\nC.P. MIERES NEGRO – SD PONFERRADINA\n\n\n22/11/2025\n17:00h.\nPABELLON VISIOLA ROLLAN\nSENIOR MASCULINO\nC.P. MIERES – SD PONFERRADINA\n\n\n23/11/2025\n10:30h.\nPABELLON VISIOLA ROLLAN\nJUNIOR\nC.P. MIERES BLANCO – CENTRO ASTURIANO\n\n\n23/11/2025\n11:45h.\nPABELLON VISIOLA ROLLAN\nJUVENIL\nC.P. MIERES BLANCO – CENTRO ASTURIANO\n\n\n23/11/2025\n16:30h.\nPABELLON VISIOLA ROLLAN\nJUVENIL FEMENINO\nC.P. MIERES  – OVIEDO ROLLER\n\n\n\n \n\n\n\n22/11/2025\n11:00h.\nELISEO GUTIERREZ ESPINA\n1º INFANTIL\nCAUDAL DEPORTIVO A –  ASTUR C.F. A\n\n\n22/11/2025\n13:15h.\nELISEO GUTIERREZ ESPINA\n2º ALEVIN\nCAUDAL DEPORTIVO C – BERRON C.F. A\n\n\n22/11/2025\n13:15h.\nELISEO GUTIERREZ ESPINA\n3º ALEVIN\nCAUDAL DEPORTIVO B – ATLETICO DE LUGONES S.D. D\n\n\n22/11/2025\n15:00h.\nELISEO GUTIERREZ ESPINA\n3º JUVENIL\nCAUDAL DEPORTIVO C – CLUB DEPORTIVO SAN LUIS A\n\n\n22/11/2025\n17:30h.\nELISEO GUTIERREZ ESPINA\nLIGA NACIONAL JUVENIL\nCAUDAL DEPORTIVO A – REAL AVILES INDUSTRIAL C.F. SAD A\n\n\n\n \n\n\n\n22/11/2025\n10:30h.\nPOLIDEPORTIVO UJO\n3º BENJAMIN\nCAUDAL DEPORTIVO B – ESCUELA DE FUTBOL DE NAVA A\n\n\n22/11/2025\n12:00h.\nPOLIDEPORTIVO UJO\n3º BENJAMIN\nCAUDAL DEPORTIVO D – C.N.RIAÑO C.F. C\n\n\n\n  \n \n\n\n\n22/11/2025\n11:00h.\nPOLIDEPORTIVO DE FIGAREDO\nINFANTIL FEMENINO\nCD CREIMI Z – CV NOREÑA\n\n\n22/11/2025\n11:00h.\nPOLIDEPORTIVO DE FIGAREDO\nCADETE FEMENINO\nCD CREIMI F – CV NOREÑA C\n\n\n22/11/2025\n17:00h.\nPOLIDEPORTIVO DE FIGAREDO\nJUVENIL MASCULINO\nCD CREIMI – CID JOVELLANOS A\n\n\n22/11/2025\n19:00h.\nPOLIDEPORTIVO DE FIGAREDO\nSENIOR MASCULINO\nCD CREIMI – CID JOVELLANOS \n\n\n\n \n  \n 
URL:https://www.mieres.es/evento/agenda-deportiva-fin-de-semana-22-23nov2025-2/
LOCATION:Varias ubicaciones
CATEGORIES:Agenda Deportiva,Deportes
ATTACH;FMTTYPE=image/jpeg:https://www.mieres.es/wp-content/uploads/2025/03/agenda-deportiva-web.jpg
END:VEVENT
BEGIN:VEVENT
DTSTART;TZID=Europe/Madrid:20251123T130000
DTEND;TZID=Europe/Madrid:20251123T130000
DTSTAMP:20260421T022653
CREATED:20251113T102205Z
LAST-MODIFIED:20251113T103435Z
UID:76485-1763902800-1763902800@www.mieres.es
SUMMARY:Banda de Música de Mieres AMAM\, en concierto: "Sinestesia"
DESCRIPTION:Concierto: \n“Sinestesia”\nBanda de Música de Mieres AMAM\nDirigida por Jesus Alberto Alonso Pacheco \nCon la colaboración de la Banda de la Escuela Municipal de Música “Mª Teresa Prieto”\, de Oviedo \n  \nDomingo 23 de noviembre\, 13:00h.\nAuditorio Teodoro Cuesta \nEntrada libre hasta completar aforo
URL:https://www.mieres.es/evento/banda-de-musica-de-mieres-sinestesia/
LOCATION:Casa de Cultura Teodoro Cuesta\, Calle Manuel Llaneza\, 8\, Mieres\, Asturias\, 33600\, España
CATEGORIES:Música
ATTACH;FMTTYPE=image/jpeg:https://www.mieres.es/wp-content/uploads/2025/11/concierto-santa-cecilia-2025-AMAM.jpeg
GEO:43.2502294;-5.7729571
X-APPLE-STRUCTURED-LOCATION;VALUE=URI;X-ADDRESS=Casa de Cultura Teodoro Cuesta Calle Manuel Llaneza 8 Mieres Asturias 33600 España;X-APPLE-RADIUS=500;X-TITLE=Calle Manuel Llaneza\, 8:geo:-5.7729571,43.2502294
END:VEVENT
END:VCALENDAR