BEGIN:VCALENDAR
VERSION:2.0
PRODID:-//Ayuntamiento de Mieres - ECPv5.16.1.1//NONSGML v1.0//EN
CALSCALE:GREGORIAN
METHOD:PUBLISH
X-WR-CALNAME:Ayuntamiento de Mieres
X-ORIGINAL-URL:https://www.mieres.es
X-WR-CALDESC:Eventos para Ayuntamiento de Mieres
BEGIN:VTIMEZONE
TZID:Europe/Madrid
BEGIN:DAYLIGHT
TZOFFSETFROM:+0100
TZOFFSETTO:+0200
TZNAME:CEST
DTSTART:20250330T010000
END:DAYLIGHT
BEGIN:STANDARD
TZOFFSETFROM:+0200
TZOFFSETTO:+0100
TZNAME:CET
DTSTART:20251026T010000
END:STANDARD
END:VTIMEZONE
BEGIN:VEVENT
DTSTART;TZID=Europe/Madrid:20251127T090000
DTEND;TZID=Europe/Madrid:20251127T090000
DTSTAMP:20260421T022736
CREATED:20251125T111621Z
LAST-MODIFIED:20251125T111621Z
UID:76604-1764234000-1764234000@www.mieres.es
SUMMARY:Programa "Mieres contigo". Rutas contra la soledad: Visita al Ecomuseo Minero de Samuño -Apertura del plazo de inscripciones-
DESCRIPTION:Programa contra la soledad no deseada\nMieres contigo \n  \n\nRutas contra la soledad\nVisita al Ecomuseo Minero del Valle de Samuño\nActividad dirigida a personas mayores de 60 años\, empadronadas en el concejo de Mieres \n  \nDomingo\, 21 de diciembre de 2025. 9:30h. \n\n\nSalidas desde Rioturbio (a las 9:30h.) con parada en Mieres\ny desde Santa Cruz (a las 9:30h.) con paradas en Ujo\, Figaredo y Turón \n\nVisita al Ecomuseo Minero del Valle de Samuño\nVisita teatralizada por La Felguera\nComida incluida\n\n\nActividad gratuita. Inscripciones a partir del 27 de noviembre en el Centro Municipal de Servicios Sociales \n\n\n\n\n 
URL:https://www.mieres.es/evento/programa-mieres-contigo-rutas-contra-la-soledad-visita-al-ecomuseo-minero-de-samuno-apertura-del-plazo-de-inscripciones/
LOCATION:Centro Municipal de Servicios Sociales\, C/ Valeriano Miranda\, 9\, Mieres\, 3360\, España
CATEGORIES:Bienestar Social,Salud
ATTACH;FMTTYPE=image/jpeg:https://www.mieres.es/wp-content/uploads/2025/11/Cartel-Viaje-mieres-contigo-2025.jpg
END:VEVENT
BEGIN:VEVENT
DTSTART;TZID=Europe/Madrid:20251127T173000
DTEND;TZID=Europe/Madrid:20251127T173000
DTSTAMP:20260421T022736
CREATED:20251030T124752Z
LAST-MODIFIED:20251030T124752Z
UID:76378-1764264600-1764264600@www.mieres.es
SUMMARY:Tardes con Leo: "Antón Piñón sigue el rastro del olor"
DESCRIPTION:  \n\nCuentacuentos\nTardes con Leo \nAntón Piñón sigue el rastro del olor\nde Gabriela Keselman\n  \nBiblioteca Pública de Mieres \n\n  \nCuentacuentos a cargo de Leo\, la mascota de las bibliotecas de nuestra Red de Bibliotecas Municipales\, basado en el libro Antón Piñón sigue el rastro del olor (Ediciones Emonautas)\, escrito por Gabriela Keselman e ilustrado por Marta Moreno. Una historia hilarante donde los peques disfrutarán con olores reales\, pistas escatológicas y un héroe peculiar. \n  \nHoy es un gran día en el Gran Bosque: se va a entregar la Medalla de Chocolate al personaje más solidario del año. Pero… ¡la medalla ha desaparecido! 🏅😱 Y lo único que ha quedado tras de sí son pistas… muy olorosas. Aquí entra en acción Antón Piñón\, el detective más sagaz\, que con su agudo olfato decide seguir el rastro de caquitas para descubrir al culpable. \nEste original y divertidísimo libro infantil combina una historia de misterio con efectos olfativos reales. Cada página contiene elementos para oler\, que hacen la lectura toda una experiencia sensorial para los más pequeños. ¡Una forma creativa y educativa de estimular la curiosidad y la participación activa durante la lectura! \nPerfecto para niños y niñas a partir de 4 años\, Antón Piñón sigue el rastro del olor hará reír a toda la familia mientras acompaña al personaje en su loca investigación. Ideal para trabajar el sentido del olfato\, la lógica deductiva y\, sobre todo\, ¡el sentido del humor! \n  \nPatrocinado por la Caja Rural de Asturias y realizado por Paula Huelga\, de Xitech. Plazas limitadas\, asignadas por orden de inscripción. Podéis apuntaros en la Biblioteca en horario de 09:00 a 20:30 horas o al teléfono 985456294. ¡¡¡¡Os esperamos!!!! \n  \n\n 
URL:https://www.mieres.es/evento/tardes-con-leo-anton-pinon-sigue-el-rastro-del-olor/
LOCATION:Biblioteca Pública de Mieres\, Calle Manuel Llaneza\, 8\, Mieres\, Asturias\, 33600 \, España
CATEGORIES:Bibliotecas,Cuentacuentos
ATTACH;FMTTYPE=image/jpeg:https://www.mieres.es/wp-content/uploads/2025/10/anton-pinon-sigue-el-rastro-del-olor.jpg
ORGANIZER;CN="Red%20de%20Bibliotecas%20Municipales%20de%20Mieres":MAILTO:biblioteca@ayto-mieres.es
GEO:43.2502294;-5.7729571
X-APPLE-STRUCTURED-LOCATION;VALUE=URI;X-ADDRESS=Biblioteca Pública de Mieres Calle Manuel Llaneza 8 Mieres Asturias 33600  España;X-APPLE-RADIUS=500;X-TITLE=Calle Manuel Llaneza\, 8:geo:-5.7729571,43.2502294
END:VEVENT
BEGIN:VEVENT
DTSTART;TZID=Europe/Madrid:20251127T190000
DTEND;TZID=Europe/Madrid:20251127T200000
DTSTAMP:20260421T022736
CREATED:20251028T110032Z
LAST-MODIFIED:20251028T110337Z
UID:76321-1764270000-1764273600@www.mieres.es
SUMMARY:Jornadas 25N. Cine-Teatro-Debate: "Custodia compartida"\, con Marino Franco
DESCRIPTION:Jornadas 25N 2025\nCine-Teatro-Debate: \n “Custodia compartida”\ncon Marino Franco\n\nProyección del cortometraje “Llocura“\, sobre la violencia de género y la importancia de la salud mental\, de Marino Franco\nPieza teatral “Al otro lado del tabique“\,  sobre violencia de género\nProyección del cortometraje “Custodia compartida“\, sobre violencia vicaria\, de Marino Franco\nMesa redonda-debate sobre esta temática\, con la participación del director y actores/actrices del cortometraje\n\n  \nJueves\, 27 de noviembre de 2025\, 19:00h.\nAuditoriu Teodoro Cuesta \nEntrada libre hasta completar aforo \n\n  \nRodado en las cuencas mineras\, con Custodia compartida Marino Franco busca sensibilizar sobre “una forma devastadora de maltrato\, en la cual el agresor utiliza a los hijos o seres queridos como medio para hacer daño a la madre. Este tipo de violencia cobra vidas\, rompe familias y deja cicatrices profundas en niños que son utilizados como instrumentos de venganza”. \nLa trama del cortometraje se centra en lo que ocurre cuando “un juez decide que un maltratador puede tener la custodia compartida. Y la pregunta que nos hacemos es\, ¿un maltratador puede ser un buen padre?”. El director define la violencia vicaria como “una de las cosas más brutales que hay”: “Es urgente que la sociedad reconozca el peligro que representa. No podemos permitir que siga ocurriendo en silencio\, sin una respuesta contundente por parte de las autoridades\, las instituciones y la comunidad”. \n\n  \n\nActividad financiada con cargo a los créditos del Pacto de Estado contra la violencia de género\, recibidos del Ministerio de la Presidencia\, Relaciones con las Cortes e Igualdad\, a través de la Secretaría de Estado
URL:https://www.mieres.es/evento/jornadas-25n-cine-teatro-debate-custodia-compartida-con-marino-franco/
LOCATION:Casa de Cultura Teodoro Cuesta\, Calle Manuel Llaneza\, 8\, Mieres\, Asturias\, 33600\, España
CATEGORIES:Cine,Debate,Igualdad,Teatro
ATTACH;FMTTYPE=image/png:https://www.mieres.es/wp-content/uploads/2025/10/recorte-lne-marino-franco-.png
GEO:43.2502294;-5.7729571
X-APPLE-STRUCTURED-LOCATION;VALUE=URI;X-ADDRESS=Casa de Cultura Teodoro Cuesta Calle Manuel Llaneza 8 Mieres Asturias 33600 España;X-APPLE-RADIUS=500;X-TITLE=Calle Manuel Llaneza\, 8:geo:-5.7729571,43.2502294
END:VEVENT
END:VCALENDAR