BEGIN:VCALENDAR
VERSION:2.0
PRODID:-//Ayuntamiento de Mieres - ECPv5.16.1.1//NONSGML v1.0//EN
CALSCALE:GREGORIAN
METHOD:PUBLISH
X-WR-CALNAME:Ayuntamiento de Mieres
X-ORIGINAL-URL:https://www.mieres.es
X-WR-CALDESC:Eventos para Ayuntamiento de Mieres
BEGIN:VTIMEZONE
TZID:Europe/Madrid
BEGIN:DAYLIGHT
TZOFFSETFROM:+0100
TZOFFSETTO:+0200
TZNAME:CEST
DTSTART:20250330T010000
END:DAYLIGHT
BEGIN:STANDARD
TZOFFSETFROM:+0200
TZOFFSETTO:+0100
TZNAME:CET
DTSTART:20251026T010000
END:STANDARD
END:VTIMEZONE
BEGIN:VEVENT
DTSTART;VALUE=DATE:20251128
DTEND;VALUE=DATE:20251129
DTSTAMP:20260421T022617
CREATED:20251114T092036Z
LAST-MODIFIED:20251114T092036Z
UID:76504-1764288000-1764374399@www.mieres.es
SUMMARY:Feria navideña 2025 Asociación Ye Mieres
DESCRIPTION:Feria navideña 2025\nAsociación de Comercio\, Hostelería y Servicios Ye Mieres\n• Del 28 al 30 de noviembre en la carpa instalada en el Parque Xovellanos \n  \n\nPrograma\nViernes\, 28:\n\n12:00h. Inauguración de la Feria\, con puntos de venta y expositores de comercios pertenecientes a la Asociación.\nBarra de bar con animación y música durante todo el día.\nActividades infantiles de 18 a 20:00h.\nVenta de Caudalinos a partir de las 17:30h. (10.000 euros en caudalinos)\n20:00h. Entrega del Galardón “Orgullo de pertenencia”\, presentado por Alberto Cienfuegos “Michel”\n\n 
URL:https://www.mieres.es/evento/feria-navidena-2025-asociacion-ye-mieres/
LOCATION:Parque Xovellanos\, Parque Xovellanos\, Mieres\, Asturias\, 33600 
CATEGORIES:Feria
ATTACH;FMTTYPE=image/jpeg:https://www.mieres.es/wp-content/uploads/2025/11/feria-navidena-asociacion-ye-mieres-2025.jpg
GEO:43.2517322;-5.7764018
X-APPLE-STRUCTURED-LOCATION;VALUE=URI;X-ADDRESS=Parque Xovellanos Parque Xovellanos Mieres Asturias 33600;X-APPLE-RADIUS=500;X-TITLE=Parque Xovellanos:geo:-5.7764018,43.2517322
END:VEVENT
BEGIN:VEVENT
DTSTART;VALUE=DATE:20251128
DTEND;VALUE=DATE:20251129
DTSTAMP:20260421T022617
CREATED:20251114T130937Z
LAST-MODIFIED:20251114T130937Z
UID:76534-1764288000-1764374399@www.mieres.es
SUMMARY:XXXIV Jornadas Gastronómicas del Pote del Valle de Turón (28NOV/8DIC)
DESCRIPTION:  \n\nXXXIV Jornadas Gastronómicas del Pote del Valle de Turón\nValle de Turón\, del 28 de noviembre al 8 de diciembre de 2025 \nCon la participación de los establecimientos hosteleros del Valle: \n\nCasa Ita\nCasa Migio\nCasa Nando\nCentro de Mayores de Turón\nCoimbra\nMesón de Carlos\nLa Caleyuca\nLa Gotera de Jorge\nVatur\n\n  \n\n  \nEl valle de Turón volverá a convertirse este año en la capital del pote asturiano. Una elaboración tradicional con mucho arraigo en Asturias que protagoniza dos de los eventos gastronómicos con más renombre de la región. De un lado\, el concurso Explorando el Pote Perfecto\, que alcanza este año su octava edición. Y\, de otro\, las Jornadas Gastronómicas del Pote de Turón\, que ya suman 34 ediciones\, declaradas como Fiesta de Interés Turístico Regional\, y que se celebrarán del viernes 28 de noviembre al lunes 8 de diciembre. \nAsí\, una decena de establecimientos hosteleros del valle ofrecerán sus menús\, a un precio de 30 euros y confeccionados con este tradicional guiso que estas próximas semanas será sin duda el protagonista en Mieres y todo Asturias. Los establecimientos participantes en las jornadas son: Casa Ita\, Casa Migio\, Casa Nando\, Centro de Mayores de Turón\, Coimbra\, La Caleyuca\, La Gotera de Jorge\, Mesón de Carlos y Vatur.
URL:https://www.mieres.es/evento/xxxiv-jornadas-gastronomicas-del-pote-del-valle-de-turon-28nov-8dic/2025-11-28/
LOCATION:Turón\, Calle Centro\, 9\, 33610 Mieres\, Asturias\, Turón\, Asturias\, 33610\, España
CATEGORIES:Comercio y Hostelería,Gastronomía
ATTACH;FMTTYPE=image/jpeg:https://www.mieres.es/wp-content/uploads/2025/11/cartel-jornadas-pote-2025.jpeg
GEO:43.209144;-5.7417617
X-APPLE-STRUCTURED-LOCATION;VALUE=URI;X-ADDRESS=Turón Calle Centro 9 33610 Mieres Asturias Turón Asturias 33610 España;X-APPLE-RADIUS=500;X-TITLE=Calle Centro\, 9\, 33610 Mieres\, Asturias:geo:-5.7417617,43.209144
END:VEVENT
BEGIN:VEVENT
DTSTART;TZID=Europe/Madrid:20251128T100000
DTEND;TZID=Europe/Madrid:20251128T140000
DTSTAMP:20260421T022617
CREATED:20241218T124947Z
LAST-MODIFIED:20251126T110907Z
UID:72231-1764324000-1764338400@www.mieres.es
SUMMARY:Movámonos Xunt@s. Vacaciones activas Navidad 2025 -Apertura del plazo de inscripciones-
DESCRIPTION:  \nNueva edición de los campamentos urbanos para vacaciones activas\, organizados por la Concejalía de Infancia y Juventud de nuestro Ayuntamiento para estas próximas fiestas navideñas. Durante los días 22\, 23\, 20\, 30 y 31 de diciembre y el día 5 de enero\, se desarrollarán en el Colegio Liceo Mierense-Aniceto Sela\, de 10 a 14 horas\, donde realizarán todo tipo de juegos\, talleres y actividades de ocio y educativas. Con esta iniciativa se pretende que los y las participantes disfruten de este tiempo de ocio en horario de mañana al mismo tiempo que se facilita la organización y la conciliación personal y laboral de las familias durante estas vacaciones escolares. \nDurante estos campamentos urbanos/vacaciones activas\, las y los participantes disfrutan y aprenden con actividades lúdicas y formativas acordes a su desarrollo intelectual y motriz que permiten\, al mismo tiempo\, profundizar en valores y actitudes de respeto\, cooperación\, igualdad y tolerancia a través de juegos y talleres compartidos. \nEl campamento urbano Movámonos Xunt@s Navidad’25 es una actividad gratuita pero es necesaria la inscripción previa ya que el número de plazas es limitado. Las inscripciones se pueden realizar a partir del 28 de noviembre desde la web: https://www.vitaeventsformacion.es/mieres \n  \nPRECIO: gratuito. \nHORARIO: 10:00 a 14:00h \nLUGAR DE CELEBRACIÓN: PATIOS DEL COLEGIO LICEO MIERENSE / ANICETO SELA \nDÍAS: 22\, 23\, 29\, 30\, 31 diciembre y 5 de enero (la inscripción se realiza para todos los días). \nREQUISITOS:\nTener entre 3 años (niños/as que hayan cumplido la edad y hayan sido previamente escolarizados/as) y 12 años\nAsistencia obligatoria. Una ausencia de dos días consecutivos sin justificar será motivo de cancelación de plaza. \nPERIODO DE INSCRIPCIÓN:\nDesde el 28 de noviembre a las 9:00h hasta el 10 de diciembre a las 23:59h. \nCONFIRMACIÓN DE PLAZAS:\n11 de diciembre \n¿CÓMO ME INSCRIBO?\nDebe rellenar el formulario web que encontrará\, a partir del 28 de noviembre\, en la web indicada más arriba\,  aportando los datos solicitados. Este formulario no requiere registro previo.\nSi el formulario está bien cumplimentado\, verá un mensaje de confirmación en pantalla (no se recibe un email automático).\nCuando finalice el plazo de inscripción\, recibirá un email de confirmación de plaza o situación de lista de espera\, y unos días antes de que dé comienzo el campamento\, se le hará llegar otro correo con más información y una ficha adjunta la cual se debe entregar en mano el primer día de campamento. \nADJUDICACIÓN Y LISTAS DE ESPERA:\nEl criterio de adjudicación es el orden de llegada de las solicitudes.\nLas plazas se adjudican por orden de llegada. Si queda en lista de espera\, será informado/a de ello. Cuando otra familia cancele\, iremos avisando por email en orden de entrada en la lista de espera para ofrecer las vacantes.\nRogamos que si se le adjudica una plaza y finalmente no la necesita\, nos avise para poder mover las listas de espera. Otra familia puede aprovechar la plaza si usted no la necesita. \nCualquier duda o cuestión\, puedes llamar al 985308317 (9:00-14:00h) de lunes a viernes / 15:00 – 17:00h lunes a jueves) o enviar un email a preinscripcion@vitaevents.es \n\n 
URL:https://www.mieres.es/evento/movamonos-xunts-vacaciones-activas-navidad-2025/
LOCATION:Patio colegio Liceo/Aniceto Sela\, Colegio Público Liceo Mierense\, Mieres\, Asturias\, 33600 
CATEGORIES:Juventud e Infancia
ATTACH;FMTTYPE=image/jpeg:https://www.mieres.es/wp-content/uploads/2025/11/NAVIDAD-2025-movamonos-xuntos.jpg
ORGANIZER;CN="Concejal%C3%ADa%20de%20Infancia%20y%20Juventud":MAILTO:oij@ayto-mieres.es
GEO:43.249719;-5.7785282
X-APPLE-STRUCTURED-LOCATION;VALUE=URI;X-ADDRESS=Patio colegio Liceo/Aniceto Sela Colegio Público Liceo Mierense Mieres Asturias 33600;X-APPLE-RADIUS=500;X-TITLE=Colegio Público Liceo Mierense:geo:-5.7785282,43.249719
END:VEVENT
BEGIN:VEVENT
DTSTART;TZID=Europe/Madrid:20251128T120000
DTEND;TZID=Europe/Madrid:20251128T120000
DTSTAMP:20260421T022617
CREATED:20251027T133705Z
LAST-MODIFIED:20251027T133817Z
UID:76298-1764331200-1764331200@www.mieres.es
SUMMARY:Exposición "Mina Tres Amigos\, una historia viva"
DESCRIPTION:Exposición: \nMina Tres Amigos\, una historia viva\nEn el marco de los actos conmemorativos 25 Aniversario del cierre del Pozu Tres Amigos \n  \nSala de exposiciones de la Casa de Cultura Teodoro Cuesta\,\ndel 5 al 28 de octubre de 2025 \nHorario: de 12:00 a 14:00 y de 17:00 a 21:00h\, de lunes a viernes \nEntrada libre \nActo de inauguración\, miércoles\, 5 de noviembre\, a las 18:30h. \n\n 
URL:https://www.mieres.es/evento/exposicion-mina-tres-amigos-una-historia-viva-2/
LOCATION:Casa de Cultura Teodoro Cuesta\, Calle Manuel Llaneza\, 8\, Mieres\, Asturias\, 33600\, España
CATEGORIES:Exposiciones
ATTACH;FMTTYPE=image/jpeg:https://www.mieres.es/wp-content/uploads/2025/10/Cartel-expo-pozu-tres-amigos-2025.jpg
GEO:43.2502294;-5.7729571
X-APPLE-STRUCTURED-LOCATION;VALUE=URI;X-ADDRESS=Casa de Cultura Teodoro Cuesta Calle Manuel Llaneza 8 Mieres Asturias 33600 España;X-APPLE-RADIUS=500;X-TITLE=Calle Manuel Llaneza\, 8:geo:-5.7729571,43.2502294
END:VEVENT
BEGIN:VEVENT
DTSTART;TZID=Europe/Madrid:20251128T193000
DTEND;TZID=Europe/Madrid:20251128T193000
DTSTAMP:20260421T022617
CREATED:20251028T122910Z
LAST-MODIFIED:20251028T122910Z
UID:76338-1764358200-1764358200@www.mieres.es
SUMMARY:II Gala solidaria pola salú mental
DESCRIPTION:Gala: \nII Gala solidaria pola salú mental\n\nCon las actuaciones de: \n\nVodoo Grass\nMapi Quintana\nSilvidos&Gemidos\nTrivilorio Impro (Teatro-Comedia improvisada)\n\nPresentada por la comunicadora Arantxa Nieto \nOrganizada por Bansky Astur\, junto con la Asociación Abrazos Verdes \n  \nViernes\, 28 de noviembre de 2025. 19:30h.\nAuditoriu Teodoro Cuesta \nEntrada donativo 12 € en favor de la creación de un recurso de atención a personas afectadas por el suicidio.\nVenta online y fila 0: II Gala Solidaria Pola Salu Mental — 321Go \n\nEl auditorio Teodoro Cuesta de Mieres acogerá el próximo viernes 15 de noviembre\, a partir de las 19.30 horas\, una nueva edición de la ‘Gala solidaria pola salú mental’\, organizada por el artista ‘Banksy Astur’ y la Asociación Abrazos Verdes\, una organización de apoyo a familiares de víctimas de suicidio. \nEl acto estará presentado por la comunicadora Arantxa Nieto y contará con actuaciones musiciales\, humor y otras sorpresas. El precio de las entradas es de 12 euros\, con un total de 394 butacas a la venta. Las localidades se pueden retirar en varios establecimientos de las principales ciudades de Asturias\, así como de forma online. También se aceptan aportaciones en forma de entradas de fila 0. \nEl dinero recaudado será empleado por la Asociación Brazos Verdes para acompañar a personas afectadas por el suicidio\, especialmente en el entorno de las víctimas\, apoyando su proceso de duelo. El objetivo de la organización es disponer de una oficina propia\, con psicólogos y trabajadores sociales\, así como realizar charlas de visibilización y concienciación en centros educativos. \nAbrazos Verdes tiende un abrazo a: \n\nFamiliares y amistades de personas fallecidas por suicidio\nPersonas que sienten que no pueden con el dolor\nQuienes buscan un espacio seguro donde compartir y ser escuchados\nTodos los que necesitan un abrazo verde en medio del vacío\n\n\n 
URL:https://www.mieres.es/evento/ii-gala-solidaria-pola-salu-mental/
LOCATION:Casa de Cultura Teodoro Cuesta\, Calle Manuel Llaneza\, 8\, Mieres\, Asturias\, 33600\, España
CATEGORIES:Gala Benéfica,Teatro
ATTACH;FMTTYPE=image/jpeg:https://www.mieres.es/wp-content/uploads/2025/10/gala-salu-mental-2025-mieres.jpg
GEO:43.2502294;-5.7729571
X-APPLE-STRUCTURED-LOCATION;VALUE=URI;X-ADDRESS=Casa de Cultura Teodoro Cuesta Calle Manuel Llaneza 8 Mieres Asturias 33600 España;X-APPLE-RADIUS=500;X-TITLE=Calle Manuel Llaneza\, 8:geo:-5.7729571,43.2502294
END:VEVENT
END:VCALENDAR