BEGIN:VCALENDAR
VERSION:2.0
PRODID:-//Ayuntamiento de Mieres - ECPv5.16.1.1//NONSGML v1.0//EN
CALSCALE:GREGORIAN
METHOD:PUBLISH
X-WR-CALNAME:Ayuntamiento de Mieres
X-ORIGINAL-URL:https://www.mieres.es
X-WR-CALDESC:Eventos para Ayuntamiento de Mieres
BEGIN:VTIMEZONE
TZID:Europe/Madrid
BEGIN:DAYLIGHT
TZOFFSETFROM:+0100
TZOFFSETTO:+0200
TZNAME:CEST
DTSTART:20250330T010000
END:DAYLIGHT
BEGIN:STANDARD
TZOFFSETFROM:+0200
TZOFFSETTO:+0100
TZNAME:CET
DTSTART:20251026T010000
END:STANDARD
END:VTIMEZONE
BEGIN:VEVENT
DTSTART;VALUE=DATE:20251130
DTEND;VALUE=DATE:20251201
DTSTAMP:20260421T022506
CREATED:20251114T092913Z
LAST-MODIFIED:20251114T092913Z
UID:76509-1764460800-1764547199@www.mieres.es
SUMMARY:Feria navideña 2025 Asociación Ye Mieres
DESCRIPTION:Feria navideña 2025\nAsociación de Comercio\, Hostelería y Servicios Ye Mieres\n• Del 28 al 30 de noviembre en la carpa instalada en el Parque Xovellanos \n  \n\nPrograma\nDomingo\, 30:\n\n13:00h. Venta de Caudalinos  (10.000 euros disponibles en caudalinos)\n13:00 a 14.00h. Actuación de Laureada Banda de Música de Mieres\nSesión vermouth\, con música de los 80 hasta las 17:00h.\n\n 
URL:https://www.mieres.es/evento/feria-navidena-2025-asociacion-ye-mieres-3/
LOCATION:Parque Xovellanos\, Parque Xovellanos\, Mieres\, Asturias\, 33600 
CATEGORIES:Feria
ATTACH;FMTTYPE=image/jpeg:https://www.mieres.es/wp-content/uploads/2025/11/feria-navidena-asociacion-ye-mieres-2025.jpg
GEO:43.2517322;-5.7764018
X-APPLE-STRUCTURED-LOCATION;VALUE=URI;X-ADDRESS=Parque Xovellanos Parque Xovellanos Mieres Asturias 33600;X-APPLE-RADIUS=500;X-TITLE=Parque Xovellanos:geo:-5.7764018,43.2517322
END:VEVENT
BEGIN:VEVENT
DTSTART;VALUE=DATE:20251130
DTEND;VALUE=DATE:20251201
DTSTAMP:20260421T022507
CREATED:20251114T130937Z
LAST-MODIFIED:20251114T130937Z
UID:76539-1764460800-1764547199@www.mieres.es
SUMMARY:XXXIV Jornadas Gastronómicas del Pote del Valle de Turón (28NOV/8DIC)
DESCRIPTION:  \n\nXXXIV Jornadas Gastronómicas del Pote del Valle de Turón\nValle de Turón\, del 28 de noviembre al 8 de diciembre de 2025 \nCon la participación de los establecimientos hosteleros del Valle: \n\nCasa Ita\nCasa Migio\nCasa Nando\nCentro de Mayores de Turón\nCoimbra\nMesón de Carlos\nLa Caleyuca\nLa Gotera de Jorge\nVatur\n\n  \n\n  \nEl valle de Turón volverá a convertirse este año en la capital del pote asturiano. Una elaboración tradicional con mucho arraigo en Asturias que protagoniza dos de los eventos gastronómicos con más renombre de la región. De un lado\, el concurso Explorando el Pote Perfecto\, que alcanza este año su octava edición. Y\, de otro\, las Jornadas Gastronómicas del Pote de Turón\, que ya suman 34 ediciones\, declaradas como Fiesta de Interés Turístico Regional\, y que se celebrarán del viernes 28 de noviembre al lunes 8 de diciembre. \nAsí\, una decena de establecimientos hosteleros del valle ofrecerán sus menús\, a un precio de 30 euros y confeccionados con este tradicional guiso que estas próximas semanas será sin duda el protagonista en Mieres y todo Asturias. Los establecimientos participantes en las jornadas son: Casa Ita\, Casa Migio\, Casa Nando\, Centro de Mayores de Turón\, Coimbra\, La Caleyuca\, La Gotera de Jorge\, Mesón de Carlos y Vatur.
URL:https://www.mieres.es/evento/xxxiv-jornadas-gastronomicas-del-pote-del-valle-de-turon-28nov-8dic/2025-11-30/
LOCATION:Turón\, Calle Centro\, 9\, 33610 Mieres\, Asturias\, Turón\, Asturias\, 33610\, España
CATEGORIES:Comercio y Hostelería,Gastronomía
ATTACH;FMTTYPE=image/jpeg:https://www.mieres.es/wp-content/uploads/2025/11/cartel-jornadas-pote-2025.jpeg
GEO:43.209144;-5.7417617
X-APPLE-STRUCTURED-LOCATION;VALUE=URI;X-ADDRESS=Turón Calle Centro 9 33610 Mieres Asturias Turón Asturias 33610 España;X-APPLE-RADIUS=500;X-TITLE=Calle Centro\, 9\, 33610 Mieres\, Asturias:geo:-5.7417617,43.209144
END:VEVENT
BEGIN:VEVENT
DTSTART;TZID=Europe/Madrid:20251130T190000
DTEND;TZID=Europe/Madrid:20251130T190000
DTSTAMP:20260421T022507
CREATED:20251028T103222Z
LAST-MODIFIED:20251030T082447Z
UID:76314-1764529200-1764529200@www.mieres.es
SUMMARY:Jornadas 25N. Recital: "Poecast"\, por Mala Maextra
DESCRIPTION:Jornadas 25N 2025\nRecital: \n“Poecast”\npor Mala Maextra\n  \nDomingo\, 30 de noviembre de 2025\, 19:00h.\nAuditoriu Teodoro Cuesta \nEntrada libre hasta completar aforo \n\n  \nPoecast podría ser un podcast de éxito presente en alguna plataforma musical\, pero guarda una diferencia clave. Aunque en muchos podcasts los locutores conversan y debaten con personas invitadas sobre temas que atraviesan a la humanidad\, en Poecast quienes hablarán serán los poemas de grandes mujeres poetas. \nSe compartirán ideas y sentires sobre temas diversos como\, por ejemplo\, la novedosa IA\, los cambios en la ciudad y el entorno rural\, las relaciones sociales de hoy en día\, a través de poemas de Gloria Fuertes\, Emily Dickinson\, Gata Cattana… \nLa expresión corporal y la interpretación de la voz serán quienes ayuden a la presentadora de Poecast a sostener y hacer sentir al público esta conversación como posible y real y a acompañarnos a su vez de la sabiduría y sensibilidad de poetas que en el presente ya no caminan entre nosotros. \n\nPrograma Dinamiz-ARTj.\nCon el apoyo del Instituto para la Transición Justa (ITJ) y la Fundación Ciudad de la Energía (CIUDEN)
URL:https://www.mieres.es/evento/jornadas-25n-recital-poecast-por-mala-maextra/
LOCATION:Casa de Cultura Teodoro Cuesta\, Calle Manuel Llaneza\, 8\, Mieres\, Asturias\, 33600\, España
CATEGORIES:Igualdad,Recital
ATTACH;FMTTYPE=image/jpeg:https://www.mieres.es/wp-content/uploads/2025/10/poecast.jpg
GEO:43.2502294;-5.7729571
X-APPLE-STRUCTURED-LOCATION;VALUE=URI;X-ADDRESS=Casa de Cultura Teodoro Cuesta Calle Manuel Llaneza 8 Mieres Asturias 33600 España;X-APPLE-RADIUS=500;X-TITLE=Calle Manuel Llaneza\, 8:geo:-5.7729571,43.2502294
END:VEVENT
END:VCALENDAR