BEGIN:VCALENDAR
VERSION:2.0
PRODID:-//Ayuntamiento de Mieres - ECPv5.16.1.1//NONSGML v1.0//EN
CALSCALE:GREGORIAN
METHOD:PUBLISH
X-WR-CALNAME:Ayuntamiento de Mieres
X-ORIGINAL-URL:https://www.mieres.es
X-WR-CALDESC:Eventos para Ayuntamiento de Mieres
BEGIN:VTIMEZONE
TZID:Europe/Madrid
BEGIN:DAYLIGHT
TZOFFSETFROM:+0100
TZOFFSETTO:+0200
TZNAME:CEST
DTSTART:20250330T010000
END:DAYLIGHT
BEGIN:STANDARD
TZOFFSETFROM:+0200
TZOFFSETTO:+0100
TZNAME:CET
DTSTART:20251026T010000
END:STANDARD
END:VTIMEZONE
BEGIN:VEVENT
DTSTART;VALUE=DATE:20251207
DTEND;VALUE=DATE:20251208
DTSTAMP:20260421T010611
CREATED:20251114T130937Z
LAST-MODIFIED:20251114T130937Z
UID:76546-1765065600-1765151999@www.mieres.es
SUMMARY:XXXIV Jornadas Gastronómicas del Pote del Valle de Turón (28NOV/8DIC)
DESCRIPTION:  \n\nXXXIV Jornadas Gastronómicas del Pote del Valle de Turón\nValle de Turón\, del 28 de noviembre al 8 de diciembre de 2025 \nCon la participación de los establecimientos hosteleros del Valle: \n\nCasa Ita\nCasa Migio\nCasa Nando\nCentro de Mayores de Turón\nCoimbra\nMesón de Carlos\nLa Caleyuca\nLa Gotera de Jorge\nVatur\n\n  \n\n  \nEl valle de Turón volverá a convertirse este año en la capital del pote asturiano. Una elaboración tradicional con mucho arraigo en Asturias que protagoniza dos de los eventos gastronómicos con más renombre de la región. De un lado\, el concurso Explorando el Pote Perfecto\, que alcanza este año su octava edición. Y\, de otro\, las Jornadas Gastronómicas del Pote de Turón\, que ya suman 34 ediciones\, declaradas como Fiesta de Interés Turístico Regional\, y que se celebrarán del viernes 28 de noviembre al lunes 8 de diciembre. \nAsí\, una decena de establecimientos hosteleros del valle ofrecerán sus menús\, a un precio de 30 euros y confeccionados con este tradicional guiso que estas próximas semanas será sin duda el protagonista en Mieres y todo Asturias. Los establecimientos participantes en las jornadas son: Casa Ita\, Casa Migio\, Casa Nando\, Centro de Mayores de Turón\, Coimbra\, La Caleyuca\, La Gotera de Jorge\, Mesón de Carlos y Vatur.
URL:https://www.mieres.es/evento/xxxiv-jornadas-gastronomicas-del-pote-del-valle-de-turon-28nov-8dic/2025-12-07/
LOCATION:Turón\, Calle Centro\, 9\, 33610 Mieres\, Asturias\, Turón\, Asturias\, 33610\, España
CATEGORIES:Comercio y Hostelería,Gastronomía
ATTACH;FMTTYPE=image/jpeg:https://www.mieres.es/wp-content/uploads/2025/11/cartel-jornadas-pote-2025.jpeg
GEO:43.209144;-5.7417617
X-APPLE-STRUCTURED-LOCATION;VALUE=URI;X-ADDRESS=Turón Calle Centro 9 33610 Mieres Asturias Turón Asturias 33610 España;X-APPLE-RADIUS=500;X-TITLE=Calle Centro\, 9\, 33610 Mieres\, Asturias:geo:-5.7417617,43.209144
END:VEVENT
BEGIN:VEVENT
DTSTART;VALUE=DATE:20251207
DTEND;VALUE=DATE:20251208
DTSTAMP:20260421T010611
CREATED:20251128T113808Z
LAST-MODIFIED:20251128T113808Z
UID:76727-1765065600-1765151999@www.mieres.es
SUMMARY:Fiestas de Santa Bárbara 2025
DESCRIPTION:Fiestas de Santa Bárbara 2025 \nDomingo\, 7 de diciembre \n\n12:00h. Sesión Vermout\nPasacalles con los grupos L’Artusu y Ruxidera\n13:00h. Picadillada\n19:30h. Actuación musical a cargo de DJ Masid\n\n  \nParque Xovellanos \nOrganiza: Asociación Cultural y Minera Santa Bárbara
URL:https://www.mieres.es/evento/fiestas-de-santa-barbara-2025-5/
LOCATION:Parque Xovellanos\, Parque Xovellanos\, Mieres\, Asturias\, 33600 
CATEGORIES:Festejos
ATTACH;FMTTYPE=image/jpeg:https://www.mieres.es/wp-content/uploads/2025/11/Cartel_Fiestas_Santa-Barbara_2025.jpg
GEO:43.2517322;-5.7764018
X-APPLE-STRUCTURED-LOCATION;VALUE=URI;X-ADDRESS=Parque Xovellanos Parque Xovellanos Mieres Asturias 33600;X-APPLE-RADIUS=500;X-TITLE=Parque Xovellanos:geo:-5.7764018,43.2517322
END:VEVENT
BEGIN:VEVENT
DTSTART;TZID=Europe/Madrid:20251207T123000
DTEND;TZID=Europe/Madrid:20251207T123000
DTSTAMP:20260421T010611
CREATED:20250926T081823Z
LAST-MODIFIED:20251007T081318Z
UID:75827-1765110600-1765110600@www.mieres.es
SUMMARY:Otoño Turístico y Cultural 2025: Visita guiada al Pozu Santa Bárbara y a la exposición “FRAME RATE: Pulse of the Earth. El pulso de la Tierra” (7DIC)
DESCRIPTION:OTOÑO TURÍSTICO Y CULTURAL EN MIERES 2025\nVisitas guiadas gratuitas\n  \nVISITA GUIADA AL POZU SANTA BÁRBARA Y A LA EXPOSICIÓN “FRAME RATE: Pulse of the Earth. El pulso de la Tierra.” \nSituado en el valle de Turón\, el Pozu Santa Bárbara fue la primera gran explotación de hulla en la cuenca del Caudal y uno de los mayores pozos mineros asturianos. Esta visita guiada te permitirá conocer la historia y características de este pozo minero\, el primero de Asturias en ser declarada Bien de Interés Cultural\, así como la exposición “FRAME RATE: Pulse of the Earth. El pulso de la Tierra.” \n  \nDETALLES DE LA ACTIVIDAD \n\nPunto de encuentro: Pozu Santa Bárbara (La Rebaldana\, Turón). Enlace Google maps: https://maps.app.goo.gl/t651ti6S2gNd8NXMA\nDuración aproximada: 1 h 15 min\nServicios incluidos: guía en español\nServicios no incluidos: traslados al punto de encuentro.\nAccesibilidad: esta ruta no es accesible para personas con movilidad reducida.\nEdad mínima: no establecida.\nCuándo reservar: puedes hacerlo hasta 48 horas antes de la actividad\, siempre y cuando haya plazas disponibles.\nMascotas: no permitidas\nEsta actividad necesita un mínimo de 5 participantes. En caso de no alcanzar ese número\, nos pondremos en contacto contigo para comunicártelo.\n\n  \nRESERVAS \nPlazas limitadas. Imprescindible formalizar reserva previa con 48 horas de antelación a la actividad. La reserva se realizará a través del formulario online (ofrecido en esta misma página\, más abajo). \n  \nCANCELACIONES \nPara cancelar la reserva realizada será necesario contactar con la Casa de Cultura a través de cualquiera de los siguientes medios: \n\nTfno.: 985 45 62 92\nE-mail: tecnicocultura@ayto-mieres.es\nWhastApp: https://wa.me/message/INUIWCTYAV7JP1\n\nLas plazas son limitadas y se habilitan listas de espera para suplir posibles cancelaciones\, motivo por el cual\, en el caso de que no puedan asistir a la ruta\, rogamos nos lo comuniquen con antelación para poder asignar las plazas a las personas que se encuentran en lista de espera. \nMás información: \nCasa de la Cultura\, C/Manuel Llaneza\, 8.\nTfno. 985456292. E-mail: tecnicocultura@ayto-mieres.es \n\n  \nVisitas guiadas “Otoño turístico y cultural en Mieres 2025” \nLa Concejalía de Turismo del Ayuntamiento de Mieres pone en marcha\, en colaboración con otras áreas municipales\, la programación Otoño Turístico y Cultural con distintas rutas y visitas guiadas gratuitas para dar a conocer el patrimonio cultural e histórico del concejo y dinamizar la actividad en el territorio. Un amplio programa que incluye visitas guiadas al Pozu Santa Bárbara y a la nueva intervención artística “Framerate: Pulse of the Earth (El Pulso de la Tierra)” que se inaugura el 15 de octubre\, la Ruta de la Revolución de Octubre o visitas a la Iglesia de Bustiello o al Poblado Minero\, entre otras. De todo y para todos los gustos y públicos en un Otoño Turístico y Cultural que arranca el próximo 5 de octubre con más de una docena de citas. \nConsulta y descarga el programa completo aquí \n  \n\n  \n \nImportante:\nSi el formulario permite la inscripción\, significa que aún quedan plazas libres.\nEn el caso de estar completo\, el formulario se cierra automáticamente.\nImprescindible rellenar un formulario por persona. Cargando… 
URL:https://www.mieres.es/evento/otono-turistico-y-cultural-2025-visita-guiada-al-pozu-santa-barbara-y-a-la-exposicion-frame-rate-pulse-of-the-earth-el-pulso-de-la-tierra-7dic/
LOCATION:Pozu Santa Bárbara\, La Rebaldana AS-337\, 19
CATEGORIES:Ruta Turística,Turismo
ATTACH;FMTTYPE=image/jpeg:https://www.mieres.es/wp-content/uploads/2025/09/Cartel_VisitasOtonoMieres_2025.jpg
END:VEVENT
BEGIN:VEVENT
DTSTART;TZID=Europe/Madrid:20251207T193000
DTEND;TZID=Europe/Madrid:20251207T193000
DTSTAMP:20260421T010611
CREATED:20251127T115801Z
LAST-MODIFIED:20251127T115801Z
UID:76687-1765135800-1765135800@www.mieres.es
SUMMARY:Proyección de la película "La marsellesa de los borrachos"\, de Pablo Gil Rituerto
DESCRIPTION:Proyección de la película: \n\n  \n“La marsellesa de los borrachos”\nde Pablo Gil Rituerto\n\nCharla-coloquio con la participación de su director y con la intervención del Coro Minero de Turón \n  \nDomingo\, 7 de diciembre\, 19:30h.\nAuditoriu Teodoro Cuesta \n\nEntrada libre hasta completar aforo \n\n\n\n\n  \nSinopsis\nEn el verano de 1961\, un grupo de jóvenes antropólogos italianos realizó un viaje clandestino por España\, con el fin de grabar canciones populares que apoyaran la resistencia antifranquista. Como resultado de su trabajo\, fueron procesados y sus grabaciones censuradas. Sesenta años después\, y de la mano de Emilio Jona\, de 92 años\, último miembro vivo de aquel grupo de viajeros\, recuperan las grabaciones inéditas y reconstruyen el viaje\, hoy\, a través de un paisaje emocional y político\, recuperando recuerdos históricos a través de estas canciones\, tan relevantes hoy como lo fueron entonces. \n  \nAño 2024\nDuración 96 min.\nDirección Pablo Gil Rituerto\nGuion Alba Lombardia\, Pablo Gil Rituerto\nReparto Documental\nFotografía  Daniel Lacasa
URL:https://www.mieres.es/evento/proyeccion-de-la-pelicula-la-marsellesa-de-los-borrachos-de-pablo-gil-rituerto/
LOCATION:Casa de Cultura Teodoro Cuesta\, Calle Manuel Llaneza\, 8\, Mieres\, Asturias\, 33600\, España
CATEGORIES:Memoria Democrática
ATTACH;FMTTYPE=image/jpeg:https://www.mieres.es/wp-content/uploads/2025/11/cartel-la_marsellesa_de_los_borrachos.jpg
GEO:43.2502294;-5.7729571
X-APPLE-STRUCTURED-LOCATION;VALUE=URI;X-ADDRESS=Casa de Cultura Teodoro Cuesta Calle Manuel Llaneza 8 Mieres Asturias 33600 España;X-APPLE-RADIUS=500;X-TITLE=Calle Manuel Llaneza\, 8:geo:-5.7729571,43.2502294
END:VEVENT
END:VCALENDAR