BEGIN:VCALENDAR
VERSION:2.0
PRODID:-//Ayuntamiento de Mieres - ECPv5.16.1.1//NONSGML v1.0//EN
CALSCALE:GREGORIAN
METHOD:PUBLISH
X-WR-CALNAME:Ayuntamiento de Mieres
X-ORIGINAL-URL:https://www.mieres.es
X-WR-CALDESC:Eventos para Ayuntamiento de Mieres
BEGIN:VTIMEZONE
TZID:Europe/Madrid
BEGIN:DAYLIGHT
TZOFFSETFROM:+0100
TZOFFSETTO:+0200
TZNAME:CEST
DTSTART:20250330T010000
END:DAYLIGHT
BEGIN:STANDARD
TZOFFSETFROM:+0200
TZOFFSETTO:+0100
TZNAME:CET
DTSTART:20251026T010000
END:STANDARD
END:VTIMEZONE
BEGIN:VEVENT
DTSTART;VALUE=DATE:20251208
DTEND;VALUE=DATE:20251209
DTSTAMP:20260421T010518
CREATED:20251114T130937Z
LAST-MODIFIED:20251114T130937Z
UID:76547-1765152000-1765238399@www.mieres.es
SUMMARY:XXXIV Jornadas Gastronómicas del Pote del Valle de Turón (28NOV/8DIC)
DESCRIPTION:  \n\nXXXIV Jornadas Gastronómicas del Pote del Valle de Turón\nValle de Turón\, del 28 de noviembre al 8 de diciembre de 2025 \nCon la participación de los establecimientos hosteleros del Valle: \n\nCasa Ita\nCasa Migio\nCasa Nando\nCentro de Mayores de Turón\nCoimbra\nMesón de Carlos\nLa Caleyuca\nLa Gotera de Jorge\nVatur\n\n  \n\n  \nEl valle de Turón volverá a convertirse este año en la capital del pote asturiano. Una elaboración tradicional con mucho arraigo en Asturias que protagoniza dos de los eventos gastronómicos con más renombre de la región. De un lado\, el concurso Explorando el Pote Perfecto\, que alcanza este año su octava edición. Y\, de otro\, las Jornadas Gastronómicas del Pote de Turón\, que ya suman 34 ediciones\, declaradas como Fiesta de Interés Turístico Regional\, y que se celebrarán del viernes 28 de noviembre al lunes 8 de diciembre. \nAsí\, una decena de establecimientos hosteleros del valle ofrecerán sus menús\, a un precio de 30 euros y confeccionados con este tradicional guiso que estas próximas semanas será sin duda el protagonista en Mieres y todo Asturias. Los establecimientos participantes en las jornadas son: Casa Ita\, Casa Migio\, Casa Nando\, Centro de Mayores de Turón\, Coimbra\, La Caleyuca\, La Gotera de Jorge\, Mesón de Carlos y Vatur.
URL:https://www.mieres.es/evento/xxxiv-jornadas-gastronomicas-del-pote-del-valle-de-turon-28nov-8dic/2025-12-08/
LOCATION:Turón\, Calle Centro\, 9\, 33610 Mieres\, Asturias\, Turón\, Asturias\, 33610\, España
CATEGORIES:Comercio y Hostelería,Gastronomía
ATTACH;FMTTYPE=image/jpeg:https://www.mieres.es/wp-content/uploads/2025/11/cartel-jornadas-pote-2025.jpeg
GEO:43.209144;-5.7417617
X-APPLE-STRUCTURED-LOCATION;VALUE=URI;X-ADDRESS=Turón Calle Centro 9 33610 Mieres Asturias Turón Asturias 33610 España;X-APPLE-RADIUS=500;X-TITLE=Calle Centro\, 9\, 33610 Mieres\, Asturias:geo:-5.7417617,43.209144
END:VEVENT
BEGIN:VEVENT
DTSTART;TZID=Europe/Madrid:20251208T113000
DTEND;TZID=Europe/Madrid:20251208T113000
DTSTAMP:20260421T010518
CREATED:20250926T075857Z
LAST-MODIFIED:20250926T080202Z
UID:75813-1765193400-1765193400@www.mieres.es
SUMMARY:Otoño Turístico y Cultural 2025: "Visita guiada al poblado minero de Bustiello y juego infantil de pistas" (8DIC)
DESCRIPTION:OTOÑO TURÍSTICO Y CULTURAL EN MIERES 2025\nVisitas guiadas gratuitas\n  \nVISITA AL POBLADO MINERO DE BUSTIELLO Y JUEGO INFANTIL DE PISTAS \nRecorrido guiado por el poblado minero de Bustiello\, que te permitirá conocer la historia de uno de los enclaves más singulares de la cuenca minera asturiana. Esta actividad incluye un divertido juego de pistas pensado para todas las edades. Los/las más pequeños/as (y los/las no tan pequeños/as) se convertirán en auténticos/as detectives\, resolviendo enigmas y aprendiendo mientras juegan. \nActividad ideal para familias. \n  \nDETALLES DE LA ACTIVIDAD \n\nHora: 11:30 h.\nPunto de encuentro: Centro de Interpretación del poblado minero de Bustiello. Enlace Google Maps: https://maps.app.goo.gl/zRWAD8qGFkndA9LS8\nDuración aproximada: 2 h\nServicios incluidos: guía en español\nServicios no incluidos: traslados al punto de encuentro.\nAccesibilidad: esta ruta no es accesible para personas con movilidad reducida.\nEdad mínima: 8 años. Los menores siempre han de ir acompañados por una persona adulta.\nCuándo reservar: puedes hacerlo hasta 48 horas antes de la actividad\, siempre y cuando haya plazas disponibles.\nMascotas: no permitidas\nEsta actividad necesita un mínimo de 5 participantes. En caso de no alcanzar ese número\, nos pondremos en contacto contigo para comunicártelo.\n\n  \nRESERVAS \nPlazas limitadas. Imprescindible formalizar reserva previa con 48 horas de antelación a la actividad. La reserva se realizará a través del formulario online (ofrecido en esta misma página\, más abajo). \n  \nCANCELACIONES \nPara cancelar la reserva realizada será necesario contactar con la Oficina de Turismo de Mieres a través de cualquiera de los siguientes medios: \n\nTfno.: 985 45 05 33\nE-mail: turismo@ayto-mieres.es\nWhastApp: https://wa.me/message/7WTB3WTX46UYE1\n\nLas plazas son limitadas y se habilitan listas de espera para suplir posibles cancelaciones\, motivo por el cual\, en el caso de que no puedan asistir a la ruta\, rogamos nos lo comuniquen con antelación para poder asignar las plazas a las personas que se encuentran en lista de espera. \nMás información:\nOficina de Turismo de Mieres\, C/Manuel Llaneza\, 8.\nTfno. 985450533. E-mail turismo@ayto-mieres.es \n\n  \nVisitas guiadas “Otoño turístico y cultural en Mieres 2025” \nLa Concejalía de Turismo del Ayuntamiento de Mieres pone en marcha\, en colaboración con otras áreas municipales\, la programación Otoño Turístico y Cultural con distintas rutas y visitas guiadas gratuitas para dar a conocer el patrimonio cultural e histórico del concejo y dinamizar la actividad en el territorio. Un amplio programa que incluye visitas guiadas al Pozu Santa Bárbara y a la nueva intervención artística “Framerate: Pulse of the Earth (El Pulso de la Tierra)” que se inaugura el 15 de octubre\, la Ruta de la Revolución de Octubre o visitas a la Iglesia de Bustiello o al Poblado Minero\, entre otras. De todo y para todos los gustos y públicos en un Otoño Turístico y Cultural que arranca el próximo 5 de octubre con más de una docena de citas. \nConsulta y descarga el programa completo aquí \n  \n\n  \n \nImportante:\nSi el formulario permite la inscripción\, significa que aún quedan plazas libres.\nEn el caso de estar completo\, el formulario se cierra automáticamente.\nImprescindible rellenar un formulario por persona. Cargando… 
URL:https://www.mieres.es/evento/otono-turistico-y-cultural-2025-visita-guiada-al-poblado-minero-de-bustiello-y-juego-infantil-de-pistas-8dic/
LOCATION:Poblado Minero de Bustiello
CATEGORIES:Ruta Turística,Turismo
ATTACH;FMTTYPE=image/jpeg:https://www.mieres.es/wp-content/uploads/2025/09/Cartel_VisitasOtonoMieres_2025.jpg
ORGANIZER;CN="Concejal%C3%ADa%20de%20Turismo":MAILTO:turismo@ayto-mieres.es
END:VEVENT
BEGIN:VEVENT
DTSTART;TZID=Europe/Madrid:20251208T120000
DTEND;TZID=Europe/Madrid:20251208T120000
DTSTAMP:20260421T010518
CREATED:20251128T114127Z
LAST-MODIFIED:20251128T114127Z
UID:76729-1765195200-1765195200@www.mieres.es
SUMMARY:Fiestas de Santa Bárbara 2025
DESCRIPTION:Fiestas de Santa Bárbara 2025 \nLunes\, 8 de diciembre \n\n12:00h. Sesión Vermout\n\nParque Xovellanos \nOrganiza: Asociación Cultural y Minera Santa Bárbara
URL:https://www.mieres.es/evento/fiestas-de-santa-barbara-2025-6/
LOCATION:Parque Xovellanos\, Parque Xovellanos\, Mieres\, Asturias\, 33600 
CATEGORIES:Festejos
ATTACH;FMTTYPE=image/jpeg:https://www.mieres.es/wp-content/uploads/2025/11/Cartel_Fiestas_Santa-Barbara_2025.jpg
GEO:43.2517322;-5.7764018
X-APPLE-STRUCTURED-LOCATION;VALUE=URI;X-ADDRESS=Parque Xovellanos Parque Xovellanos Mieres Asturias 33600;X-APPLE-RADIUS=500;X-TITLE=Parque Xovellanos:geo:-5.7764018,43.2517322
END:VEVENT
BEGIN:VEVENT
DTSTART;TZID=Europe/Madrid:20251208T190000
DTEND;TZID=Europe/Madrid:20251208T190000
DTSTAMP:20260421T010518
CREATED:20250910T103414Z
LAST-MODIFIED:20250910T103414Z
UID:75503-1765220400-1765220400@www.mieres.es
SUMMARY:Monólogo-teatro: "Generacional"\, con Agustín Jiménez
DESCRIPTION:Monólogo-Teatro \n“Generacional”\ncon Agustín Jiménez\n\n  \nLunes\, 8 de diciembre\, 19:00h. \nAuditoriu Teodoro Cuesta \nEntrada 15€\nEntradas online disponibles en este enlace (a partir del viernes\, 12 de septiembre\, a las 10:00h) \n \n\n  \nEn Generacional encontramos al mejor Agustín Jiménez con un show en directo sorprendente. Comedia para todas las generaciones llena del virtuosismo interpretativo que caracteriza a este maestro del género. \n  \nAgustín Jiménez. Actor y comediante versátil\, licenciado en la RESAD en 1993\, con una brillante y extensa carrera. \nDesde sus comienzos\, Agustín se formó y trabajó en diversas ramas del arte. Fue Profesor de Teatro del grupo Rosa Chacel durante ocho años consecutivos; las obras que dirigió fueron siempre finalistas o premiadas en el Certamen de la Comunidad de Madrid. Miembro de la Agrupación Coral El Madroño y de la Compañía Lírica Barbieri durante 7 años\, actuando en Los Veranos de la Villa. Miembro Fundador de la emisora Radio Enlace (que hoy cumple 30 años). Miembro de la SEI como Ilusionista Profesional (habiendo sido alumno en la escuela de Juan Tamariz)\, y del Club de Payasos Españoles y Artistas de Circo. \nEstudió Pantomima clásica con Julio Castronuovo y Pepe Viyuela y participó en proyectos durante años en la UNED y otras instituciones. Entre sus trabajos más destacados se encuentran las colaboraciones con la compañía Tricicle. \nDurante años ha sido Asesor Creativo de espectáculos y obras de teatro\, trabajando para varias compañías\, en televisión y radio. Profesor del INEM de animadores turísticos\, profesor en la Unión de Actores y docente en la escuela de magia de Ana Tamariz\, de la que aún es colaborador habitual. Ponente en la UNED y creador de material pedagógico para ARCE. \nAgustín es actor reconocido; protagonista de un gran número de obras y habitual de compañías y productoras de renombre como Yllana\, Pentación\, Focus y Nearco. Entre sus papeles más destacados se encuentran “Piñón”\, de “La cena de los idiotas” (cuatro años consecutivos y reconocimiento de crítica y público)\, o las obras “El apagón”\, “Una boda feliz”\, “Ben Hur” (Festival Internacional de Teatro Clásico de Mérida)\, “Perdidos”\, “Un Oscar para Oscar” y otras muchas\, habiendo actuado en los teatros más importantes de España. Es autor teatral de varios espectáculos y ha adaptado obras de otros autores. \nEn televisión\, su trayectoria es vasta. Guionista de series como “Siete Vidas”\, “Casi Perfecto”\, “La Hora de José Mota”\, etc. Presentador con programas propios y colaborador en programas de entretenimiento de gran popularidad: “Diario del Analista Catódico”\, “El Hormiguero”\, “El Club de Flo”\, “Splunge”\, “La Noche de Fuentes y CIA”\, “Los irrepetibles”\, “Espinete no existe” y muchos más. \nActor en series de gran audiencia como “Mis adorables vecinos”\, “Siete Vidas”\, “El divo” (protagonista)\, “Telecompring”\, “Chiringuito de Pepe”\, “Se hace saber”\, “A ver si llego”\, etc. Agustín ha trabajado como actor de reparto en cine\, en las películas “Ocho apellidos catalanes”\, “Yucatán”\, “Mi amor perdido”\, “De caperucita a loba”\, “Un mal día lo tiene cualquiera” y “Por tus muertos”. También ha participado en varios especiales de Nochevieja con José Mota. \nHa participado en decenas de convenciones a lo largo de su carrera\, para empresas como Siemens\, Peugeot\, Midas\, Divina Pastora\, Endesa\, Renault\, Liberti Seguros\, Tena Men\, Heineken\, Casino de Madrid\, Grupo Ibérica\, Calygas\, Ernst and Young\,  Baskonia Basket\, Secúritas\, Media Market\, etc. \nAdemás de su obra como actor de teatro\, cine y televisión\, Agustín Jiménez ha sido articulista con sección propia en la revista “Maxim”\, en el periódico “Marca”\, y en otros magazines. Cuenta con cuatro libros publicados (en editoriales como Espasa Calpe): “Gente como que no”\, “Los monólogos que te dije”\, “Comedy zoo” y “Qué pequeño es el cine\, que me ha cabido en este libro”. Escribió uno de los capítulos del libro “MICRO ABIERTO” de la “Colección de Estudios” de la Universidad Autónoma de Madrid\, sobre Stand-up Comedy. Escritor de numerosos prólogos para otros autores y publicaciones sobre comedia. \nAgustín es colaborador de radio desde que fundara Radio Enlace. Ha trabajado en Cadena 100\, La SER\, Radio Marca\, y actualmente es colaborador habitual del programa de Carlos Alsina\, “Más de uno”\, en Onda Cero. \nParticipa en numerosos podscast\, como “Tras la magia”\, “A Micro Descubierto”\, “Safe Creative”\, “Vidas Pasadas” o “Detrás de las Cámaras”. \nEn su faceta de ilustrador\, Agustín fue seleccionado durante dos años consecutivos (y sus trabajos\, publicados) en la convocatoria nacional de humor gráfico “Joven y Brillante”. Desde entonces ha publicado en “Marca”\, “El Churro Ilustrado”\, ediciones de libros didácticos y múltiples libros de comedia. Es conocido por sus caricaturas y viñetas\, que a veces realiza en directo en programas televisivos\, y fue muralista. \nEn el mundo de la comedia\, Agustín es uno de los creadores e impulsores del género del Stand-up en España\, y es referente imprescindible como intérprete y autor. Entre sus numerosos reconocimientos\, destacan: Mejor Cómico (durante 2 años consecutivos) en Paramount Comedy; Mejor Cómico Nacional (Revista FHM); Cómico con más monólogos como intérprete y autor en el Club de la Comedia; Mejor espectáculo de monólogos (ASUME)\, y una larga lista de galardones. Invitado durante varios años al Festival Internacional de Humor de Caracol TV\, Colombia\, y a otros festivales extranjeros. Miembro del jurado en “El Club de Flo”\, en “El Rey de la Comedia” y en certámenes de comedia nacionales. Forma parte del elenco estable del Club de la Comedia con sus espectáculos teatrales desde el año 2005.
URL:https://www.mieres.es/evento/monologo-teatro-generacional-con-agustin-jimenez/
LOCATION:Casa de Cultura Teodoro Cuesta\, Calle Manuel Llaneza\, 8\, Mieres\, Asturias\, 33600\, España
CATEGORIES:Teatro
ATTACH;FMTTYPE=image/jpeg:https://www.mieres.es/wp-content/uploads/2025/09/agustin-jimenez-mieres-2025.jpeg
GEO:43.2502294;-5.7729571
X-APPLE-STRUCTURED-LOCATION;VALUE=URI;X-ADDRESS=Casa de Cultura Teodoro Cuesta Calle Manuel Llaneza 8 Mieres Asturias 33600 España;X-APPLE-RADIUS=500;X-TITLE=Calle Manuel Llaneza\, 8:geo:-5.7729571,43.2502294
END:VEVENT
END:VCALENDAR