BEGIN:VCALENDAR
VERSION:2.0
PRODID:-//Ayuntamiento de Mieres - ECPv5.16.1.1//NONSGML v1.0//EN
CALSCALE:GREGORIAN
METHOD:PUBLISH
X-WR-CALNAME:Ayuntamiento de Mieres
X-ORIGINAL-URL:https://www.mieres.es
X-WR-CALDESC:Eventos para Ayuntamiento de Mieres
BEGIN:VTIMEZONE
TZID:Europe/Madrid
BEGIN:DAYLIGHT
TZOFFSETFROM:+0100
TZOFFSETTO:+0200
TZNAME:CEST
DTSTART:20250330T010000
END:DAYLIGHT
BEGIN:STANDARD
TZOFFSETFROM:+0200
TZOFFSETTO:+0100
TZNAME:CET
DTSTART:20251026T010000
END:STANDARD
END:VTIMEZONE
BEGIN:VEVENT
DTSTART;VALUE=DATE:20251227
DTEND;VALUE=DATE:20251228
DTSTAMP:20260421T010615
CREATED:20251216T105138Z
LAST-MODIFIED:20251216T105138Z
UID:77065-1766793600-1766879999@www.mieres.es
SUMMARY:Feria de Navidá Artesanía y Comerciu 2025 (19DIC/5ENE)
DESCRIPTION:Feria Navidá de Artesanía y Comerciu 2025\nXXIX edición de la Feria Navideña de Artesanía y Comercio de Mieres\, una cita que ha pasado a formar parte imprescindible del calendario festivo de nuestra comarca. \n  \nHORARIOS:\nAbierto de lunes a domingo: de 11:00 a 15:00 h y de 16:00 a 21:00 h. \nHorarios especiales en las siguientes fechas: \n\n24 y 31 de diciembre: de 11:00 a 15:00 h y de 16:00 a 19:00 h.\n25 de diciembre y 1 de enero: de 16:00 a 21:00 h.\n5 de enero: de 11:00 a 15:00 h y de 16:00 a 22:00 h.\n\n  \nACTIVIDADES ESPECIALES DE NAVIDAD: \n\n21 de diciembre. L’Anguleru visita Mieres y enciende el “Fuéu máxicu de la Navidá”\, en la Plaza del Ayuntamiento\, de 18:30 a 20:00h.\n23 de diciembre. Visita de Papá Noel y elfo en la concha del parque Xovellanos\, de 17:00 a 19:00h.\n28 de diciembre. La noche aventurera. Nochevieja Infantil\, en la plaza del Ayuntamiento\, de 17:30 a 20:00h.\n4 de enero. Príncipe Aliatar y paje real\, en la concha del parque Xovellanos\, de 17:00 a 19:00h.\n\n  \nTALLERES: \n\nTALLERES INFANTILES\nTaller Navidornos: viernes 26 de diciembre.\nTaller de postales navideñas: viernes 2 de enero.\nHora: 17:00 a 19:00h. Lugar: Concha del Parque Xovellanos. Talleres abiertos sin necesidad de inscripción previa\, con participación por orden de llegada hasta completar aforo. Dirigidos a niños y niñas a partir de 5 años\, que deberán estar acompañados por una persona adulta.\n\nTALLERES CREATIVOS\nEstampación botánica: sábado 27 de diciembre.\nNosotras también pintamos: sábado 3 de enero.\nHora: 12:00 h. Lugar: Concha del  Parque Xovellanos.  Dirigidos a personas adultas. Plazas limitadas (10 personas). Inscripciones gratuitas a partir del próximo día 19 de diciembre en la caseta de “El LLokal” de la Feria de Artesanía y Comerciu.\n\n\n  \nSTANDS DE ASOCIACIONES: \n\nCEE SANTULLANO: 19 de diciembre.\nCÁRITAS ARICPRESTAL DEL CAUDAL: 20 y 21 de diciembre.\nASOCIACIÓN ESPAÑOLA CONTRA EL CÁNCER MIERES: del 22 al 25 de diciembre y del 2 al 5 de enero.\nALCER DELEGACIÓN MIERES: del 26 de diciembre al 1 de enero.\n\n  \n\n  \nPARTICIPANTES: \n\nJUGUETINOS DE MADERA\nJuguetes de madera\, tradicionales\, educativos\, instrumentos musicales\, etc. Marionetas.\nFIMUNI CREACIONES\nBisutería artesanal realizada con arcilla polimérica y otros materiales. Complementos de moda. Bolsas de tela ilustradas. Agendas y libretas personalizadas.\nSACOS TÉRMICOS DEL TRISKEL\nSacos térmicos de distintos tamaños\, formas y colores. Zapatillas y manoplas térmicas.\nARA’S BY Y MAMÁ DE DOS PRÍNCIPES AZULES\nArtículos textiles (mandilones\, coronas de cumpleaños\, sudaderas\, neceseres\, etc.) Artículos de aromaterapia\, perfumes emocionales y aceites esenciales.\nFEELING… SIEMPRE CERCA DE TI\nBisutería y artesanía en plata y piedras\, ámbar del Báltico\, coral rojo\, azabache de Asturias\, nácar\, etc.\nREGALOS MILA\nBufandas\, gorros\, gorras\, guantes\, orejeras y artículos de abrigo.\nLA CASITA DEL DUENDE\nColonias\, pendientes\, anillos\, muñecos\, pashminas\, etc.\nGUARNICIONERÍA Y ARTESANÍA SANZ\nGuarnicionería (cencerros\, campanas\, collares\, cabezadas\, etc.). Artesanía (cinturones\, carteras\, pulseras\, fundas de llavero\, etc.). Cuchillería (navajas\, cuchillos\, hachas\, piedras de afilar\, etc.)\nARCREA\, AZABACHEROS/JOYEROS\nArtículos e joyería elaborados con metales de 1ª Ley\, azabache\, ámbar\, quiastolita\, malaquita\, turquesa\, etc. Pendientes\, pulseras\, colgantes\, sortijas\, collares\, dijes etc.\nLLUNASTUR – GLOBANDY\nJoyería y cuero artesanal. Bolas de Navidad personalizadas. Regalos personalizados al momento.\nMr.RANCIO\nPrendas y accesorios con las obras del artista Mr.Rancio. Sudaderas\, camisetas\, etc.\, estampadas en Mieres artesanalmente. Ediciones limitadas de ropa interactiva. Calcetines\, bragas de cuello\, imanes\, tazas y pendientes. Láminas de arte en ediciones limitadas y obras originales.\nEL LLOKAL (TURÓN)\nArtesanía hecha a mano en el taller de estampación y confección\, reciclado y transformación de materiales promoviendo la sostenibilidad y el cuidado del medio ambiente.\n23 SHOP\nJoyería artesanal y ropa customizada.\nENTRE NUDOS Y VETAS\nProductos artesanales de madera y ganchillo (cuadros\, cuelga llaves\, portafotos\, flores y decoración).\n\n  \n  \n 
URL:https://www.mieres.es/evento/feria-de-navida-artesania-y-comerciu-2025-19dic-5ene-16/
LOCATION:Parque Xovellanos\, Parque Xovellanos\, Mieres\, Asturias\, 33600 
CATEGORIES:Comercio y Hostelería,Feria,Festejos
ATTACH;FMTTYPE=image/jpeg:https://www.mieres.es/wp-content/uploads/2025/12/CartelFeriaNavidad_Mieres2025.jpg
GEO:43.2517322;-5.7764018
X-APPLE-STRUCTURED-LOCATION;VALUE=URI;X-ADDRESS=Parque Xovellanos Parque Xovellanos Mieres Asturias 33600;X-APPLE-RADIUS=500;X-TITLE=Parque Xovellanos:geo:-5.7764018,43.2517322
END:VEVENT
BEGIN:VEVENT
DTSTART;TZID=Europe/Madrid:20251227T120000
DTEND;TZID=Europe/Madrid:20251227T120000
DTSTAMP:20260421T010615
CREATED:20251215T110155Z
LAST-MODIFIED:20251215T110155Z
UID:77028-1766836800-1766836800@www.mieres.es
SUMMARY:Taller de Estampación Botánica. Feria de Navidá Artesanía y Comerciu 2025
DESCRIPTION:Feria Navidá de Artesanía y Comerciu 2025\nTaller creativo \nTaller de estampación Botánica\nSábado 27 diciembre. 12:00 h.\nConcha del Parque Xovellanos \nDirigido a personas adultas. Plazas limitadas (10 personas).\nInscripciones gratuitas a partir del próximo día 19 de diciembre en la caseta de “El LLokal” de la Feria de Artesanía y Comerciu. \n\nLa estampación es una técnica antigua que consiste en intervenir un soporte o matriz para posteriormente entintar y transferir la imagen sobre papel\, tela\, cuero u otros materiales\, y obtener imágenes planas. \nLa placa de gel es un soporte moderno\, elaborado a partir de gelatina\, alcohol\, glicerina y agua\, con una textura dúctil que nos permite conseguir monotipos o impresiones únicas de manera simple. \nPartiremos de plantas de nuestro entorno. A través de un proceso sencillo y rápido obtendremos imágenes detalladas que asemejan mucho a la ilustración botánica clásica. \nDuración: 2 horas\nMateriales: Placa de gel\, rodillo\, tinta\, papel y vegetales \n \n\n  \n 
URL:https://www.mieres.es/evento/taller-de-estampacion-botanica-feria-de-navida-artesania-y-comerciu-2025/
LOCATION:Parque Xovellanos\, Parque Xovellanos\, Mieres\, Asturias\, 33600 
CATEGORIES:Comercio y Hostelería,Feria,Festejos,Taller
ATTACH;FMTTYPE=image/jpeg:https://www.mieres.es/wp-content/uploads/2025/12/CartelFeriaNavidad_Mieres2025.jpg
GEO:43.2517322;-5.7764018
X-APPLE-STRUCTURED-LOCATION;VALUE=URI;X-ADDRESS=Parque Xovellanos Parque Xovellanos Mieres Asturias 33600;X-APPLE-RADIUS=500;X-TITLE=Parque Xovellanos:geo:-5.7764018,43.2517322
END:VEVENT
BEGIN:VEVENT
DTSTART;TZID=Europe/Madrid:20251227T160000
DTEND;TZID=Europe/Madrid:20251227T160000
DTSTAMP:20260421T010615
CREATED:20251226T101702Z
LAST-MODIFIED:20251226T101702Z
UID:77119-1766851200-1766851200@www.mieres.es
SUMMARY:Fútbol-sala: Torneo de navidad triangular solidario PBT
DESCRIPTION:Fútbol sala \nTorneo de Navidad\nTriangular solidario PBT\nPolideportivo de Turón\nSábado\, 27 de diciembre de 2025\, de 16 a 21h. \n\n 
URL:https://www.mieres.es/evento/futbol-sala-torneo-de-navidad-triangular-solidario-pbt/
LOCATION:Polideportivo de Turón\, Plaza El Parque\, La Veguina\, Turón\, Asturias\, 33610
CATEGORIES:Deportes
ATTACH;FMTTYPE=image/jpeg:https://www.mieres.es/wp-content/uploads/2025/12/torneo-futbol-sala-navidad-turon-2025.jpg
END:VEVENT
BEGIN:VEVENT
DTSTART;TZID=Europe/Madrid:20251227T163000
DTEND;TZID=Europe/Madrid:20251227T163000
DTSTAMP:20260421T010615
CREATED:20250926T082044Z
LAST-MODIFIED:20251007T081441Z
UID:75829-1766853000-1766853000@www.mieres.es
SUMMARY:Otoño Turístico y Cultural 2025: Visita guiada al Pozu Santa Bárbara y a la exposición “FRAME RATE: Pulse of the Earth. El pulso de la Tierra” (27DIC)
DESCRIPTION:OTOÑO TURÍSTICO Y CULTURAL EN MIERES 2025\nVisitas guiadas gratuitas\n  \nVISITA GUIADA AL POZU SANTA BÁRBARA Y A LA EXPOSICIÓN “FRAME RATE: Pulse of the Earth. El pulso de la Tierra.” \nSituado en el valle de Turón\, el Pozu Santa Bárbara fue la primera gran explotación de hulla en la cuenca del Caudal y uno de los mayores pozos mineros asturianos. Esta visita guiada te permitirá conocer la historia y características de este pozo minero\, el primero de Asturias en ser declarada Bien de Interés Cultural\, así como la exposición “FRAME RATE: Pulse of the Earth. El pulso de la Tierra.” \n  \nDETALLES DE LA ACTIVIDAD \n\nPunto de encuentro: Pozu Santa Bárbara (La Rebaldana\, Turón). Enlace Google maps: https://maps.app.goo.gl/t651ti6S2gNd8NXMA\nDuración aproximada: 1 h 15 min\nServicios incluidos: guía en español\nServicios no incluidos: traslados al punto de encuentro.\nAccesibilidad: esta ruta no es accesible para personas con movilidad reducida.\nEdad mínima: no establecida.\nCuándo reservar: puedes hacerlo hasta 48 horas antes de la actividad\, siempre y cuando haya plazas disponibles.\nMascotas: no permitidas\nEsta actividad necesita un mínimo de 5 participantes. En caso de no alcanzar ese número\, nos pondremos en contacto contigo para comunicártelo.\n\n  \nRESERVAS \nPlazas limitadas. Imprescindible formalizar reserva previa con 48 horas de antelación a la actividad. La reserva se realizará a través del formulario online (ofrecido en esta misma página\, más abajo). \n  \nCANCELACIONES \nPara cancelar la reserva realizada será necesario contactar con la Casa de Cultura a través de cualquiera de los siguientes medios: \n\nTfno.: 985 45 62 92\nE-mail: tecnicocultura@ayto-mieres.es\nWhastApp: https://wa.me/message/INUIWCTYAV7JP1\n\nLas plazas son limitadas y se habilitan listas de espera para suplir posibles cancelaciones\, motivo por el cual\, en el caso de que no puedan asistir a la ruta\, rogamos nos lo comuniquen con antelación para poder asignar las plazas a las personas que se encuentran en lista de espera. \nMás información: \nCasa de la Cultura\, C/Manuel Llaneza\, 8.\nTfno. 985456292. E-mail: tecnicocultura@ayto-mieres.es \n\n  \nVisitas guiadas “Otoño turístico y cultural en Mieres 2025” \nLa Concejalía de Turismo del Ayuntamiento de Mieres pone en marcha\, en colaboración con otras áreas municipales\, la programación Otoño Turístico y Cultural con distintas rutas y visitas guiadas gratuitas para dar a conocer el patrimonio cultural e histórico del concejo y dinamizar la actividad en el territorio. Un amplio programa que incluye visitas guiadas al Pozu Santa Bárbara y a la nueva intervención artística “Framerate: Pulse of the Earth (El Pulso de la Tierra)” que se inaugura el 15 de octubre\, la Ruta de la Revolución de Octubre o visitas a la Iglesia de Bustiello o al Poblado Minero\, entre otras. De todo y para todos los gustos y públicos en un Otoño Turístico y Cultural que arranca el próximo 5 de octubre con más de una docena de citas. \nConsulta y descarga el programa completo aquí \n  \n\n  \n \nImportante:\nSi el formulario permite la inscripción\, significa que aún quedan plazas libres.\nEn el caso de estar completo\, el formulario se cierra automáticamente.\nImprescindible rellenar un formulario por persona. Cargando… 
URL:https://www.mieres.es/evento/otono-turistico-y-cultural-2025-visita-guiada-al-pozu-santa-barbara-y-a-la-exposicion-frame-rate-pulse-of-the-earth-el-pulso-de-la-tierra-27dic/
LOCATION:Pozu Santa Bárbara\, La Rebaldana AS-337\, 19
CATEGORIES:Ruta Turística,Turismo
ATTACH;FMTTYPE=image/jpeg:https://www.mieres.es/wp-content/uploads/2025/09/Cartel_VisitasOtonoMieres_2025.jpg
END:VEVENT
BEGIN:VEVENT
DTSTART;TZID=Europe/Madrid:20251227T170000
DTEND;TZID=Europe/Madrid:20251227T170000
DTSTAMP:20260421T010615
CREATED:20251027T122307Z
LAST-MODIFIED:20251027T122307Z
UID:76277-1766854800-1766854800@www.mieres.es
SUMMARY:XXXI San Silvestre Villa de Mieres 2025
DESCRIPTION:Inscripciones\nA través de la plataforma www.321go.es \nPrecio 5€ \n  \nHorario y lugar de la prueba \nC/ Ramón y Cajal\, frente al Ayuntamiento de Mieres.\nInicio: 17:00 horas para las pruebas menores. A continuación prueba adultos. Cierre meta: 20:30 horas \n  \nRecogida de dorsal \n\n\n\n\nDía 26/12/2025 en LAS OFICINAS DEL CLUB ATLETISMO MIERES (Estadio Municipal Hermanos Antuña de Mieres) de 17:00 a 20:00 horas.\nDía 27/12/2025 en LÍNEA DE SALIDA (PLAZA DE LA CONSTITUCIÓN) hasta 1 hora antes del comienzo de la prueba\n\nCategorías  \n▪ Chupetines m/f 2021-22-23-24-25\n▪ Mini-benjamín m/f 2018-2019-2020\n▪ Benjamines m/f 2016-2017\n▪ Alevines m/f 2014-2015\n▪ Infantiles m/f 2012-2013\n▪ Cadetes m/f 2010-2011\n▪ juveniles m/f 2008-2009\n▪ Senior m/f de 18 hasta 34 años\n▪ Veteranos/as A 35 a 39 años\n▪ Veteranos/as B 40 a 44 años\n▪ Veteranos/as C 45 a 49 años\n▪ Veteranos/as D 50 a 54 años\n▪ Veteranos/as E 55 a 59 años\n▪ Veteranos/as F 60 a 64 años\n▪ Veteranos/as G más de 65 años \n  \nRecorridos \n\nCategoría Chupetín: recta de 50 m en Calle Ramón y Cajal. \nCategoría Mini-benjamín: recta de 150 m en Calle Ramón y Cajal. \nCategoría Benjamín: 1 vuelta al recorrido 500 m en Calle Ramón y Cajal. \nCategoría alevín: 1 vuelta al recorrido 500 m en Calle Ramón y Cajal. \nCategoría Infantil: 1 vuelta al recorrido 900 m en Calle Ramón y Cajal. \nCategoría Cadete:1 vuelta al circuito de 2500 m. \nResto de categorías:  2.500 METROS (2 vueltas\, total 5.000 mts) \nSALIDA EN C/RAMON Y CAJAL FRENTE AYUNTAMIENTO (Plaza de la Constitución\, dirección Bario Bazuelo) – BARRIO BAZUELO – GIRO A LA DERECHA POR BARRIO BAZUELO PARA CONTINUAR DETRÁS DEL EDIFICIO DE LA UNIVERSIDAD HASTA CALLE RECTOR JULIO RODRÍGUEZ – GIRO IZQUIERDA EN CALLE RECTOR JULIO RODRÍGUEZ – GIRO A LA DERECHA EN CALLE GONZALO GUTIERREZ QUIRÓS – EN ROTONDA DE FRENTE POR CALLE VALERIANO MIRANDA – GIRO A LA DERECHA PARA TOMAR CALLE LEOPOLDO ALAS CLARIN-GIRO A LA DERECHA EN C/RAMON Y CAJAL LINEA DE META FRENTE A LA PLAZA DE LA CONSTITUCIÓN \nServicios sanitarios \n-La prueba dispondrá de servicio médico y ambulancias\, para cubrir el desarrollo de la carrera y la llegada. \nControl de bebidas \n-En la línea de meta\, los atletas dispondrán de bebidas para una buena recuperación de las reservas energéticas perdidas durante la carrera. \nCarteles indicadores \n-Cada Kilómetro estará jalonado con un cartel que indicará a los participantes la distancia recorrida. \n\n  \n\n\nDescargar Reglamento de la Carrera (PDF)
URL:https://www.mieres.es/evento/xxxi-san-silvestre-villa-de-mieres-2025/
LOCATION:Plaza del Ayuntamiento\, Plaza de la Constitución s/n\, Mieres\, 33600
CATEGORIES:Deportes
ATTACH;FMTTYPE=image/jpeg:https://www.mieres.es/wp-content/uploads/2025/10/san-silvestre-mieres-2025.jpg
ORGANIZER;CN="Club%20Atletismo%20Mieres":MAILTO:atletismomieres@hotmail.com
GEO:43.2489616;-5.7726903
X-APPLE-STRUCTURED-LOCATION;VALUE=URI;X-ADDRESS=Plaza del Ayuntamiento Plaza de la Constitución s/n Mieres 33600;X-APPLE-RADIUS=500;X-TITLE=Plaza de la Constitución s/n:geo:-5.7726903,43.2489616
END:VEVENT
BEGIN:VEVENT
DTSTART;TZID=Europe/Madrid:20251227T173000
DTEND;TZID=Europe/Madrid:20251227T173000
DTSTAMP:20260421T010615
CREATED:20251210T133936Z
LAST-MODIFIED:20251210T133936Z
UID:76895-1766856600-1766856600@www.mieres.es
SUMMARY:Navidad 2025 en la Residencia Valle del Caudal: Prenochevieja\, con Silvia Joyanes
DESCRIPTION:Navidad 2025 en la Residencia Valle del Caudal\n \nActuación musical: \nPrenochevieja\,\ncon Silvia Joyanes\n  \nSábado 27 de diciembre\, 17:30h.\nResidencia Valle del Caudal -Mieres- \n\n  \nLa Residencia Valle del Caudal ofrece un amplio abanico de actividades para celebrar estas festividades navideñas de 2025.  Dirigidas a las personas residentes en la misma\, cuentan con la participación e implicación de sus familiares y de varios centros escolares del concejo\, con interesantes actividades intergeneracionales que se sumarán a diversas actuaciones musicales\, talleres y otras actividades propias de estas fiestas navideñas.
URL:https://www.mieres.es/evento/navidad-2025-en-la-residencia-valle-del-caudal-prenochevieja-con-silvia-joyanes/
LOCATION:Residencia de personas mayores Valle del Caudal\, Calle Doce de Octubre s/n\, Mieres\, Asturias\, 33600
CATEGORIES:Bienestar Social,Música,Taller
ATTACH;FMTTYPE=image/jpeg:https://www.mieres.es/wp-content/uploads/2025/12/Actividades-navidenas-residencia-OASS-2025-2.jpg
GEO:43.2523473;-5.773673
X-APPLE-STRUCTURED-LOCATION;VALUE=URI;X-ADDRESS=Residencia de personas mayores Valle del Caudal Calle Doce de Octubre s/n Mieres Asturias 33600;X-APPLE-RADIUS=500;X-TITLE=Calle Doce de Octubre s/n:geo:-5.773673,43.2523473
END:VEVENT
END:VCALENDAR