BEGIN:VCALENDAR
VERSION:2.0
PRODID:-//Ayuntamiento de Mieres - ECPv5.16.1.1//NONSGML v1.0//EN
CALSCALE:GREGORIAN
METHOD:PUBLISH
X-WR-CALNAME:Ayuntamiento de Mieres
X-ORIGINAL-URL:https://www.mieres.es
X-WR-CALDESC:Eventos para Ayuntamiento de Mieres
BEGIN:VTIMEZONE
TZID:Europe/Madrid
BEGIN:DAYLIGHT
TZOFFSETFROM:+0100
TZOFFSETTO:+0200
TZNAME:CEST
DTSTART:20260329T010000
END:DAYLIGHT
BEGIN:STANDARD
TZOFFSETFROM:+0200
TZOFFSETTO:+0100
TZNAME:CET
DTSTART:20261025T010000
END:STANDARD
END:VTIMEZONE
BEGIN:VEVENT
DTSTART;TZID=Europe/Madrid:20260130T120000
DTEND;TZID=Europe/Madrid:20260130T120000
DTSTAMP:20260420T223952
CREATED:20251126T132745Z
LAST-MODIFIED:20251126T132745Z
UID:76659-1769774400-1769774400@www.mieres.es
SUMMARY:Exposición pictórica: "Pinceladas"\, por el Grupo 4 (5DIC/3OENE)
DESCRIPTION:Exposición pictórica: \n“Pinceladas”\npor el Grupo 4\nJavier Tejerina\, F. Bustos\, Fulgencio González y C. Jiménez \nSala de exposiciones de la Casa de Cultura Teodoro Cuesta\,\ndel 5 de diciembre de 2025 al 30 de enero de 2026 \nHorario: de 12:00 a 14:00 y de 17:00 a 21:00h\, de lunes a viernes \nEntrada libre \nActo de inauguración\, viernes 5 de diciembre\, a las 19:00h. \n\n 
URL:https://www.mieres.es/evento/exposicion-pictorica-pinceladas-por-el-grupo-4-5dic-3oene/
LOCATION:Casa de Cultura Teodoro Cuesta\, Calle Manuel Llaneza\, 8\, Mieres\, Asturias\, 33600\, España
CATEGORIES:Exposiciones
ATTACH;FMTTYPE=image/jpeg:https://www.mieres.es/wp-content/uploads/2025/11/Cartel-expo-pinceladas-nov2025-mieres.jpg
GEO:43.2502294;-5.7729571
X-APPLE-STRUCTURED-LOCATION;VALUE=URI;X-ADDRESS=Casa de Cultura Teodoro Cuesta Calle Manuel Llaneza 8 Mieres Asturias 33600 España;X-APPLE-RADIUS=500;X-TITLE=Calle Manuel Llaneza\, 8:geo:-5.7729571,43.2502294
END:VEVENT
BEGIN:VEVENT
DTSTART;TZID=Europe/Madrid:20260130T150000
DTEND;TZID=Europe/Madrid:20260130T150000
DTSTAMP:20260420T223952
CREATED:20251218T102006Z
LAST-MODIFIED:20251218T102006Z
UID:77099-1769785200-1769785200@www.mieres.es
SUMMARY:"Manitas de podador". Taller Jornadas de puertas abiertas del Huerto Intergeneracional de La Mayacina
DESCRIPTION:Jornadas de puertas abiertas del Huerto Intergeneracional de La Mayacina \nMicro-Taller: \n\n“Manitas de podador”\nImpartido por Ana María García\n  \nViernes\, 30 de enero de 2026. 15:00h. \n\n\nHuerto Intergeneracional de La Mayacina\nParticipación libre y gratuita \n\n\n\n\n  \nMicrotaller divulgativo sobre las técnicas básicas de poda y las herramientas recomendadas para su realización.\nAdemás se atenderán todas las dudas y preguntas sobre el huerto sostenible y la salud. \n\n  \n\n\n 
URL:https://www.mieres.es/evento/manitas-de-podador-taller-jornadas-de-puertas-abiertas-del-huerto-intergeneracional-de-la-mayacina-2/
LOCATION:Ecohuerto La Mayacina\, Asturias\, 33600\, España
CATEGORIES:Salud
ATTACH;FMTTYPE=image/jpeg:https://www.mieres.es/wp-content/uploads/2025/11/cartel-jornadas-ecohuerto-nov2025.jpg
END:VEVENT
BEGIN:VEVENT
DTSTART;TZID=Europe/Madrid:20260130T160000
DTEND;TZID=Europe/Madrid:20260130T160000
DTSTAMP:20260420T223952
CREATED:20251205T113917Z
LAST-MODIFIED:20251205T114035Z
UID:76840-1769788800-1769788800@www.mieres.es
SUMMARY:Exposición fotográfica:  “Microaventuras: El poder de lo tangible” \, por Javier Abad (12DIC/30ENE)
DESCRIPTION:Exposición fotográfica: \n\n“Microaventuras: El poder de lo tangible”\npor Javier Abad\nDel 12 de diciembre al 30 de enero de 2026\nHorario de miércoles a viernes\, de 16 a 19:30h. Sábados y domingos de 11 a 14h y de 16 a 19:30h \n\n\nMieres Centru Cultural\nEntrada gratuita \n\n\n\n  \nEs una exposición del fotógrafo Javier Abad que reúne fotografías y relatos de sus aventuras en la montaña\, convertidos en libro. Una invitación a detenerse\, mirar y reconectar con la naturaleza y con las personas. Un viaje desde la experiencia digital hasta la fuerza de lo impreso y lo vivido. \n  \n\n 
URL:https://www.mieres.es/evento/exposicion-fotografica-microaventuras-el-poder-de-lo-tangible-por-javier-abad-12dic-30ene-2/
LOCATION:Mieres Centru Cultural\, Calle Jerónimo Ibrán\, 10\, Mieres\, Asturias\, 33600
CATEGORIES:Exposiciones,Memoria Democrática
ATTACH;FMTTYPE=image/jpeg:https://www.mieres.es/wp-content/uploads/2025/12/cartel-expo-microaventuras-mieres-2025.jpg
END:VEVENT
BEGIN:VEVENT
DTSTART;TZID=Europe/Madrid:20260130T200000
DTEND;TZID=Europe/Madrid:20260130T200000
DTSTAMP:20260420T223952
CREATED:20250924T090141Z
LAST-MODIFIED:20250925T091301Z
UID:75740-1769803200-1769803200@www.mieres.es
SUMMARY:Nacho Vegas\, en concierto. Estreno absoluto de su nueva gira: "Vidas semipreciosas"
DESCRIPTION:Concierto: \nNacho Vegas\nEstreno absoluto de su nueva gira: “Vidas semipreciosas”\n  \nViernes\, 30 de enero de 2026\, 20:00h\nMieres Centru Cultural \nEntradas online disponibles desde el  jueves 25 de septiembre a partir de las 11:00h en este enlace: https://feverup.com/m/455940\n \n\n  \nMieres acogerá el estreno absoluto de la nueva gira de Nacho Vegas\, que lo será también de su nuevo álbum\, Vidas semipreciosas\, y el comienzo de una gira que contará con numerosos conciertos a nivel estatal y en América Latina. \nEl tour pasará después por Donostia (6/02)\, León (13/02)\, Santiago (14/02)\, Sevilla (19/02)\, Córdoba (20/02)\, Granada (21/02)\, Valencia (26/02)\, Reus (28/02)\, Badajoz (10/04)\, Cáceres (11/04)\, Valladolid (18/04)\, Madrid (23/04)\, Bilbao (15/05)\, Vitoria-Gasteiz (16/05)\, Pamplona-Iruña (28/05)\, Zaragoza (29/05)\, Barcelona (30/05) y Málaga (24/06). \nLa banda que le acompañará incluye al maestro Manu Molina a la batería\, el guitarrista Joseba Irazoki\, Miren Narbaiza a la guitarra y los coros y Hans Laguna y Ferran Resines. Tras la mesa de sonido estará Cristian Pallejà\, otro de los responsables del sonido del álbum. \n\n 
URL:https://www.mieres.es/evento/nacho-vegas-en-concierto-estreno-absoluto-de-su-nueva-gira-vidas-semipreciosas/
LOCATION:Mieres Centru Cultural\, Calle Jerónimo Ibrán\, 10\, Mieres\, Asturias\, 33600
CATEGORIES:Música
ATTACH;FMTTYPE=image/jpeg:https://www.mieres.es/wp-content/uploads/2025/09/nacho-vegas-concierto-mieres-2026.jpg
END:VEVENT
END:VCALENDAR