BEGIN:VCALENDAR
VERSION:2.0
PRODID:-//Ayuntamiento de Mieres - ECPv5.16.1.1//NONSGML v1.0//EN
CALSCALE:GREGORIAN
METHOD:PUBLISH
X-WR-CALNAME:Ayuntamiento de Mieres
X-ORIGINAL-URL:https://www.mieres.es
X-WR-CALDESC:Eventos para Ayuntamiento de Mieres
BEGIN:VTIMEZONE
TZID:Europe/Madrid
BEGIN:DAYLIGHT
TZOFFSETFROM:+0100
TZOFFSETTO:+0200
TZNAME:CEST
DTSTART:20260329T010000
END:DAYLIGHT
BEGIN:STANDARD
TZOFFSETFROM:+0200
TZOFFSETTO:+0100
TZNAME:CET
DTSTART:20261025T010000
END:STANDARD
END:VTIMEZONE
BEGIN:VEVENT
DTSTART;TZID=Europe/Madrid:20260203T193000
DTEND;TZID=Europe/Madrid:20260203T193000
DTSTAMP:20260420T224517
CREATED:20260119T085120Z
LAST-MODIFIED:20260119T085120Z
UID:77328-1770147000-1770147000@www.mieres.es
SUMMARY:Laboral Cinemateca Ambulante Mieres: "Un simple accidente"\, de Jafar Panahi
DESCRIPTION:Laboral Cinemateca Ambulante \n\nProyección de la película: \n“Un simple accidente”\nde Jafar Panahi\n  \nAuditoriu Teodoro Cuesta\nEntrada libre hasta completar aforo \n\n  \nVahid\, un modesto mecánico iraní\, se ve repentinamente forzado a rememorar su tiempo entre rejas a raíz de un encuentro casual con Eghbal\, quien le recuerda a su sádico carcelero. Alarmado\, Vahid reúne a sus antiguos compañeros de prisión para verificar la identidad de Eghbal. Pero… ¿qué harán si resulta ser él? \n  \nIrán\, Francia | 2025 | 105 min. | VOSE farsi\, azerbaiyano | NR -12 \nDirección y guion: Jafar Panahi \nReparto: Vahid Mobasseri\, Maryam Afshari\, Ebrahim Azizi\, Hadis Pakbaten\, Majid Panahi\, Mohamad Ali Elyasmehr\, Georges Hashemzadeh\, Afssaneh Najmabadi \nInformación adicional: Mejor Película en el Festival de Cannes 2025; tres premios en los Gotham Independent Film Awards 2025; Mejor director por el Círculo de Críticos de Nueva York 20025; cuatro nominaciones a los European Film Awards 2026; cuatro nominaciones a los Globos de Oro 2026; nominada a Mejor Película Europea en los Premios Goya 2026 \n  \nLa programación cinematográfica ofrecida por La Cinemateca Ambulante está coordinada por el Festival Internacional de Cine de Gijón/Xixón (Divertia Gijón S.A.).
URL:https://www.mieres.es/evento/laboral-cinemateca-ambulante-mieres-un-simple-accidente-de-jafar-panahi/
LOCATION:Casa de Cultura Teodoro Cuesta\, Calle Manuel Llaneza\, 8\, Mieres\, Asturias\, 33600\, España
CATEGORIES:Cine
ATTACH;FMTTYPE=image/jpeg:https://www.mieres.es/wp-content/uploads/2026/01/cartel-un-simple-accidente-cinemateca.jpg
GEO:43.2502294;-5.7729571
X-APPLE-STRUCTURED-LOCATION;VALUE=URI;X-ADDRESS=Casa de Cultura Teodoro Cuesta Calle Manuel Llaneza 8 Mieres Asturias 33600 España;X-APPLE-RADIUS=500;X-TITLE=Calle Manuel Llaneza\, 8:geo:-5.7729571,43.2502294
END:VEVENT
END:VCALENDAR