BEGIN:VCALENDAR
VERSION:2.0
PRODID:-//Ayuntamiento de Mieres - ECPv5.16.1.1//NONSGML v1.0//EN
CALSCALE:GREGORIAN
METHOD:PUBLISH
X-WR-CALNAME:Ayuntamiento de Mieres
X-ORIGINAL-URL:https://www.mieres.es
X-WR-CALDESC:Eventos para Ayuntamiento de Mieres
BEGIN:VTIMEZONE
TZID:Europe/Madrid
BEGIN:DAYLIGHT
TZOFFSETFROM:+0100
TZOFFSETTO:+0200
TZNAME:CEST
DTSTART:20260329T010000
END:DAYLIGHT
BEGIN:STANDARD
TZOFFSETFROM:+0200
TZOFFSETTO:+0100
TZNAME:CET
DTSTART:20261025T010000
END:STANDARD
END:VTIMEZONE
BEGIN:VEVENT
DTSTART;TZID=Europe/Madrid:20260212T110000
DTEND;TZID=Europe/Madrid:20260212T110000
DTSTAMP:20260421T000833
CREATED:20260203T130131Z
LAST-MODIFIED:20260203T130131Z
UID:77481-1770894000-1770894000@www.mieres.es
SUMMARY:Antroxu Valle de Turón 2026. Desfile colegios
DESCRIPTION: ANTROXU VALLE DE TURÓN 2026\nDesfile Colegios \nSábado\, 14 de febrero. Salida desde el Pozu San José a las 11:00h.\nFinalización en el parque de la Veguina. \n\n 
URL:https://www.mieres.es/evento/antroxu-valle-de-turon-2026-desfile-colegios/
LOCATION:Turón\, Calle Centro\, 9\, 33610 Mieres\, Asturias\, Turón\, Asturias\, 33610\, España
CATEGORIES:Festejos
ATTACH;FMTTYPE=image/jpeg:https://www.mieres.es/wp-content/uploads/2026/02/antroxu-2026-turon.jpg
GEO:43.209144;-5.7417617
X-APPLE-STRUCTURED-LOCATION;VALUE=URI;X-ADDRESS=Turón Calle Centro 9 33610 Mieres Asturias Turón Asturias 33610 España;X-APPLE-RADIUS=500;X-TITLE=Calle Centro\, 9\, 33610 Mieres\, Asturias:geo:-5.7417617,43.209144
END:VEVENT
BEGIN:VEVENT
DTSTART;TZID=Europe/Madrid:20260212T180000
DTEND;TZID=Europe/Madrid:20260212T180000
DTSTAMP:20260421T000833
CREATED:20260119T113628Z
LAST-MODIFIED:20260119T113628Z
UID:77359-1770919200-1770919200@www.mieres.es
SUMMARY:Tardes con Leo: "Si yo tuviera una púa"
DESCRIPTION:  \n\nCuentacuentos\nTardes con Leo \nSi yo tuviera una púa\nde Eva Clemente\n  \nBiblioteca Pública de Mieres \n\n  \nCuentacuentos a cargo de Leo\, la mascota de las bibliotecas de nuestra Red de Bibliotecas Municipales\, basado en el libro Si yo tuviera una púa (Ediciones Emonautas)\, escrito por Eva Clemente e ilustrado por Teresa Arias. Un cuento que nos muestra la importancia de poner límites y ser asertivos. Decir que «no» puede ser complicado incluso para nosotros los adultos. Por eso creemos que es importante enseñar a los niños a hacerlo desde que son pequeños. «Amistad por interés no dura\, pues no es». \n  \nPepincho Repúa quiere encontrar amigos para jugar. Pero ¿cuánto está dispuesto a pagar para intentar conseguirlos? Un zorro con peculiares aficiones\, una perra muy presumida\, un águila que no ha merendado\, un sapo que sueña con coronas… Estos son algunos de los personajes que encontrará este entrañable erizo durante un camino cargado de aprendizajes que le llevará a descubrir qué es la autoestima y lo importante que es aprender a cuidarse y decir que no de vez en cuando. \n  \nPatrocinado por la Caja Rural de Asturias y realizado por Paula Huelga\, de Xitech. Plazas limitadas\, asignadas por orden de inscripción. Podéis apuntaros en la Biblioteca en horario de 09:00 a 20:30 horas o al teléfono 985456294. ¡¡¡¡Os esperamos!!!! \n  \n\n 
URL:https://www.mieres.es/evento/tardes-con-leo-si-yo-tuviera-una-pua-2/
LOCATION:Bolera Municipal de Mieres\, Calle Sócrates Quintana\, 33600 Mieres\, Asturias\, Spain\, Mieres\, Principado De Asturias\, 33600
CATEGORIES:Bibliotecas,Cuentacuentos
ATTACH;FMTTYPE=image/jpeg:https://www.mieres.es/wp-content/uploads/2025/10/si-yo-tuviera-una-pua-tardes-con-leo.jpg
ORGANIZER;CN="Red%20de%20Bibliotecas%20Municipales%20de%20Mieres":MAILTO:biblioteca@ayto-mieres.es
GEO:43.239503;-5.7783653
X-APPLE-STRUCTURED-LOCATION;VALUE=URI;X-ADDRESS=Bolera Municipal de Mieres Calle Sócrates Quintana 33600 Mieres Asturias Spain Mieres Principado De Asturias 33600;X-APPLE-RADIUS=500;X-TITLE=Calle Sócrates Quintana\, 33600 Mieres\, Asturias\, Spain\, Mieres\, Principado De Asturias\, 33600:geo:-5.7783653,43.239503
END:VEVENT
BEGIN:VEVENT
DTSTART;TZID=Europe/Madrid:20260212T180000
DTEND;TZID=Europe/Madrid:20260212T180000
DTSTAMP:20260421T000833
CREATED:20260119T121038Z
LAST-MODIFIED:20260119T121038Z
UID:77362-1770919200-1770919200@www.mieres.es
SUMMARY:Laboral Cinemateca Ambulante Mieres: "Tommy Tom. En busca del peluche perdido"
DESCRIPTION:Laboral Cinemateca Ambulante \n\nCine familiar. Proyección de la película: \n“Tommy Tom. En busca del peluche perdido”\nde Erik Verkerk\n  \nAuditoriu Teodoro Cuesta\nEntrada libre hasta completar aforo \n\n  \nEn un caluroso día de verano\, el intrépido gato naranja Tommy Tom descubre que su peluche favorito\, Bear\, ha desaparecido. Con la ayuda de su amigo Cat Mouse se embarca en una emocionante búsqueda para encontrar a Bear\, donde tendrán que salir del jardín y descubrir un nuevo mundo. \n  \nPaíses Bajos | 2024 | 62 min. | español | TP (especialmente recomendada para la infancia) \nDirección: Erik Verkerk\, Joost Van Den Bosch \nGuion: Erik Verkerk\, Joost Van Den Bosch\, Burny Bos\, sobre una idea de Jet Boeke \nReparto: (Animación) \nInformación adicional: Mi Primer Festival 2025; Tallin Black Nights Film Festival 2025. \n  \nLa programación cinematográfica ofrecida por La Cinemateca Ambulante está coordinada por el Festival Internacional de Cine de Gijón/Xixón (Divertia Gijón S.A.).
URL:https://www.mieres.es/evento/laboral-cinemateca-ambulante-mieres-tommy-tom-en-busca-del-peluche-perdido/
LOCATION:Casa de Cultura Teodoro Cuesta\, Calle Manuel Llaneza\, 8\, Mieres\, Asturias\, 33600\, España
CATEGORIES:Cine
ATTACH;FMTTYPE=image/jpeg:https://www.mieres.es/wp-content/uploads/2026/01/en-busca-del-peluche-cinemateca.jpg
GEO:43.2502294;-5.7729571
X-APPLE-STRUCTURED-LOCATION;VALUE=URI;X-ADDRESS=Casa de Cultura Teodoro Cuesta Calle Manuel Llaneza 8 Mieres Asturias 33600 España;X-APPLE-RADIUS=500;X-TITLE=Calle Manuel Llaneza\, 8:geo:-5.7729571,43.2502294
END:VEVENT
END:VCALENDAR