BEGIN:VCALENDAR
VERSION:2.0
PRODID:-//Ayuntamiento de Mieres - ECPv5.16.1.1//NONSGML v1.0//EN
CALSCALE:GREGORIAN
METHOD:PUBLISH
X-WR-CALNAME:Ayuntamiento de Mieres
X-ORIGINAL-URL:https://www.mieres.es
X-WR-CALDESC:Eventos para Ayuntamiento de Mieres
BEGIN:VTIMEZONE
TZID:Europe/Madrid
BEGIN:DAYLIGHT
TZOFFSETFROM:+0100
TZOFFSETTO:+0200
TZNAME:CEST
DTSTART:20260329T010000
END:DAYLIGHT
BEGIN:STANDARD
TZOFFSETFROM:+0200
TZOFFSETTO:+0100
TZNAME:CET
DTSTART:20261025T010000
END:STANDARD
END:VTIMEZONE
BEGIN:VEVENT
DTSTART;TZID=Europe/Madrid:20260215T113000
DTEND;TZID=Europe/Madrid:20260215T193000
DTSTAMP:20260420T235257
CREATED:20260206T124441Z
LAST-MODIFIED:20260206T124441Z
UID:77580-1771155000-1771183800@www.mieres.es
SUMMARY:Mieres Street: Monolito de escalada\, Skate\, Parkour y zona de psicomotricidad para peques
DESCRIPTION:Juegos y movilidad infantil/juvenil: \n\nMieres Street\n\nMonolito de escalada\nSkate\nParkour\nZona de psicomotricidad para peques\n\nDomingo 15 de febrero\, de 11:30 a 14:30 y de 16:30 a 19:30h \n\n\nPatio de los colegios Liceo Mierense y Aniceto Sela\nActividades gratuitas. Para niños/as a partir de 4 años \n\n\n 
URL:https://www.mieres.es/evento/mieres-street-monolito-de-escalada-skate-parkour-y-zona-de-psicomotricidad-para-peques/
LOCATION:Patio colegio Liceo/Aniceto Sela\, Colegio Público Liceo Mierense\, Mieres\, Asturias\, 33600 
CATEGORIES:Juventud e Infancia
ATTACH;FMTTYPE=image/jpeg:https://www.mieres.es/wp-content/uploads/2026/02/cartel-mieres-street-2026.jpg
ORGANIZER;CN="Concejal%C3%ADa%20de%20Infancia%20y%20Juventud":MAILTO:oij@ayto-mieres.es
GEO:43.249719;-5.7785282
X-APPLE-STRUCTURED-LOCATION;VALUE=URI;X-ADDRESS=Patio colegio Liceo/Aniceto Sela Colegio Público Liceo Mierense Mieres Asturias 33600;X-APPLE-RADIUS=500;X-TITLE=Colegio Público Liceo Mierense:geo:-5.7785282,43.249719
END:VEVENT
BEGIN:VEVENT
DTSTART;TZID=Europe/Madrid:20260215T190000
DTEND;TZID=Europe/Madrid:20260215T190000
DTSTAMP:20260420T235257
CREATED:20260205T172121Z
LAST-MODIFIED:20260205T173949Z
UID:77536-1771182000-1771182000@www.mieres.es
SUMMARY:Teatro: "Lota\, las Mujeres del Carbón"
DESCRIPTION:Teatro: \nLota\, las Mujeres del Carbón\n\nDomingo 15 de febrero de 2026\, 19:00 h \nAuditoriu Teodoro Cuesta\nEntrada libre hasta completar aforo \nCon la colaboración del Gobierno del Principado de Asturias. Asturies Cultura en Rede \n\n  \nUtilizando como lenguaje escénico la danza folclórica chilena y española\, complementadas con interpretación teatral\, música en vivo y las letras de Violeta Parra\, “Lota\, las Mujeres del\nCarbón”\, nos cuenta el momento histórico del cierre de la Mina de la ciudad chilena LOTA\, con una mirada centrada en la mujer como pilar de esta sociedad minera\, que nos invita a la reflexión y a la emoción a través de su temática tan vigente y universal. \n  \nFicha artística\nDirector y Coreógrafo: Pedro Fernández Embrujo\nDirectora de Escena: Christine Hucke\nColaboración Dirección Teatral: Pedro Bachura\, Arlette Ibarra\nDiseño de Escenografía\, Iluminación\, Apoyo Dirección de Escena: David Mínguez\, Elena Bilbao\, Alba Santiago\nProducción: Claudia Chacón Capdeville\nBailarines:\nPedro Fernández Embrujo\, Irene Hernández\, Alejandra Rodríguez\, Natalia Velázquez\, Silvia Martin\, Lucía Martín\, Elisa Martín\, Antonio Sánchez\, Jesús Lozano.\nMúsicos:\nCante: Anitxa; Guitarra: José Arenas; Percusión: Amador Losada; Zapatos Flamencos: Antonio García \nDuración: 70 minutos
URL:https://www.mieres.es/evento/teatro-lota-las-mujeres-del-carbon/
LOCATION:Casa de Cultura Teodoro Cuesta\, Calle Manuel Llaneza\, 8\, Mieres\, Asturias\, 33600\, España
CATEGORIES:Teatro
ATTACH;FMTTYPE=image/jpeg:https://www.mieres.es/wp-content/uploads/2026/02/cartel-teatro-LOTA-mieres.jpg
GEO:43.2502294;-5.7729571
X-APPLE-STRUCTURED-LOCATION;VALUE=URI;X-ADDRESS=Casa de Cultura Teodoro Cuesta Calle Manuel Llaneza 8 Mieres Asturias 33600 España;X-APPLE-RADIUS=500;X-TITLE=Calle Manuel Llaneza\, 8:geo:-5.7729571,43.2502294
END:VEVENT
END:VCALENDAR