BEGIN:VCALENDAR
VERSION:2.0
PRODID:-//Ayuntamiento de Mieres - ECPv5.16.1.1//NONSGML v1.0//EN
CALSCALE:GREGORIAN
METHOD:PUBLISH
X-WR-CALNAME:Ayuntamiento de Mieres
X-ORIGINAL-URL:https://www.mieres.es
X-WR-CALDESC:Eventos para Ayuntamiento de Mieres
BEGIN:VTIMEZONE
TZID:Europe/Madrid
BEGIN:DAYLIGHT
TZOFFSETFROM:+0100
TZOFFSETTO:+0200
TZNAME:CEST
DTSTART:20260329T010000
END:DAYLIGHT
BEGIN:STANDARD
TZOFFSETFROM:+0200
TZOFFSETTO:+0100
TZNAME:CET
DTSTART:20261025T010000
END:STANDARD
END:VTIMEZONE
BEGIN:VEVENT
DTSTART;VALUE=DATE:20260217
DTEND;VALUE=DATE:20260218
DTSTAMP:20260420T224946
CREATED:20260119T124856Z
LAST-MODIFIED:20260217T113708Z
UID:77376-1771286400-1771372799@www.mieres.es
SUMMARY:Antroxu Infantil 2026
DESCRIPTION:Martes\, 17 febreru\n\nANTROXU INFANTIL\n17:30h Desfile-Concursu disfraces \n  \n\nANTROXU INFANTIL \nEn el desfile infantil se establece una concentración previa a las 17:00 h. en la explanada del Auditorio del Parque Jovellanos\, para dar inicio a las 17:30 h al desfile con el siguiente itinerario: \n \nEn caso de lluvia podría trasladarse al patio del grupo escolar Liceo Mierense-Aniceto Sela. \nToda persona con más de 15 años se considerará acompañante adulto y no será valorado por el jurado\, con la excepción de las personas con algún tipo de diversidad funcional. \nEn el caso de personas con diversidad funcional\, habrá la posibilidad de que puedan desfilar en último lugar\, cerrando el desfile\, ya que en la cabecera estarán las charangas y será mucho más ruidoso. Y tendrán reservado un espacio para disfrutar del desfile en la calle Escuela Capataces\, a la altura de la plaza de Abastos. \nINSCRIPCIONES \nLa retirada de dorsales se realizará en la Oficina municipal de Festejos\, situada en la Casa de Cultura\, Calle Manuel Llaneza número 8\, en horario de 9 a 14h\, los días 10 y 11de febrero para el antroxu infantil y el propio día del desfile (17 de febrero)\, hasta las 14 horas de este; \ny los días 18 y 19 de febrero para el Gran Antroxu y también el propio día de la celebración del desfile (20 de febrero)\, hasta las 14 horas del mismo. \n \nUn añu más desde la concejalía de Festejos animamos a todas las personas a participar de los desfiles del Antroxu\, y como ya sabéis cada año elegimos una temática y Esti añu la temática será LA PAZ: MIERES GLAYA POLA PAZ. \nDefender la paz es fundamental\, hoy más que nunca\, porque nos permite convivir con respeto\, cuidar unos de otros y construir espacios donde todas las personas se sientan seguras y valoradas. La paz no es solo la ausencia de conflicto\, yo creo que es una actitud diaria basada en la empatía\, en el diálogo y en la búsqueda de una buena convivencia. \nLlevar esti mensaje a un eventu tan importante como el antroxu ye especialmente significativo\, porque en el antroxu nos xuntamos persones de todes les edades\, cultures y realidades. Celebramos la alegría\, la diversidad y la expresión colectiva\, y por eso pensamos que es el lugar ideal para promover valores como el respeto\, la tolerancia y la convivencia pacífica. Celebrar en paz significa disfrutar juntos y juntas\, cuidarnos mutuamente y demostrar que la fiesta también es un espacio para unir\, y no para dividir. \nY en base a todo esto estamos muy contentas con el cartel que nos ha preparado la diseñadora Grafiosa\, y el programa del Antroxu en el que haremos el Cortexu de la Trumpchona\, que irá acompañada de personajes y activistas importantes por la paz como son Pachu LI\, Manolito Zen y Nelson Maldilin\, y en este mismo contexto leeremos el testamento\, y les últimes voluntades de la Trumpchona y esperamos que después de la quema se restablezca la paz. \n \n 
URL:https://www.mieres.es/evento/antroxu-infantil-2026/
LOCATION:Parque Xovellanos\, Parque Xovellanos\, Mieres\, Asturias\, 33600 
CATEGORIES:Festejos
ATTACH;FMTTYPE=image/jpeg:https://www.mieres.es/wp-content/uploads/2026/01/CARTEL-ANTROXU-MIERES-2026.jpeg
GEO:43.2517322;-5.7764018
X-APPLE-STRUCTURED-LOCATION;VALUE=URI;X-ADDRESS=Parque Xovellanos Parque Xovellanos Mieres Asturias 33600;X-APPLE-RADIUS=500;X-TITLE=Parque Xovellanos:geo:-5.7764018,43.2517322
END:VEVENT
BEGIN:VEVENT
DTSTART;TZID=Europe/Madrid:20260217T090000
DTEND;TZID=Europe/Madrid:20260217T140000
DTSTAMP:20260420T224946
CREATED:20260115T141825Z
LAST-MODIFIED:20260115T141825Z
UID:77290-1771318800-1771336800@www.mieres.es
SUMMARY:Talleres de Conciliación (especial festivos Antroxu 2026)
DESCRIPTION:  \nNueva edición de los campamentos urbanos organizados por la Concejalía de Infancia y Juventud de nuestro Ayuntamiento para ofrecer Talleres de Conciliación durante los días festivos escolares coincidentes con el Antroxu 2026. \nLos próximos 13\, 16 y 17 de febrero se desarrollarán en el Colegio Liceo Mierense-Aniceto Sela\, de 9 a 14 horas\, donde realizarán todo tipo de juegos\, talleres y actividades de ocio y educativas. Con esta iniciativa se pretende que los y las participantes disfruten de este tiempo de ocio en horario de mañana al mismo tiempo que se facilita la organización y la conciliación personal y laboral de las familias durante estas vacaciones escolares. \nSe trata de una actividad gratuita pero es necesaria la inscripción previa ya que el número de plazas es limitado. Las inscripciones gratuitas se pueden realizar hasta el 1 de febrero desde el formulario ofrecido en este enlace. \n  \nDurante estos campamentos urbanos/talleres de conciliación\, las y los participantes disfrutan y aprenden con actividades lúdicas y formativas acordes a su desarrollo intelectual y motriz que permiten\, al mismo tiempo\, profundizar en valores y actitudes de respeto\, cooperación\, igualdad y tolerancia a través de juegos y talleres compartidos. \nSi necesitan más información\, pueden contactar a través de estos canales: \n\nTeléfono: 620 61 19 24 (en horario de 09:00 a 15:00 horas)\nCorreo:  animaciongreeneventos@gmail.com\n\n  \n\n 
URL:https://www.mieres.es/evento/talleres-de-conciliacion-especial-festivos-antroxu-2026-3/
LOCATION:Patio colegio Liceo/Aniceto Sela\, Colegio Público Liceo Mierense\, Mieres\, Asturias\, 33600 
CATEGORIES:Juventud e Infancia
ATTACH;FMTTYPE=image/jpeg:https://www.mieres.es/wp-content/uploads/2026/01/Cartel-Conciliación-Mieres-antorxu-2026.jpg
ORGANIZER;CN="Concejal%C3%ADa%20de%20Infancia%20y%20Juventud":MAILTO:oij@ayto-mieres.es
GEO:43.249719;-5.7785282
X-APPLE-STRUCTURED-LOCATION;VALUE=URI;X-ADDRESS=Patio colegio Liceo/Aniceto Sela Colegio Público Liceo Mierense Mieres Asturias 33600;X-APPLE-RADIUS=500;X-TITLE=Colegio Público Liceo Mierense:geo:-5.7785282,43.249719
END:VEVENT
BEGIN:VEVENT
DTSTART;TZID=Europe/Madrid:20260217T173000
DTEND;TZID=Europe/Madrid:20260217T173000
DTSTAMP:20260420T224946
CREATED:20260203T122721Z
LAST-MODIFIED:20260203T122721Z
UID:77477-1771349400-1771349400@www.mieres.es
SUMMARY:Antroxu Valle de Turón 2026. Desfile infantil
DESCRIPTION:ANTROXU VALLE DE TURÓN 2026\nDesfile Infantil \nMartes\, 17 de febrero\nSalida desde el Pozu San José a las 17:30h. Finalización en el Parque de Turón\, con chocolatada y entrega de premios. \nPara optar a cualquiera de los premios\, será obligado hacer la inscripción y acabar todo el itinerario.\nLas inscripciones se efectuarán por correo electrónico a sotufe@gmail.com o a través de un mensaje privado en facebook (Sotufe).\nLos dorsales infantiles se darán en el Pozo San José el mismo día del desfile a partir de las 17:00h. \n\n 
URL:https://www.mieres.es/evento/antroxu-valle-de-turon-2026-desfile-infantil/
LOCATION:Turón\, Calle Centro\, 9\, 33610 Mieres\, Asturias\, Turón\, Asturias\, 33610\, España
CATEGORIES:Festejos
ATTACH;FMTTYPE=image/jpeg:https://www.mieres.es/wp-content/uploads/2026/02/antroxu-2026-turon.jpg
GEO:43.209144;-5.7417617
X-APPLE-STRUCTURED-LOCATION;VALUE=URI;X-ADDRESS=Turón Calle Centro 9 33610 Mieres Asturias Turón Asturias 33610 España;X-APPLE-RADIUS=500;X-TITLE=Calle Centro\, 9\, 33610 Mieres\, Asturias:geo:-5.7417617,43.209144
END:VEVENT
END:VCALENDAR