BEGIN:VCALENDAR
VERSION:2.0
PRODID:-//Ayuntamiento de Mieres - ECPv5.16.1.1//NONSGML v1.0//EN
CALSCALE:GREGORIAN
METHOD:PUBLISH
X-WR-CALNAME:Ayuntamiento de Mieres
X-ORIGINAL-URL:https://www.mieres.es
X-WR-CALDESC:Eventos para Ayuntamiento de Mieres
BEGIN:VTIMEZONE
TZID:Europe/Madrid
BEGIN:DAYLIGHT
TZOFFSETFROM:+0100
TZOFFSETTO:+0200
TZNAME:CEST
DTSTART:20260329T010000
END:DAYLIGHT
BEGIN:STANDARD
TZOFFSETFROM:+0200
TZOFFSETTO:+0100
TZNAME:CET
DTSTART:20261025T010000
END:STANDARD
END:VTIMEZONE
BEGIN:VEVENT
DTSTART;VALUE=DATE:20260228
DTEND;VALUE=DATE:20260301
DTSTAMP:20260421T115701
CREATED:20260211T104048Z
LAST-MODIFIED:20260211T104048Z
UID:77624-1772236800-1772323199@www.mieres.es
SUMMARY:II Jornadas Gastronómicas "De callos por Mieres" (20FEB/8MAR)
DESCRIPTION:  \n\nII Jornadas Gastronómicas “De callos por Mieres”\nMieres\, del 20 de febrero al 8 de marzo de 2026 \nCon la participación de los establecimientos hosteleros: \n\nBobela Restaurante\nCachitos\nDrinkvar\nL´Ayalga\nLa Facultad Cervecería\nLa Llera\nLa Madriguera by Hevia\nLa Posada de Bacus\nLa Taberna del Whitebar\nMadreselva Food and Drinks\nPlanta 14\nRestaurante La Consistorial\nTC28\nTrattoria La Peppa\n\n  \n\n 
URL:https://www.mieres.es/evento/ii-jornadas-gastronomicas-de-callos-por-mieres-20feb-8mar/2026-02-28/
LOCATION:Establecimientos comerciales y hosteleros del concejo
CATEGORIES:Gastronomía
ATTACH;FMTTYPE=image/jpeg:https://www.mieres.es/wp-content/uploads/2026/02/II-jornadas-callos-mieres-2026-cartel-web.jpg
END:VEVENT
BEGIN:VEVENT
DTSTART;TZID=Europe/Madrid:20260228T113000
DTEND;TZID=Europe/Madrid:20260228T113000
DTSTAMP:20260421T115701
CREATED:20260217T090336Z
LAST-MODIFIED:20260302T072925Z
UID:77654-1772278200-1772278200@www.mieres.es
SUMMARY:Campeonato de Asturias Escolar de Campo a Través (II Cross Memorial Aníbal Vázquez)
DESCRIPTION:  \n \n\nAtletismo \nCampeonato de Asturias Escolar de Campo a Través\nII Cross Memorial Aníbal Vázquez\n(Juegos Deportivos del Principado de Asturias 2025/2026) \nSábado\, 28 de febrero de 2026\nde 11:30 a 14:30 h.\nPARQUE FLUVIAL ENTRE FIGAREDO Y UJO \nParticiparán en torno a 1.500 deportistas de 200 equipos de centros de enseñanza y clubes de atletismo asturianos. Edades comprendidas entre los 7 y 16 años\, categorías benjamín\, alevín\, infantil y cadete\, tanto femeninas como masculinas\, de la práctica totalidad de los concejos de Asturias. \nEntrada libre \n\n  \nHorarios: \nHora                    Categoría                           Distancia          Circuito \n11:30h.             SUB10 FEMENINO                     1000M                1 VUELTA AL CIRCUITO ROJO \n11:40h.             SUB10 MASCULINO                 1000M                 1 VUELTA AL CIRCUITO ROJO \n11.50h.             SUB12 FEMENINO                     1500M                1 VUELTA AL CIRCUITO AZUL \n12:05h.             SUB12 MASCULINO                 1500M                 1 VUELTA AL CIRCUITO AZUL \n12:20h.             SUB14 FEMENINO                    3000M                2 VUELTAS AL CIRCUITO AZUL \n12:45h.             SUB14 MASCULINO                 3000M                2 VUELTAS AL CIRCUITO AZUL \n13:10h.             SUB16 FEMENINO                     4500M                3 VUELTAS AL CIRCUITO AZUL \n13:45h.             SUB16 MASCULINO                  4500M                3 VUELTAS AL CIRCUITO AZUL \n 
URL:https://www.mieres.es/evento/campeonato-de-asturias-escolar-de-campo-a-traves-ii-cross-memorial-anibal-vazquez/
LOCATION:Figareo\, 33683\, Mieres\, Asturias\, Asturias\, 33683
CATEGORIES:Deportes
ATTACH;FMTTYPE=image/jpeg:https://www.mieres.es/wp-content/uploads/2026/02/Cartel-web-campeonato-escolar-2026-campo-a-traves.jpg
GEO:43.2390375;-5.7352478
X-APPLE-STRUCTURED-LOCATION;VALUE=URI;X-ADDRESS=Figareo 33683 Mieres Asturias Asturias 33683;X-APPLE-RADIUS=500;X-TITLE=33683\, Mieres\, Asturias:geo:-5.7352478,43.2390375
END:VEVENT
BEGIN:VEVENT
DTSTART;TZID=Europe/Madrid:20260228T200000
DTEND;TZID=Europe/Madrid:20260228T200000
DTSTAMP:20260421T115701
CREATED:20260223T125916Z
LAST-MODIFIED:20260223T125916Z
UID:77787-1772308800-1772308800@www.mieres.es
SUMMARY:"Mysterium"\, por José Armas 'El Ilusionista'
DESCRIPTION:Magia-Ilusionismo \n“Mysterium”\npor José Armas ‘El Ilusionista’\n\n \n  \nSábado\, 28 de febrero de 2026\, 20:00h. \nAuditoriu Teodoro Cuesta \nEntrada libre hasta completar aforo \n  \nCircuito asturiano de Artes Escénicas ASTURIES CULTURA EN REDE \n\n  \nJosé Armas presenta su espectáculo de mayor formato\, con números de grandes ilusiones que se intercalan con números de magia de escena. \nMagia de gran formato como la vista en las grandes cadenas de televisión. Espectaculares efectos con fuego\, espadas\, apariciones y desapariciones de personas\, números de riesgo y lo más importante\, la participación del público\, para que los asistentes formen parte de los efectos mágicos y sean los auténticos protagonistas. \nUna oportunidad única de disfrutar en vivo la magia más espectacular del cine y la televisión.
URL:https://www.mieres.es/evento/mysterium-por-jose-armas-el-ilusionista/
LOCATION:Casa de Cultura Teodoro Cuesta\, Calle Manuel Llaneza\, 8\, Mieres\, Asturias\, 33600\, España
CATEGORIES:Magia e ilusionismo
ATTACH;FMTTYPE=image/jpeg:https://www.mieres.es/wp-content/uploads/2026/02/Mysterium-Jose-Armas-Mieres-feb2026.jpeg
GEO:43.2502294;-5.7729571
X-APPLE-STRUCTURED-LOCATION;VALUE=URI;X-ADDRESS=Casa de Cultura Teodoro Cuesta Calle Manuel Llaneza 8 Mieres Asturias 33600 España;X-APPLE-RADIUS=500;X-TITLE=Calle Manuel Llaneza\, 8:geo:-5.7729571,43.2502294
END:VEVENT
END:VCALENDAR