BEGIN:VCALENDAR
VERSION:2.0
PRODID:-//Ayuntamiento de Mieres - ECPv5.16.1.1//NONSGML v1.0//EN
CALSCALE:GREGORIAN
METHOD:PUBLISH
X-WR-CALNAME:Ayuntamiento de Mieres
X-ORIGINAL-URL:https://www.mieres.es
X-WR-CALDESC:Eventos para Ayuntamiento de Mieres
BEGIN:VTIMEZONE
TZID:Europe/Madrid
BEGIN:DAYLIGHT
TZOFFSETFROM:+0100
TZOFFSETTO:+0200
TZNAME:CEST
DTSTART:20260329T010000
END:DAYLIGHT
BEGIN:STANDARD
TZOFFSETFROM:+0200
TZOFFSETTO:+0100
TZNAME:CET
DTSTART:20261025T010000
END:STANDARD
END:VTIMEZONE
BEGIN:VEVENT
DTSTART;VALUE=DATE:20260304
DTEND;VALUE=DATE:20260305
DTSTAMP:20260420T212701
CREATED:20260211T104048Z
LAST-MODIFIED:20260211T104048Z
UID:77628-1772582400-1772668799@www.mieres.es
SUMMARY:II Jornadas Gastronómicas "De callos por Mieres" (20FEB/8MAR)
DESCRIPTION:  \n\nII Jornadas Gastronómicas “De callos por Mieres”\nMieres\, del 20 de febrero al 8 de marzo de 2026 \nCon la participación de los establecimientos hosteleros: \n\nBobela Restaurante\nCachitos\nDrinkvar\nL´Ayalga\nLa Facultad Cervecería\nLa Llera\nLa Madriguera by Hevia\nLa Posada de Bacus\nLa Taberna del Whitebar\nMadreselva Food and Drinks\nPlanta 14\nRestaurante La Consistorial\nTC28\nTrattoria La Peppa\n\n  \n\n 
URL:https://www.mieres.es/evento/ii-jornadas-gastronomicas-de-callos-por-mieres-20feb-8mar/2026-03-04/
LOCATION:Establecimientos comerciales y hosteleros del concejo
CATEGORIES:Gastronomía
ATTACH;FMTTYPE=image/jpeg:https://www.mieres.es/wp-content/uploads/2026/02/II-jornadas-callos-mieres-2026-cartel-web.jpg
END:VEVENT
BEGIN:VEVENT
DTSTART;VALUE=DATE:20260304
DTEND;VALUE=DATE:20260305
DTSTAMP:20260420T212701
CREATED:20260223T090226Z
LAST-MODIFIED:20260223T090226Z
UID:77890-1772582400-1772668799@www.mieres.es
SUMMARY:XXXXV Feria de Stock en Mieres (2/21MAR)
DESCRIPTION:XXXXV Feria de Stock en Mieres\nUnión de Comerciantes del Caudal\n• Del 2 al 21 de marzo en tu tienda\, en tu calle \n  \n\nXXXXV Feria de Stock en Mieres \nLa Unión de Comerciantes del Caudal organiza la 45 edición de la Feria del Stock\, que tendrá lugar en el concejo del 6 al 21 de marzo de 2026 y en la que los comerciantes\, tanto con stand fuera como en su propia tienda ofrecerán sus restos de stock al mejor precio. \nLocales participantes: \n\nAndares\nComercial Tuñón\nCopistería Pepelinos\nDisco 55\nDkopa Moda\nFerretería Cristaloza\nFlorentina Martínez\nFreestyle\nGales Moda Caballero\nJaleo\nJoyería Dimas\nKiss moda\nLa Boutique de los Perfumes\nLa vieja Nana\nLibrería La Pilarica\nLibrería La Pilarica II\nMadrigal Textil\nMiansi Moda\nMiansi Complementos\nModas Tatian\nRelojería Joyería Peláez\nTatta 8\nVallejo Interiorismo\n\n\n \n 
URL:https://www.mieres.es/evento/xxxxv-feria-de-stock-en-mieres/2026-03-04/
LOCATION:Establecimientos comerciales y hosteleros del concejo
CATEGORIES:Comercio y Hostelería,Feria
ATTACH;FMTTYPE=image/jpeg:https://www.mieres.es/wp-content/uploads/2026/02/45-feria-stock-mieres-2026.jpg
END:VEVENT
BEGIN:VEVENT
DTSTART;VALUE=DATE:20260304
DTEND;VALUE=DATE:20260305
DTSTAMP:20260420T212701
CREATED:20260304T114619Z
LAST-MODIFIED:20260304T115426Z
UID:77935-1772582400-1772668799@www.mieres.es
SUMMARY:V Cursu de sidra escanciao Comarca del Caudal (23MAR-16ABR) -Apertura del plazu d'inscripciones-
DESCRIPTION:Cursu: \nV Cursu de sidra escanciao Comarca del Caudal\n\n  \nMieres Centru Cultural \nDel 23 de marzu al 16 d’abril\, de llunes a xueves\, de 17:30 a 20:00h. \nInscripciones de baldre\, al traviés d’esta misma página web\, nel formulariu que toparán enbaxu\, del 4 al 19 de marzu. Enllaz directu al formulariu: Inscripciones V Cursu de sidra escanciao “Comarca del Caudal” 23MAR/16ABR: Rellenar formulario \n\n  \nL´Ayuntamientu de Mieres\, pente medies de la conceyalía de Cultura y Festexos y l´Asociación Llagareros Artesanos del Caudal organicen el V Cursu de Sidra Escanciao. \nEl cursu va desenvolvese del 23 de marzu al 16 d´abril de 2026 nel Mieres Centru Cultural\, de llunes a xueves de 17:30 a 20:00 hores y quien participe y acabe´l mesmu\, con polo menos el 75% de les hores completaes\, va contar con diploma p´acreditar la so cualificación. \nEl plazu pa facer les inscripciones tará abiertu hasta´l 19 de marzu viniente y sedrán totalmente de baldre. La plaza acutada sedrá confirmada telefónicamente pola organización del cursu. Les persones desemplegaes tendrán preferencia nes 15 places disponibles que- teniendo en cuenta esa preferencia- sedrán acutaes por rigorosu orde d´inscripción. \n  \n\n  \nFORMULARIU D’INSCRIPCIÓN:
URL:https://www.mieres.es/evento/v-cursu-de-sidra-escanciao-comarca-del-caudal-23mar-16abr-apertura-del-plazu-dinscripciones/
LOCATION:Mieres Centru Cultural\, Calle Jerónimo Ibrán\, 10\, Mieres\, Asturias\, 33600
CATEGORIES:Cultura Tradicional,Cursos
ATTACH;FMTTYPE=image/jpeg:https://www.mieres.es/wp-content/uploads/2026/03/Cartel-web-Curso-Escanciadores-2026.jpg
ORGANIZER;CN="Llagareros%20artesanos%20del%20Caudal":MAILTO:llagarerosartesanosdelcaudal@gmail.com
END:VEVENT
BEGIN:VEVENT
DTSTART;TZID=Europe/Madrid:20260304T110000
DTEND;TZID=Europe/Madrid:20260304T110000
DTSTAMP:20260420T212701
CREATED:20260204T101647Z
LAST-MODIFIED:20260220T084123Z
UID:77501-1772622000-1772622000@www.mieres.es
SUMMARY:Espacio CuidARTE: Taller de apoyo para personas cuidadoras no profesionales
DESCRIPTION:Salud. Bienestar Social \nEspacio CuidARTE:\nTaller gratuito de apoyo para personas cuidadoras no profesionales\n18 de febrero\, 4 de marzo\, 1 de abril\, 6 de mayo\, 3 de junio y 1 de julio\n11:00h. Local de la antigua Oficina de Información Juvenil OIJ\n16:00h. Aulas Casa de Cultura Teodoro Cuesta \n📅 Duración: 6 sesiones de 2 horas (puede inscribirse en el horario que más le convenga)\n👥 Modalidad: Grupal y presencial (turnos de mañana y tarde)\n📍 Dirigido a: Cuidadores/as no profesionales del municipio de Mieres\n📝 Inscripciones: A través del Área de Salud Municipal; salud@ayto-mieres.es o el teléfono 618 035 308 \n\n  \nEl Ayuntamiento de Mieres lanza un nuevo Programa de Apoyo Emocional y Autocuidado para Cuidadores No Profesionales (Espacio CuidARTE)\, con el objetivo de ofrecer un espacio de acompañamiento\, formación emocional y fortalecimiento personal a quienes dedican su tiempo y energía al cuidado de otras personas. \nEste taller gratuito\, guiado por un psicólogo especializado\, está dirigido a personas cuidadoras sin formación profesional\, que a menudo afrontan estrés\, sobrecarga emocional o aislamiento debido a su labor diaria. A través de sesiones grupales presenciales\, se abordarán herramientas prácticas de regulación emocional\, estrategias de autocuidado y la creación de redes de apoyo comunitario. \nEl programa\, basado en metodologías de psicoeducación y mindfulness\, contará con un enfoque terapéutico y grupal\, realizará una intervención directa sobre aspectos emocionales sensibles como la sobrecarga psicológica\, el estrés crónico\, los sentimientos de culpa\, las dificultades de afrontamiento emocional y la prevención del desgaste emocional del cuidador/a.
URL:https://www.mieres.es/evento/espacio-cuidarte-taller-de-apoyo-para-personas-cuidadoras-no-profesionales-2/
LOCATION:Local antigua OIJ\, C/ Doce de Octubre\, 42\, Mieres
CATEGORIES:Bienestar Social,Salud,Taller
ATTACH;FMTTYPE=image/jpeg:https://www.mieres.es/wp-content/uploads/2026/02/Espacio-CuidARTE-cartel-web-taller-apoyo-cuidadoras.jpg
END:VEVENT
BEGIN:VEVENT
DTSTART;TZID=Europe/Madrid:20260304T183000
DTEND;TZID=Europe/Madrid:20260304T183000
DTSTAMP:20260420T212701
CREATED:20260206T104051Z
LAST-MODIFIED:20260206T104051Z
UID:77560-1772649000-1772649000@www.mieres.es
SUMMARY:Entrenamiento al aire libre para mujeres (11FEB/JUN)
DESCRIPTION:Entrenamiento deportivo\n  \nEntrenamiento al aire libre para mujeres \nCon  Dark Lion Sport \nPara mujeres a partir de los 16 años. \nDel 11 de octubre de 2024 al 17 de junio de 2026 \nNivel básico: los miércoles\, de 18:30 a 19:30h\nNivel avanzado: los miércoles\, de 19:30 a 20:30h \nLugar de encuentro: Casa de las Mujeres \nInscripciones gratuitas en el tlfno.: 985466262(a partir del 9 de febrero\, de 09:00 a 14:00h.)
URL:https://www.mieres.es/evento/entrenamiento-al-aire-libre-para-mujeres-11feb-jun/2026-03-04/
LOCATION:Casa de las Mujeres\, C/ Jerónimo Ibrán 19\, Mieres\, Asturias\, 33600\, España
CATEGORIES:Deportes,Igualdad,Salud,Taller
ATTACH;FMTTYPE=image/jpeg:https://www.mieres.es/wp-content/uploads/2026/02/entrenamiento-mujeres-cartel-mieres-feb-2026.jpg
GEO:43.2512334;-5.7731606
X-APPLE-STRUCTURED-LOCATION;VALUE=URI;X-ADDRESS=Casa de las Mujeres C/ Jerónimo Ibrán 19 Mieres Asturias 33600 España;X-APPLE-RADIUS=500;X-TITLE=C/ Jerónimo Ibrán 19:geo:-5.7731606,43.2512334
END:VEVENT
BEGIN:VEVENT
DTSTART;TZID=Europe/Madrid:20260304T190000
DTEND;TZID=Europe/Madrid:20260304T190000
DTSTAMP:20260420T212701
CREATED:20260225T113042Z
LAST-MODIFIED:20260225T135623Z
UID:77804-1772650800-1772650800@www.mieres.es
SUMMARY:Exposición fotográfica 2026\, por Agrupación Fotográfica Semeya (4/27MAR) -Acto de inauguración-
DESCRIPTION:Exposición: \nExposición Fotográfica 2026\npor Agrupación Fotográfica Semeya\nSala de exposiciones de la Casa de Cultura Teodoro Cuesta\nDel 4 al 27 de marzo de 2026 \nActo de inauguración\, miércoles 4 de marzo a las 19:00h. \nHorario de lunes a viernes de 12:00 a 14:00h y de 17:00 a 21:00h \n\n 
URL:https://www.mieres.es/evento/exposicion-fotografica-2026-por-agrupacion-fotografica-semeya-4-27mar/
LOCATION:Casa de Cultura Teodoro Cuesta\, Calle Manuel Llaneza\, 8\, Mieres\, Asturias\, 33600\, España
CATEGORIES:Arte,Exposiciones
ATTACH;FMTTYPE=image/jpeg:https://www.mieres.es/wp-content/uploads/2026/02/Cartel-exposicion-Semeya-feb-2026.jpg
GEO:43.2502294;-5.7729571
X-APPLE-STRUCTURED-LOCATION;VALUE=URI;X-ADDRESS=Casa de Cultura Teodoro Cuesta Calle Manuel Llaneza 8 Mieres Asturias 33600 España;X-APPLE-RADIUS=500;X-TITLE=Calle Manuel Llaneza\, 8:geo:-5.7729571,43.2502294
END:VEVENT
END:VCALENDAR