BEGIN:VCALENDAR
VERSION:2.0
PRODID:-//Ayuntamiento de Mieres - ECPv5.16.1.1//NONSGML v1.0//EN
CALSCALE:GREGORIAN
METHOD:PUBLISH
X-WR-CALNAME:Ayuntamiento de Mieres
X-ORIGINAL-URL:https://www.mieres.es
X-WR-CALDESC:Eventos para Ayuntamiento de Mieres
BEGIN:VTIMEZONE
TZID:Europe/Madrid
BEGIN:DAYLIGHT
TZOFFSETFROM:+0100
TZOFFSETTO:+0200
TZNAME:CEST
DTSTART:20260329T010000
END:DAYLIGHT
BEGIN:STANDARD
TZOFFSETFROM:+0200
TZOFFSETTO:+0100
TZNAME:CET
DTSTART:20261025T010000
END:STANDARD
END:VTIMEZONE
BEGIN:VEVENT
DTSTART;VALUE=DATE:20260306
DTEND;VALUE=DATE:20260307
DTSTAMP:20260420T212630
CREATED:20260211T104048Z
LAST-MODIFIED:20260211T104048Z
UID:77630-1772755200-1772841599@www.mieres.es
SUMMARY:II Jornadas Gastronómicas "De callos por Mieres" (20FEB/8MAR)
DESCRIPTION:  \n\nII Jornadas Gastronómicas “De callos por Mieres”\nMieres\, del 20 de febrero al 8 de marzo de 2026 \nCon la participación de los establecimientos hosteleros: \n\nBobela Restaurante\nCachitos\nDrinkvar\nL´Ayalga\nLa Facultad Cervecería\nLa Llera\nLa Madriguera by Hevia\nLa Posada de Bacus\nLa Taberna del Whitebar\nMadreselva Food and Drinks\nPlanta 14\nRestaurante La Consistorial\nTC28\nTrattoria La Peppa\n\n  \n\n 
URL:https://www.mieres.es/evento/ii-jornadas-gastronomicas-de-callos-por-mieres-20feb-8mar/2026-03-06/
LOCATION:Establecimientos comerciales y hosteleros del concejo
CATEGORIES:Gastronomía
ATTACH;FMTTYPE=image/jpeg:https://www.mieres.es/wp-content/uploads/2026/02/II-jornadas-callos-mieres-2026-cartel-web.jpg
END:VEVENT
BEGIN:VEVENT
DTSTART;VALUE=DATE:20260306
DTEND;VALUE=DATE:20260307
DTSTAMP:20260420T212630
CREATED:20260223T090226Z
LAST-MODIFIED:20260223T090226Z
UID:77892-1772755200-1772841599@www.mieres.es
SUMMARY:XXXXV Feria de Stock en Mieres (2/21MAR)
DESCRIPTION:XXXXV Feria de Stock en Mieres\nUnión de Comerciantes del Caudal\n• Del 2 al 21 de marzo en tu tienda\, en tu calle \n  \n\nXXXXV Feria de Stock en Mieres \nLa Unión de Comerciantes del Caudal organiza la 45 edición de la Feria del Stock\, que tendrá lugar en el concejo del 6 al 21 de marzo de 2026 y en la que los comerciantes\, tanto con stand fuera como en su propia tienda ofrecerán sus restos de stock al mejor precio. \nLocales participantes: \n\nAndares\nComercial Tuñón\nCopistería Pepelinos\nDisco 55\nDkopa Moda\nFerretería Cristaloza\nFlorentina Martínez\nFreestyle\nGales Moda Caballero\nJaleo\nJoyería Dimas\nKiss moda\nLa Boutique de los Perfumes\nLa vieja Nana\nLibrería La Pilarica\nLibrería La Pilarica II\nMadrigal Textil\nMiansi Moda\nMiansi Complementos\nModas Tatian\nRelojería Joyería Peláez\nTatta 8\nVallejo Interiorismo\n\n\n \n 
URL:https://www.mieres.es/evento/xxxxv-feria-de-stock-en-mieres/2026-03-06/
LOCATION:Establecimientos comerciales y hosteleros del concejo
CATEGORIES:Comercio y Hostelería,Feria
ATTACH;FMTTYPE=image/jpeg:https://www.mieres.es/wp-content/uploads/2026/02/45-feria-stock-mieres-2026.jpg
END:VEVENT
BEGIN:VEVENT
DTSTART;TZID=Europe/Madrid:20260306T120000
DTEND;TZID=Europe/Madrid:20260306T120000
DTSTAMP:20260420T212630
CREATED:20260302T092844Z
LAST-MODIFIED:20260302T102345Z
UID:77857-1772798400-1772798400@www.mieres.es
SUMMARY:Jornadas 8M. Acto Institucional y show "Museo del patriarcado"
DESCRIPTION:JORNADAS 8M 2026\nActo Institucional\nShow “Museo del patriarcado”\npor Cuéntame un cuadro\, con Patricia Pérez y Laura Viñuela \nLectura del Manifiesto oficial\na cargo de Costumbrismo Cochambre \nViernes\, 6 de marzo\, 12:00h\nAuditoriu Teodoro Cuesta \nEntrada libre hasta completar aforo \n\n    \n  \n\nActividad financiada con cargo a los créditos del Pacto de Estado contra la violencia de género\, recibidos del Ministerio de la Presidencia\, Relaciones con las Cortes e Igualdad\, a través de la Secretaría de Estado \n 
URL:https://www.mieres.es/evento/jornadas-8m-acto-institucional-museo-del-patriarcado/
LOCATION:Casa de Cultura Teodoro Cuesta\, Calle Manuel Llaneza\, 8\, Mieres\, Asturias\, 33600\, España
CATEGORIES:Igualdad
ATTACH;FMTTYPE=image/jpeg:https://www.mieres.es/wp-content/uploads/2026/03/6M_Acto-institucional.jpg
GEO:43.2502294;-5.7729571
X-APPLE-STRUCTURED-LOCATION;VALUE=URI;X-ADDRESS=Casa de Cultura Teodoro Cuesta Calle Manuel Llaneza 8 Mieres Asturias 33600 España;X-APPLE-RADIUS=500;X-TITLE=Calle Manuel Llaneza\, 8:geo:-5.7729571,43.2502294
END:VEVENT
BEGIN:VEVENT
DTSTART;TZID=Europe/Madrid:20260306T120000
DTEND;TZID=Europe/Madrid:20260306T120000
DTSTAMP:20260420T212630
CREATED:20260302T125936Z
LAST-MODIFIED:20260302T125936Z
UID:77883-1772798400-1772798400@www.mieres.es
SUMMARY:Jornadas 8M. "Bailamos por la igualdad"
DESCRIPTION:  \n \n\nJORNADAS 8M 2026\nCoreografía grupal\nBailamos por la Igualdad\nA cargo del Club Mieres Patinaje Artístico y el Club Gimnasia Rítmica de Mieres \nViernes\, 6 de marzo\, 17:00h\nPlaza del Ayuntamiento \n\n   \n  \n\nActividad financiada con cargo a los créditos del Pacto de Estado contra la violencia de género\, recibidos del Ministerio de la Presidencia\, Relaciones con las Cortes e Igualdad\, a través de la Secretaría de Estado \n 
URL:https://www.mieres.es/evento/jornadas-8m-bailamos-por-la-igualdad/
LOCATION:Casa de Cultura Teodoro Cuesta\, Calle Manuel Llaneza\, 8\, Mieres\, Asturias\, 33600\, España
CATEGORIES:Igualdad
ATTACH;FMTTYPE=image/jpeg:https://www.mieres.es/wp-content/uploads/2026/03/8M2026-Programa.jpg
GEO:43.2502294;-5.7729571
X-APPLE-STRUCTURED-LOCATION;VALUE=URI;X-ADDRESS=Casa de Cultura Teodoro Cuesta Calle Manuel Llaneza 8 Mieres Asturias 33600 España;X-APPLE-RADIUS=500;X-TITLE=Calle Manuel Llaneza\, 8:geo:-5.7729571,43.2502294
END:VEVENT
BEGIN:VEVENT
DTSTART;TZID=Europe/Madrid:20260306T193000
DTEND;TZID=Europe/Madrid:20260306T193000
DTSTAMP:20260420T212630
CREATED:20260225T120023Z
LAST-MODIFIED:20260225T120023Z
UID:77809-1772825400-1772825400@www.mieres.es
SUMMARY:Jornadas 8M. Homenaje a Conchi Suárez "Na Memoria"
DESCRIPTION:JORNADAS 8M 2025\nHomenaje\nConchi Suárez “Na Memoria”\nPor el Colectivo feminista “Y les cames\, sin facer” \nViernes\, 6 de marzo. 19:30h. \nAuditoriu Teodoro Cuesta\nEntrada libre hasta completar aforo \n\n  \n  \n 
URL:https://www.mieres.es/evento/jornadas-8m-homenaje-a-conchi-suarez-na-memoria/
LOCATION:Casa de Cultura Teodoro Cuesta\, Calle Manuel Llaneza\, 8\, Mieres\, Asturias\, 33600\, España
CATEGORIES:Homenaje,Igualdad
ATTACH;FMTTYPE=image/jpeg:https://www.mieres.es/wp-content/uploads/2026/02/CARTEL-homenaje-conchi-suarez-mieres-2026.jpeg
GEO:43.2502294;-5.7729571
X-APPLE-STRUCTURED-LOCATION;VALUE=URI;X-ADDRESS=Casa de Cultura Teodoro Cuesta Calle Manuel Llaneza 8 Mieres Asturias 33600 España;X-APPLE-RADIUS=500;X-TITLE=Calle Manuel Llaneza\, 8:geo:-5.7729571,43.2502294
END:VEVENT
END:VCALENDAR