BEGIN:VCALENDAR
VERSION:2.0
PRODID:-//Ayuntamiento de Mieres - ECPv5.16.1.1//NONSGML v1.0//EN
CALSCALE:GREGORIAN
METHOD:PUBLISH
X-WR-CALNAME:Ayuntamiento de Mieres
X-ORIGINAL-URL:https://www.mieres.es
X-WR-CALDESC:Eventos para Ayuntamiento de Mieres
BEGIN:VTIMEZONE
TZID:Europe/Madrid
BEGIN:DAYLIGHT
TZOFFSETFROM:+0100
TZOFFSETTO:+0200
TZNAME:CEST
DTSTART:20260329T010000
END:DAYLIGHT
BEGIN:STANDARD
TZOFFSETFROM:+0200
TZOFFSETTO:+0100
TZNAME:CET
DTSTART:20261025T010000
END:STANDARD
END:VTIMEZONE
BEGIN:VEVENT
DTSTART;VALUE=DATE:20260310
DTEND;VALUE=DATE:20260311
DTSTAMP:20260419T144814
CREATED:20260223T090226Z
LAST-MODIFIED:20260302T131612Z
UID:77761-1773100800-1773187199@www.mieres.es
SUMMARY:XXXXV Feria de Stock en Mieres (2/21MAR)
DESCRIPTION:XXXXV Feria de Stock en Mieres\nUnión de Comerciantes del Caudal\n• Del 2 al 21 de marzo en tu tienda\, en tu calle \n  \n\nXXXXV Feria de Stock en Mieres \nLa Unión de Comerciantes del Caudal organiza la 45 edición de la Feria del Stock\, que tendrá lugar en el concejo del 6 al 21 de marzo de 2026 y en la que los comerciantes\, tanto con stand fuera como en su propia tienda ofrecerán sus restos de stock al mejor precio. \nLocales participantes: \n\nAndares\nComercial Tuñón\nCopistería Pepelinos\nDisco 55\nDkopa Moda\nFerretería Cristaloza\nFlorentina Martínez\nFreestyle\nGales Moda Caballero\nJaleo\nJoyería Dimas\nKiss moda\nLa Boutique de los Perfumes\nLa vieja Nana\nLibrería La Pilarica\nLibrería La Pilarica II\nMadrigal Textil\nMiansi Moda\nMiansi Complementos\nModas Tatian\nRelojería Joyería Peláez\nTatta 8\nVallejo Interiorismo\n\n\n \n 
URL:https://www.mieres.es/evento/xxxxv-feria-de-stock-en-mieres/2026-03-10/
LOCATION:Establecimientos comerciales y hosteleros del concejo
CATEGORIES:Comercio y Hostelería,Feria
ATTACH;FMTTYPE=image/jpeg:https://www.mieres.es/wp-content/uploads/2026/02/45-feria-stock-mieres-2026.jpg
END:VEVENT
BEGIN:VEVENT
DTSTART;TZID=Europe/Madrid:20260310T173000
DTEND;TZID=Europe/Madrid:20260310T173000
DTSTAMP:20260419T144814
CREATED:20260302T082929Z
LAST-MODIFIED:20260302T082929Z
UID:77845-1773163800-1773163800@www.mieres.es
SUMMARY:Ca mes un cuentu. Cuentacuentos n'asturianu\, con Andrea Lobo
DESCRIPTION:Ca mes un cuentu \nCuentacuentos n’asturianu\npor Andrea Lobo\nBiblioteca Pública de Mieres \nInscripción previa na Biblioteca. Aforo llindáu. \n\n  \nChirimbín\, chirimbaina! Vuelve la Bruxa Lloba a la biblioteca de Mieres. ¡Chirimbín\, chirimbón! ¿Qué Fechizocuentos saldrán güei? Chirimbín\, Chirimberes! El cestu máxicu ta enllenu de nuevos cuentos\, música y marionetes a la gueta los güeyos y oreyes. \nPa neños/es a partir de 3 años.\nEspectáculo de narración oral con títeres\, obxetos y música en direuto. \n✍️Podéis apuntavos na Biblioteca de Mieres\, n’horariu de 9:00 a 20:30 hores o al☎️ teléfonu 985456294 en Mieres.¡¡¡¡Esperámosvos!!!! \n 
URL:https://www.mieres.es/evento/ca-mes-un-cuentu-cuentacuentos-nasturianu-con-andrea-lobo-7/
LOCATION:Biblioteca Pública de Mieres\, Calle Manuel Llaneza\, 8\, Mieres\, Asturias\, 33600 \, España
CATEGORIES:Bibliotecas,Letras,Llingua,Teatro
ATTACH;FMTTYPE=image/jpeg:https://www.mieres.es/wp-content/uploads/2026/03/andrea-lobo-cuentacuentos-marzo-2026-mieres.jpg
GEO:43.2502294;-5.7729571
X-APPLE-STRUCTURED-LOCATION;VALUE=URI;X-ADDRESS=Biblioteca Pública de Mieres Calle Manuel Llaneza 8 Mieres Asturias 33600  España;X-APPLE-RADIUS=500;X-TITLE=Calle Manuel Llaneza\, 8:geo:-5.7729571,43.2502294
END:VEVENT
BEGIN:VEVENT
DTSTART;TZID=Europe/Madrid:20260310T180000
DTEND;TZID=Europe/Madrid:20260310T180000
DTSTAMP:20260419T144814
CREATED:20260223T100126Z
LAST-MODIFIED:20260223T100126Z
UID:77779-1773165600-1773165600@www.mieres.es
SUMMARY:"Taller de collage feminista". Grupo de Participación Juvenil de Mieres
DESCRIPTION:  \n\nParticipación Ciudadana / Juventud \n\nTaller de collage feminista\nGrupo de Participación Juvenil de Mieres\n  \nPara mayores de 14 años \nSalón de actos de la Casa de Cultura Teodoro Cuesta \n10 de marzo de 2026\, de 18:00 a 19:30h. \nInscripciones gratuitas en el teléfono 985452745 o en el correo electrónico oij@ayto-mieres.es \n\n 
URL:https://www.mieres.es/evento/taller-de-collage-feminista-grupo-de-participacion-juvenil-de-mieres/
LOCATION:Casa de Cultura Teodoro Cuesta\, Calle Manuel Llaneza\, 8\, Mieres\, Asturias\, 33600\, España
CATEGORIES:Juventud e Infancia,Participación Ciudadana
ATTACH;FMTTYPE=image/jpeg:https://www.mieres.es/wp-content/uploads/2026/02/taller-grupo-parti-10-marzo.jpg
GEO:43.2502294;-5.7729571
X-APPLE-STRUCTURED-LOCATION;VALUE=URI;X-ADDRESS=Casa de Cultura Teodoro Cuesta Calle Manuel Llaneza 8 Mieres Asturias 33600 España;X-APPLE-RADIUS=500;X-TITLE=Calle Manuel Llaneza\, 8:geo:-5.7729571,43.2502294
END:VEVENT
BEGIN:VEVENT
DTSTART;TZID=Europe/Madrid:20260310T193000
DTEND;TZID=Europe/Madrid:20260310T193000
DTSTAMP:20260419T144814
CREATED:20260302T090056Z
LAST-MODIFIED:20260302T090056Z
UID:77855-1773171000-1773171000@www.mieres.es
SUMMARY:Jornadas 8M. Ciclo de cine por la Igualdad: "Te estoy amando locamente"\, de Alejandro Marín
DESCRIPTION:JORNADAS 8M 2026\nCiclo de cine por la Igualdad\nTe estoy amando locamente\nMartes\, 10 de marzo\, 19:30h\nAuditoriu Teodoro Cuesta \nEntrada libre hasta completar aforo \n\n\nTítulo original: Te estoy amando locamente\nAño: 2023\nDuración: 107 min.\nPaís: España\nDirección: Alejandro Marín\nGuion: Carmen Garrido Vacas\, Alejandro Marín\nMúsica: Nico Casal\nFotografía: Andreu Ortoll \nReparto\nAna Wagener\, Omar Banana\, Alba Flores\, Jesús Carroza\, Carmen Orellana… \nSinopsis\nSevilla\, 1977. En un momento en el que la homosexualidad es delito\, Reme\, una madre tradicional movida por el amor hacia su hijo\, un adolescente aspirante a artista\, se involucrará en el movimiento LGTBI andaluz\, gestado paradójicamente en el seno de la Iglesia. (FILMAFFINITY) \n  \n  \n\nActividad financiada con cargo a los créditos del Pacto de Estado contra la violencia de género\, recibidos del Ministerio de la Presidencia\, Relaciones con las Cortes e Igualdad\, a través de la Secretaría de Estado
URL:https://www.mieres.es/evento/jornadas-8m-ciclo-de-cine-por-la-igualdad-te-estoy-amando-locamente-de-alejandro-marin/
LOCATION:Casa de Cultura Teodoro Cuesta\, Calle Manuel Llaneza\, 8\, Mieres\, Asturias\, 33600\, España
CATEGORIES:Cine,Igualdad
ATTACH;FMTTYPE=image/jpeg:https://www.mieres.es/wp-content/uploads/2026/03/3M_cine-igualda.jpg
GEO:43.2502294;-5.7729571
X-APPLE-STRUCTURED-LOCATION;VALUE=URI;X-ADDRESS=Casa de Cultura Teodoro Cuesta Calle Manuel Llaneza 8 Mieres Asturias 33600 España;X-APPLE-RADIUS=500;X-TITLE=Calle Manuel Llaneza\, 8:geo:-5.7729571,43.2502294
END:VEVENT
END:VCALENDAR