BEGIN:VCALENDAR
VERSION:2.0
PRODID:-//Ayuntamiento de Mieres - ECPv5.16.1.1//NONSGML v1.0//EN
CALSCALE:GREGORIAN
METHOD:PUBLISH
X-WR-CALNAME:Ayuntamiento de Mieres
X-ORIGINAL-URL:https://www.mieres.es
X-WR-CALDESC:Eventos para Ayuntamiento de Mieres
BEGIN:VTIMEZONE
TZID:Europe/Madrid
BEGIN:DAYLIGHT
TZOFFSETFROM:+0100
TZOFFSETTO:+0200
TZNAME:CEST
DTSTART:20260329T010000
END:DAYLIGHT
BEGIN:STANDARD
TZOFFSETFROM:+0200
TZOFFSETTO:+0100
TZNAME:CET
DTSTART:20261025T010000
END:STANDARD
END:VTIMEZONE
BEGIN:VEVENT
DTSTART;VALUE=DATE:20260311
DTEND;VALUE=DATE:20260312
DTSTAMP:20260421T130948
CREATED:20260223T090226Z
LAST-MODIFIED:20260302T131734Z
UID:77763-1773187200-1773273599@www.mieres.es
SUMMARY:XXXXV Feria de Stock en Mieres (2/21MAR)
DESCRIPTION:XXXXV Feria de Stock en Mieres\nUnión de Comerciantes del Caudal\n• Del 2 al 21 de marzo en tu tienda\, en tu calle \n  \n\nXXXXV Feria de Stock en Mieres \nLa Unión de Comerciantes del Caudal organiza la 45 edición de la Feria del Stock\, que tendrá lugar en el concejo del 6 al 21 de marzo de 2026 y en la que los comerciantes\, tanto con stand fuera como en su propia tienda ofrecerán sus restos de stock al mejor precio. \nLocales participantes: \n\nAndares\nComercial Tuñón\nCopistería Pepelinos\nDisco 55\nDkopa Moda\nFerretería Cristaloza\nFlorentina Martínez\nFreestyle\nGales Moda Caballero\nJaleo\nJoyería Dimas\nKiss moda\nLa Boutique de los Perfumes\nLa vieja Nana\nLibrería La Pilarica\nLibrería La Pilarica II\nMadrigal Textil\nMiansi Moda\nMiansi Complementos\nModas Tatian\nRelojería Joyería Peláez\nTatta 8\nVallejo Interiorismo\n\n\n \n 
URL:https://www.mieres.es/evento/xxxxv-feria-de-stock-en-mieres/2026-03-11/
LOCATION:Establecimientos comerciales y hosteleros del concejo
CATEGORIES:Comercio y Hostelería,Feria
ATTACH;FMTTYPE=image/jpeg:https://www.mieres.es/wp-content/uploads/2026/02/45-feria-stock-mieres-2026.jpg
END:VEVENT
BEGIN:VEVENT
DTSTART;TZID=Europe/Madrid:20260311T183000
DTEND;TZID=Europe/Madrid:20260311T183000
DTSTAMP:20260421T130948
CREATED:20260206T104051Z
LAST-MODIFIED:20260206T104051Z
UID:77561-1773253800-1773253800@www.mieres.es
SUMMARY:Entrenamiento al aire libre para mujeres (11FEB/JUN)
DESCRIPTION:Entrenamiento deportivo\n  \nEntrenamiento al aire libre para mujeres \nCon  Dark Lion Sport \nPara mujeres a partir de los 16 años. \nDel 11 de octubre de 2024 al 17 de junio de 2026 \nNivel básico: los miércoles\, de 18:30 a 19:30h\nNivel avanzado: los miércoles\, de 19:30 a 20:30h \nLugar de encuentro: Casa de las Mujeres \nInscripciones gratuitas en el tlfno.: 985466262(a partir del 9 de febrero\, de 09:00 a 14:00h.)
URL:https://www.mieres.es/evento/entrenamiento-al-aire-libre-para-mujeres-11feb-jun/2026-03-11/
LOCATION:Casa de las Mujeres\, C/ Jerónimo Ibrán 19\, Mieres\, Asturias\, 33600\, España
CATEGORIES:Deportes,Igualdad,Salud,Taller
ATTACH;FMTTYPE=image/jpeg:https://www.mieres.es/wp-content/uploads/2026/02/entrenamiento-mujeres-cartel-mieres-feb-2026.jpg
GEO:43.2512334;-5.7731606
X-APPLE-STRUCTURED-LOCATION;VALUE=URI;X-ADDRESS=Casa de las Mujeres C/ Jerónimo Ibrán 19 Mieres Asturias 33600 España;X-APPLE-RADIUS=500;X-TITLE=C/ Jerónimo Ibrán 19:geo:-5.7731606,43.2512334
END:VEVENT
BEGIN:VEVENT
DTSTART;TZID=Europe/Madrid:20260311T190000
DTEND;TZID=Europe/Madrid:20260311T190000
DTSTAMP:20260421T130948
CREATED:20260305T093328Z
LAST-MODIFIED:20260305T113646Z
UID:77976-1773255600-1773255600@www.mieres.es
SUMMARY:Charla-coloquio: "Comunidades energéticas: La energía en manos del barrio"
DESCRIPTION:  \nCharla-coloquio: \n\n“Comunidades energéticas: La energía en manos del barrio”\n\nOrganizado por la Plataforma para la Salud y la Sanidad Pública \nColabora: Concejalía de Medio Ambiente Ayto. de Mieres \n\n\n  \nMiércoles\, 11 de marzo de 2026. 19:00h.\nSalón de actos de la casa de Cultura Teodoro Cuesta\nEntrada gratuita hasta completar aforo. \n\n\n\n\n 
URL:https://www.mieres.es/evento/charla-coloquio-comunidades-energeticas-la-energia-en-manos-del-barrio/
LOCATION:Casa de Cultura Teodoro Cuesta\, Calle Manuel Llaneza\, 8\, Mieres\, Asturias\, 33600\, España
CATEGORIES:Charlas-coloquio,Medio Ambiente
ATTACH;FMTTYPE=image/jpeg:https://www.mieres.es/wp-content/uploads/2026/03/energia-manos-del-barrio-mieres-2026.jpg
GEO:43.2502294;-5.7729571
X-APPLE-STRUCTURED-LOCATION;VALUE=URI;X-ADDRESS=Casa de Cultura Teodoro Cuesta Calle Manuel Llaneza 8 Mieres Asturias 33600 España;X-APPLE-RADIUS=500;X-TITLE=Calle Manuel Llaneza\, 8:geo:-5.7729571,43.2502294
END:VEVENT
END:VCALENDAR