BEGIN:VCALENDAR
VERSION:2.0
PRODID:-//Ayuntamiento de Mieres - ECPv5.16.1.1//NONSGML v1.0//EN
CALSCALE:GREGORIAN
METHOD:PUBLISH
X-WR-CALNAME:Ayuntamiento de Mieres
X-ORIGINAL-URL:https://www.mieres.es
X-WR-CALDESC:Eventos para Ayuntamiento de Mieres
BEGIN:VTIMEZONE
TZID:Europe/Madrid
BEGIN:DAYLIGHT
TZOFFSETFROM:+0100
TZOFFSETTO:+0200
TZNAME:CEST
DTSTART:20260329T010000
END:DAYLIGHT
BEGIN:STANDARD
TZOFFSETFROM:+0200
TZOFFSETTO:+0100
TZNAME:CET
DTSTART:20261025T010000
END:STANDARD
END:VTIMEZONE
BEGIN:VEVENT
DTSTART;VALUE=DATE:20260312
DTEND;VALUE=DATE:20260313
DTSTAMP:20260420T212642
CREATED:20260223T090226Z
LAST-MODIFIED:20260302T131911Z
UID:77765-1773273600-1773359999@www.mieres.es
SUMMARY:XXXXV Feria de Stock en Mieres (2/21MAR)
DESCRIPTION:XXXXV Feria de Stock en Mieres\nUnión de Comerciantes del Caudal\n• Del 2 al 21 de marzo en tu tienda\, en tu calle \n  \n\nXXXXV Feria de Stock en Mieres \nLa Unión de Comerciantes del Caudal organiza la 45 edición de la Feria del Stock\, que tendrá lugar en el concejo del 6 al 21 de marzo de 2026 y en la que los comerciantes\, tanto con stand fuera como en su propia tienda ofrecerán sus restos de stock al mejor precio. \nLocales participantes: \n\nAndares\nComercial Tuñón\nCopistería Pepelinos\nDisco 55\nDkopa Moda\nFerretería Cristaloza\nFlorentina Martínez\nFreestyle\nGales Moda Caballero\nJaleo\nJoyería Dimas\nKiss moda\nLa Boutique de los Perfumes\nLa vieja Nana\nLibrería La Pilarica\nLibrería La Pilarica II\nMadrigal Textil\nMiansi Moda\nMiansi Complementos\nModas Tatian\nRelojería Joyería Peláez\nTatta 8\nVallejo Interiorismo\n\n\n \n 
URL:https://www.mieres.es/evento/xxxxv-feria-de-stock-en-mieres/2026-03-12/
LOCATION:Establecimientos comerciales y hosteleros del concejo
CATEGORIES:Comercio y Hostelería,Feria
ATTACH;FMTTYPE=image/jpeg:https://www.mieres.es/wp-content/uploads/2026/02/45-feria-stock-mieres-2026.jpg
END:VEVENT
BEGIN:VEVENT
DTSTART;TZID=Europe/Madrid:20260312T173000
DTEND;TZID=Europe/Madrid:20260312T173000
DTSTAMP:20260420T212642
CREATED:20260303T101924Z
LAST-MODIFIED:20260303T101924Z
UID:77909-1773336600-1773336600@www.mieres.es
SUMMARY:Tardes con Leo: "Azulada"
DESCRIPTION:  \n\nCuentacuentos\nTardes con Leo \nAzulada\nde Carol Neumann\nBiblioteca Pública de Mieres \n\n  \nCuentacuentos a cargo de Leo\, la mascota de las bibliotecas de nuestra Red de Bibliotecas Municipales\, basado en el libro Azulada (Ediciones Minilupa)\, escrito por Carol Neumann e ilustrado por María Pilar Parro. Una historia que\, de una manera sutil\, trata temas tan relevantes como la inclusión y la valoración de la diversidad. \n  \nZuli es una pequeña niña diferente. Su color azul hace que otros niños la queden mirando y que a veces se burlen de ella. En este relato\, Zuli aprende a tener confianza en sí misma y les enseña a los otros que las diferencias aportan y se pueden aprovechar para lograr grandes cosas. \nAzulada enseña a los niños a apreciar las diferencias\, sin importar cuán distintos podamos ser unos de otros. \n  \nPatrocinado por la Caja Rural de Asturias y realizado por Paula Huelga\, de Xitech. Plazas limitadas\, asignadas por orden de inscripción. Podéis apuntaros en la Biblioteca en horario de 09:00 a 20:30 horas o al teléfono 985456294. ¡¡¡¡Os esperamos!!!! \n  \n\n 
URL:https://www.mieres.es/evento/tardes-con-leo-azulada/
LOCATION:Biblioteca Pública de Mieres\, Calle Manuel Llaneza\, 8\, Mieres\, Asturias\, 33600 \, España
CATEGORIES:Bibliotecas,Cuentacuentos
ATTACH;FMTTYPE=image/jpeg:https://www.mieres.es/wp-content/uploads/2026/03/azulada-tardes-con-leo.jpg
ORGANIZER;CN="Red%20de%20Bibliotecas%20Municipales%20de%20Mieres":MAILTO:biblioteca@ayto-mieres.es
GEO:43.2502294;-5.7729571
X-APPLE-STRUCTURED-LOCATION;VALUE=URI;X-ADDRESS=Biblioteca Pública de Mieres Calle Manuel Llaneza 8 Mieres Asturias 33600  España;X-APPLE-RADIUS=500;X-TITLE=Calle Manuel Llaneza\, 8:geo:-5.7729571,43.2502294
END:VEVENT
BEGIN:VEVENT
DTSTART;TZID=Europe/Madrid:20260312T190000
DTEND;TZID=Europe/Madrid:20260312T190000
DTSTAMP:20260420T212642
CREATED:20260303T120551Z
LAST-MODIFIED:20260303T120551Z
UID:77920-1773342000-1773342000@www.mieres.es
SUMMARY:Presentación del libro: "Los que fueron tanto siendo nada"\, de Natalia García Ania
DESCRIPTION:Presentación del libro: \n\nLos que fueron tanto siendo nada\nde Natalia García Ania\n61 Aniversario del asalto a la comisaría de Mieres\n  \nJueves\, 12 de marzo de 2026\, 19:00h. \n\n\nSalón de actos de la casa de Cultura Teodoro Cuesta\nEntrada gratuita hasta completar aforo. \n\n\n\n\n  \nDurante la dictadura franquista\, la minería asturiana se levanta contra la injusticia\, y las precarias condiciones laborales que sufren. Víctor\, un minero cuya vida siempre ha sido trabajar en condiciones infrahumanas\, tendrá que lidiar con el conflicto laboral y el personal\, ya que\, no solamente el Estado y le acosará\, sino que será víctima de una terrible venganza por parte de su patrón\, que intentará llevarse por delante todo cuanto él ha construido en su vida\, incluida su familia\, y particularmente a su esposa. Julia: una mujer decidida y valiente\, que abandonó una vida cómoda para poder ser ella misma. Por otro lado\, Gerardo\, otro de los mineros en huelga\, se ve envuelto en una auténtica vorágine personal\, de la que no saldrá bien parado. La pérdida de su mujer\, el rechazo de sus hijos\, sumado a un problema con el alcohol\, le pasarán una cara factura. Testigo de ello\, serán: Tomasón\, un recio minero\, y Luisa\, una carbonera con mucho genio y mucha sensibilidad\, cuya hija tuvo que huir del país para no ser encarcelada por sus ideas políticas. \nEs una historia coral de personajes complejos. Cada uno con sus propios problemas e inquietudes\, que interactúan\, se ayudan y se ponen la zancadilla\, que comparten ideas y luchan por la dignidad de sus vidas\, en un momento en el que España era dirigida con mano de hierro por Franco. La cárcel\, los abusos por parte de la autoridad\, las torturas\, el miedo… Todo ello forma parte de esta historia\, que narra la dureza\, real\, de la Asturias de aquellos tiempos. \nEs una historia dura\, pero entrañable\, en la que\, por encima de todo\, se ensalza la amistad\, la lucha\, el amor\, y la esperanza. \n(Sinopsis de Iván Mourín) \n  \n\n  \n\n\n 
URL:https://www.mieres.es/evento/presentacion-del-libro-los-que-fueron-tanto-siendo-nada-de-natalia-garcia-ania/
LOCATION:Casa de Cultura Teodoro Cuesta\, Calle Manuel Llaneza\, 8\, Mieres\, Asturias\, 33600\, España
CATEGORIES:Letras,Memoria Democrática
ATTACH;FMTTYPE=image/jpeg:https://www.mieres.es/wp-content/uploads/2026/03/libro-natalia-garcia-mieres-2026.jpg
GEO:43.2502294;-5.7729571
X-APPLE-STRUCTURED-LOCATION;VALUE=URI;X-ADDRESS=Casa de Cultura Teodoro Cuesta Calle Manuel Llaneza 8 Mieres Asturias 33600 España;X-APPLE-RADIUS=500;X-TITLE=Calle Manuel Llaneza\, 8:geo:-5.7729571,43.2502294
END:VEVENT
END:VCALENDAR