BEGIN:VCALENDAR
VERSION:2.0
PRODID:-//Ayuntamiento de Mieres - ECPv5.16.1.1//NONSGML v1.0//EN
CALSCALE:GREGORIAN
METHOD:PUBLISH
X-WR-CALNAME:Ayuntamiento de Mieres
X-ORIGINAL-URL:https://www.mieres.es
X-WR-CALDESC:Eventos para Ayuntamiento de Mieres
BEGIN:VTIMEZONE
TZID:Europe/Madrid
BEGIN:DAYLIGHT
TZOFFSETFROM:+0100
TZOFFSETTO:+0200
TZNAME:CEST
DTSTART:20260329T010000
END:DAYLIGHT
BEGIN:STANDARD
TZOFFSETFROM:+0200
TZOFFSETTO:+0100
TZNAME:CET
DTSTART:20261025T010000
END:STANDARD
END:VTIMEZONE
BEGIN:VEVENT
DTSTART;VALUE=DATE:20260319
DTEND;VALUE=DATE:20260320
DTSTAMP:20260420T224620
CREATED:20260223T090226Z
LAST-MODIFIED:20260302T133038Z
UID:77772-1773878400-1773964799@www.mieres.es
SUMMARY:XXXXV Feria de Stock en Mieres (2/21MAR)
DESCRIPTION:XXXXV Feria de Stock en Mieres\nUnión de Comerciantes del Caudal\n• Del 2 al 21 de marzo en tu tienda\, en tu calle \n  \n\nXXXXV Feria de Stock en Mieres \nLa Unión de Comerciantes del Caudal organiza la 45 edición de la Feria del Stock\, que tendrá lugar en el concejo del 6 al 21 de marzo de 2026 y en la que los comerciantes\, tanto con stand fuera como en su propia tienda ofrecerán sus restos de stock al mejor precio. \nLocales participantes: \n\nAndares\nComercial Tuñón\nCopistería Pepelinos\nDisco 55\nDkopa Moda\nFerretería Cristaloza\nFlorentina Martínez\nFreestyle\nGales Moda Caballero\nJaleo\nJoyería Dimas\nKiss moda\nLa Boutique de los Perfumes\nLa vieja Nana\nLibrería La Pilarica\nLibrería La Pilarica II\nMadrigal Textil\nMiansi Moda\nMiansi Complementos\nModas Tatian\nRelojería Joyería Peláez\nTatta 8\nVallejo Interiorismo\n\n\n \n 
URL:https://www.mieres.es/evento/xxxxv-feria-de-stock-en-mieres/2026-03-19/
LOCATION:Establecimientos comerciales y hosteleros del concejo
CATEGORIES:Comercio y Hostelería,Feria
ATTACH;FMTTYPE=image/jpeg:https://www.mieres.es/wp-content/uploads/2026/02/45-feria-stock-mieres-2026.jpg
END:VEVENT
BEGIN:VEVENT
DTSTART;TZID=Europe/Madrid:20260319T122500
DTEND;TZID=Europe/Madrid:20260319T122500
DTSTAMP:20260420T224620
CREATED:20260318T133302Z
LAST-MODIFIED:20260318T133506Z
UID:78126-1773923100-1773923100@www.mieres.es
SUMMARY:Exposición: "Love Song"\, de Juan Fernández Álava (19MAR/12JUN) -Acto de inauguración-
DESCRIPTION:Exposición: \nLove Song\nde Juan Fernández Álava\nSala de exposiciones del I.E.S. Bernaldo de Quirós\nDel 19 de marzo al 12 de junio de 2026 \nHorario de lunes a viernes\, mañanas de 10 a 14 h.\, tardes de 17 a 20 h. \n  \nActo de inauguración\, jueves\, 19 de marzo\, a las 12:25 horas\, con un breve concierto a cargo de profesorado del centro. \n\n\n  \nLa exposición propone una reflexión artística sobre el amor como acción y experiencia vital. A través de dibujos realizados con carboncillo y pinturas al óleo\, el artista muestra principalmente a jóvenes en retratos y escenas cotidianas —abrazarse\, bailar o interactuar— que sugieren emociones\, gestos y momentos de intimidad.  \nLas obras\, dispuestas a lo largo de la sala como si formaran parte de una melodía\, componen una especie de “canción visual” en la que cada pieza funciona como una nota. Con ello\, el autor expresa su amor por el arte y busca que el espectador complete la historia con su propia mirada\, invitándolo a salir de la exposición con una sensación renovada de amor por la vida. \n 
URL:https://www.mieres.es/evento/exposicion-love-song-de-juan-fernandez-alava-19mar-12jun-acto-de-inauguracion/
LOCATION:Instituto de Enseñanza Secundaria Bernaldo de Quirós\, Calle Fray Paulino s/n 33600 Mieres\, Mieres\, Asturias\, 33600
CATEGORIES:Arte,Educación,Exposiciones
ATTACH;FMTTYPE=image/jpeg:https://www.mieres.es/wp-content/uploads/2026/03/Juan-Fernandez-Alava-expo-IBQ.jpg
GEO:43.249719;-5.7785282
X-APPLE-STRUCTURED-LOCATION;VALUE=URI;X-ADDRESS=Instituto de Enseñanza Secundaria Bernaldo de Quirós Calle Fray Paulino s/n 33600 Mieres Mieres Asturias 33600;X-APPLE-RADIUS=500;X-TITLE=Calle Fray Paulino s/n 33600 Mieres:geo:-5.7785282,43.249719
END:VEVENT
BEGIN:VEVENT
DTSTART;TZID=Europe/Madrid:20260319T173000
DTEND;TZID=Europe/Madrid:20260319T173000
DTSTAMP:20260420T224620
CREATED:20260303T115143Z
LAST-MODIFIED:20260303T115143Z
UID:77917-1773941400-1773941400@www.mieres.es
SUMMARY:Tardes con Leo: "Las huellas de papá"
DESCRIPTION:  \n\nCuentacuentos\nTardes con Leo \nLas huellas de papá\nde Michelle Robinson\nBiblioteca Pública de Mieres \n\n  \nCuentacuentos a cargo de Leo\, la mascota de las bibliotecas de nuestra Red de Bibliotecas Municipales\, basado en el libro Las huellas de papá (Editorial Picarona)\, escrito por Michelle Robinson e ilustrado por Paddy Donnelly. \n  \nEl bebé dinosaurio sueña con ser GRANDE y FUERTE\, igual que su padre. Pero cuando pierde de vista a su papi en una AVENTURA con sus amigos\, y el mundo se vuelve SALVAJE y PELIGROSO\, ¿recordará las palabras que su padre le dijo? \n  \nPatrocinado por la Caja Rural de Asturias y realizado por Paula Huelga\, de Xitech. Plazas limitadas\, asignadas por orden de inscripción. Podéis apuntaros en la Biblioteca en horario de 09:00 a 20:30 horas o al teléfono 985456294. ¡¡¡¡Os esperamos!!!! \n  \n\n 
URL:https://www.mieres.es/evento/tardes-con-leo-las-huellas-de-papa/
LOCATION:Biblioteca Pública de Mieres\, Calle Manuel Llaneza\, 8\, Mieres\, Asturias\, 33600 \, España
CATEGORIES:Bibliotecas,Cuentacuentos
ATTACH;FMTTYPE=image/jpeg:https://www.mieres.es/wp-content/uploads/2026/03/Tardes-con-leo-Las-huellas-de-papa.jpg
ORGANIZER;CN="Red%20de%20Bibliotecas%20Municipales%20de%20Mieres":MAILTO:biblioteca@ayto-mieres.es
GEO:43.2502294;-5.7729571
X-APPLE-STRUCTURED-LOCATION;VALUE=URI;X-ADDRESS=Biblioteca Pública de Mieres Calle Manuel Llaneza 8 Mieres Asturias 33600  España;X-APPLE-RADIUS=500;X-TITLE=Calle Manuel Llaneza\, 8:geo:-5.7729571,43.2502294
END:VEVENT
BEGIN:VEVENT
DTSTART;TZID=Europe/Madrid:20260319T173000
DTEND;TZID=Europe/Madrid:20260319T173000
DTSTAMP:20260420T224620
CREATED:20260310T125425Z
LAST-MODIFIED:20260310T125425Z
UID:78039-1773941400-1773941400@www.mieres.es
SUMMARY:Tarde de 'Parti': "Taller de Stop Motion". Grupo de Participación Juvenil de Mieres
DESCRIPTION:  \n\nParticipación Ciudadana / Juventud \nTarde de ‘Parti’\n“Taller de Stop Motion”\nGrupo de Participación Juvenil de Mieres\nPara menores entre 8 y 12 años \nLocales de la antigua Oficina de Información Juvenil (C/ Doce de Octubre) \nJueves\, 19 de marzo\, de 17:30 a 19:00h. \nInscripciones gratuitas en el tfno 985452745 o en el correo oij@ayto-mieres.es \n\n 
URL:https://www.mieres.es/evento/tarde-de-parti-taller-de-stop-motion-grupo-de-participacion-juvenil-de-mieres/
LOCATION:Local antigua OIJ\, C/ Doce de Octubre\, 42\, Mieres
CATEGORIES:Juventud e Infancia,Participación Ciudadana
ATTACH;FMTTYPE=image/jpeg:https://www.mieres.es/wp-content/uploads/2026/03/cartel-parti-mieres-stop-motion-marco-2026.jpg
ORGANIZER;CN="Concejal%C3%ADa%20de%20Infancia%20y%20Juventud":MAILTO:oij@ayto-mieres.es
END:VEVENT
BEGIN:VEVENT
DTSTART;TZID=Europe/Madrid:20260319T193000
DTEND;TZID=Europe/Madrid:20260319T193000
DTSTAMP:20260420T224620
CREATED:20260319T101947Z
LAST-MODIFIED:20260319T101947Z
UID:78133-1773948600-1773948600@www.mieres.es
SUMMARY:Presentación del número 7 de la revista "La Mercantil"
DESCRIPTION:Presentación del número 7 de la revista: \n\nLa Mercantil\nRevista Sociocultural de Mieres\n\n– Con la participación de varios autores/as que firman artículos en este número: José Luis Argüelles\, Juan Ponte\, Paula Huelga\, Pilar Sánchez Vicente…\n– Actuación de Teatro del Norte: “Homenaje a Valle Inclán”\n– Proyección de video de Iván González “Chapo”\, con La Ruta\, Leiva y Tarque\n– Nuria Ordóñez. Concejala de Cultura el Ilmo. Ayuntamiento de Mieres\n– Presenta y coordina: Celso Fernández \n  \nJueves 19 de marzo\, 19:30h. \n\n\nAuditoriu Teodoro Cuesta\nEntrada gratuita hasta completar aforo \n\n\n\n\n 
URL:https://www.mieres.es/evento/presentacion-del-numero-7-de-la-revista-la-mercantil/
LOCATION:Casa de Cultura Teodoro Cuesta\, Calle Manuel Llaneza\, 8\, Mieres\, Asturias\, 33600\, España
CATEGORIES:Letras
ATTACH;FMTTYPE=image/jpeg:https://www.mieres.es/wp-content/uploads/2026/03/cartel-revista-la-mercantil-2026.jpg
GEO:43.2502294;-5.7729571
X-APPLE-STRUCTURED-LOCATION;VALUE=URI;X-ADDRESS=Casa de Cultura Teodoro Cuesta Calle Manuel Llaneza 8 Mieres Asturias 33600 España;X-APPLE-RADIUS=500;X-TITLE=Calle Manuel Llaneza\, 8:geo:-5.7729571,43.2502294
END:VEVENT
END:VCALENDAR