BEGIN:VCALENDAR
VERSION:2.0
PRODID:-//Ayuntamiento de Mieres - ECPv5.16.1.1//NONSGML v1.0//EN
CALSCALE:GREGORIAN
METHOD:PUBLISH
X-WR-CALNAME:Ayuntamiento de Mieres
X-ORIGINAL-URL:https://www.mieres.es
X-WR-CALDESC:Eventos para Ayuntamiento de Mieres
BEGIN:VTIMEZONE
TZID:Europe/Madrid
BEGIN:DAYLIGHT
TZOFFSETFROM:+0100
TZOFFSETTO:+0200
TZNAME:CEST
DTSTART:20260329T010000
END:DAYLIGHT
BEGIN:STANDARD
TZOFFSETFROM:+0200
TZOFFSETTO:+0100
TZNAME:CET
DTSTART:20261025T010000
END:STANDARD
END:VTIMEZONE
BEGIN:VEVENT
DTSTART;VALUE=DATE:20260320
DTEND;VALUE=DATE:20260321
DTSTAMP:20260420T225206
CREATED:20260223T090226Z
LAST-MODIFIED:20260302T133156Z
UID:77773-1773964800-1774051199@www.mieres.es
SUMMARY:XXXXV Feria de Stock en Mieres (2/21MAR)
DESCRIPTION:XXXXV Feria de Stock en Mieres\nUnión de Comerciantes del Caudal\n• Del 2 al 21 de marzo en tu tienda\, en tu calle \n  \n\nXXXXV Feria de Stock en Mieres \nLa Unión de Comerciantes del Caudal organiza la 45 edición de la Feria del Stock\, que tendrá lugar en el concejo del 6 al 21 de marzo de 2026 y en la que los comerciantes\, tanto con stand fuera como en su propia tienda ofrecerán sus restos de stock al mejor precio. \nLocales participantes: \n\nAndares\nComercial Tuñón\nCopistería Pepelinos\nDisco 55\nDkopa Moda\nFerretería Cristaloza\nFlorentina Martínez\nFreestyle\nGales Moda Caballero\nJaleo\nJoyería Dimas\nKiss moda\nLa Boutique de los Perfumes\nLa vieja Nana\nLibrería La Pilarica\nLibrería La Pilarica II\nMadrigal Textil\nMiansi Moda\nMiansi Complementos\nModas Tatian\nRelojería Joyería Peláez\nTatta 8\nVallejo Interiorismo\n\n\n \n 
URL:https://www.mieres.es/evento/xxxxv-feria-de-stock-en-mieres/2026-03-20/
LOCATION:Establecimientos comerciales y hosteleros del concejo
CATEGORIES:Comercio y Hostelería,Feria
ATTACH;FMTTYPE=image/jpeg:https://www.mieres.es/wp-content/uploads/2026/02/45-feria-stock-mieres-2026.jpg
END:VEVENT
BEGIN:VEVENT
DTSTART;TZID=Europe/Madrid:20260320T093000
DTEND;TZID=Europe/Madrid:20260320T093000
DTSTAMP:20260420T225206
CREATED:20260309T130123Z
LAST-MODIFIED:20260407T114244Z
UID:78012-1773999000-1773999000@www.mieres.es
SUMMARY:Jornada Técnica y Participativa BOSQUES VIVOS\, MUNICIPIO SEGURO
DESCRIPTION:Jornada Técnica y Participativa\nBOSQUES VIVOS\, MUNICIPIO SEGURO\nViernes\, 20 de marzo de 2026\nDe 9:30 a 13.00h. \nSalón de actos de la Casa de Cultura Teodoro Cuesta\nEntrada libre hasta completar aforo \n\n  \nPrograma \n9:30h. Inauguración\, a cargo de Manuel Á. Álvarez Álvarez\, Alcalde de Mieres. \n9:40 – 11:00h. Compromiso político y rigor técnico\, una alianza de éxito. \nApertura: \nTeresa de la Fuente Prieto. Concejala de Medio Ambiente del Ayto. de Mieres. \n– Plan Municipal de Prevención de Incendios. Objetivos. Financiación. Componentes. Implicación del Ayuntamiento en el Plan Nacional de Restauración de Ecosistemas Urbanos. \nAntonio Iglesias Otero. Ingeniero Técnico. Oficina Técnica del Ayto. de Mieres.\nRocío García Martínez. Ingeniera Técnica. Área de Medio Rural del Ayto. de Mieres. \n– Detalle actual del “patrimonio verde” del concejo. Resultado de la caracterización del municipio. Análisis de riesgos y líneas maestras del Plan Local de Prevención de Incendios a diez años. \nMiguel Sánchez Rodríguez. Ingeniero de Montes e Ingeniero Forestal. COVIASTUR (redactor del  Plan Local de Prevención de Incendios Forestales del Concejo de Mieres). \n– Importancia de la colaboración autonómica con las entidades locales.  Balance de las ayudas para la defensa contra incendios forestales y el mantenimiento de infraestructuras rurales. Encaje de los planes municipales en el Plan Director Regional. \nJavier Vigil Fabián. Director General de Gestión Forestal. Consejería de Medio Rural y Política Agraria del Principado de Asturias. \n– Problemática de la interfaz urbano forestal en incendios forestales\, normativa reguladora y línea de ayudas para la mitigación del problema. \nRubén Rodríguez Fernández. Ingeniero Técnico Forestal e Ingeniero de Montes. Jefe de Sección de Prevención de Incendios. Consejería de Movilidad\, Medio Ambiente y Gestión de Emergencias del Principado de Asturias. \n– Fortalezas y debilidades de la gestión forestal en fincas particulares en Asturias. Contribución de la ciudadanía y las instituciones a una mejor gestión forestal. \nÓscar García Hernández. Ingeniero Forestal. FORESTNORTE Gestión de montes y fincas. \n– Uso de nuevas tecnologías en tareas de prevención: sensores remotos\, LiDAR\, Sentinel-2 y otros. Enfoques clásicos y nuevos métodos basados en inteligencia artificial. \nIyán Teijido Murias. Doctor en Ingeniería de los Recursos Naturales. Univ. de Oviedo. \n11:00 – 11:30h. Pausa. \n  \n11:30 – 13:00h. Mesa redonda: De la teoría a la práctica. \nModera: \n– Óscar García Hernández. Gerente de FORESTNORTE. \nParticipan: \n– Antonio Iglesias Otero. Técnico del Ayuntamiento de Mieres. \nRetos Técnicos y de gestión a nivel local. Oficina Técnica Ayto. de Mieres. \n– María Castaño Díaz. Ingeniera Forestal y del Medio Natural. Universidad de Oviedo. Vocal del Colegio Oficial de Ingenieros Técnicos Forestales. \nVisión científica sobre biodiversidad y cambio climático vinculada a la prevención de incendios\, influencia del nuevo contexto climático en el comportamiento del fuego en Asturias. Adaptaciones de la selvicultura tradicional ante escenarios de incendios de alta intensidad. \n– Alberto Fernández Conde. Servicio de Montes. Consejería de M.  Rural del Pdo. de Asturias. \nColaboración de la administración autonómica para la financiación y puesta en marcha de actuaciones de prevención. \n– Miguel Sánchez Rodríguez. Ingeniero Forestal y de Montes. COVIASTUR. \n Visión técnica del Plan Local de Prevención de Incendios. Relación entre propietarios particulares y prevención de incendios. \n– Rubén Rodríguez Fernández. Sección de Prevención de Incendios. Consejería de Movilidad\, Medio Ambiente y Gestión de Emergencias. \nVisión general de la prevención de incendios en Asturias y sus líneas de apoyo derivadas de la interfaz urbano-forestal. \n– Javier González Rodríguez. Grupo de Montaña San Bernardo. \nPapel de las personas montañeras como “guardianes” activos de los bosques mediante la vigilancia y alerta temprana de incendios\, la limpieza de senderos y la educación ambiental\, aportando con sus conocimientos del terreno y el respeto al entorno natural\, un papel crucial para la conservación\, la biodiversidad y la prevención de riesgos naturales. \n  \n13:00h. Clausura. \n  \n\n 
URL:https://www.mieres.es/evento/jornada-tecnica-y-participativa-bosques-vivos-municipio-seguro/
LOCATION:Casa de Cultura Teodoro Cuesta\, Calle Manuel Llaneza\, 8\, Mieres\, Asturias\, 33600\, España
CATEGORIES:Conferencia,Jornadas,Medio Ambiente
ATTACH;FMTTYPE=image/jpeg:https://www.mieres.es/wp-content/uploads/2026/03/Cartel-web-Jornada-BOSQUES-VIVOS-2026-Mieres.jpg
GEO:43.2502294;-5.7729571
X-APPLE-STRUCTURED-LOCATION;VALUE=URI;X-ADDRESS=Casa de Cultura Teodoro Cuesta Calle Manuel Llaneza 8 Mieres Asturias 33600 España;X-APPLE-RADIUS=500;X-TITLE=Calle Manuel Llaneza\, 8:geo:-5.7729571,43.2502294
END:VEVENT
BEGIN:VEVENT
DTSTART;TZID=Europe/Madrid:20260320T103000
DTEND;TZID=Europe/Madrid:20260320T103000
DTSTAMP:20260420T225206
CREATED:20260310T102552Z
LAST-MODIFIED:20260310T103434Z
UID:78018-1774002600-1774002600@www.mieres.es
SUMMARY:Programa "Mieres contigo". Caminando contra la soledad: Ruta del Ferrocarril de Baltasara
DESCRIPTION:Programa contra la soledad no deseada\nMieres contigo \n\nCaminando contra la soledad\nRuta del Ferrocarril de Baltasara\n\n¿En qué consiste?\nRutas semanales por Mieres para caminar juntos\, sentirse mejor y conocer a otras personas con las que compartir el camino.\n¿Qué tengo que llevar?\nRopa cómoda\, calzado adecuado\, una botella de agua. \n  \nViernes\, 20 de marzo de 2026. De 10:30 a 12:00h. \n\n\nSalida: Iglesia San Juan -Mieres-\nLlegada: Iglesia San Juan -Mieres-\n \nActividad gratuita. Inscripciones a través del tfno 618.461.610 o del correo electrónico bosquemagicoeh@gmail.com
URL:https://www.mieres.es/evento/programa-mieres-contigo-caminando-contra-la-soledad-ruta-del-ferrocarril-de-baltasara/
LOCATION:Iglesia de San Juan -Mieres-\, España
CATEGORIES:Bienestar Social,Ruta Cultural,Salud
ATTACH;FMTTYPE=image/jpeg:https://www.mieres.es/wp-content/uploads/2026/03/Cartel-Caminando-contra-la-soledad_2026.jpg
END:VEVENT
BEGIN:VEVENT
DTSTART;TZID=Europe/Madrid:20260320T180000
DTEND;TZID=Europe/Madrid:20260320T180000
DTSTAMP:20260420T225206
CREATED:20260311T115255Z
LAST-MODIFIED:20260311T132356Z
UID:78046-1774029600-1774029600@www.mieres.es
SUMMARY:Día Internacional de la Poesía 2026: Lectura encadenada de poemas
DESCRIPTION:DÍA INTERNACIONAL DE LA POESÍA\n2026\n\nLectura encadenada de poemas\n  \nBiblioteca Pública de Mieres\nViernes\, 20 de marzo. 18:00h. \nLas personas interesadas en participar en este acto puede llamar al 985 456 294 o inscribirse de forma presencial en la Biblioteca Pública de Mieres. \n\n  \nVen a lleer y a escuchar. Llectura encadenada de poemes: Asturias\, Capital Mundial de la Poesía. Recital poético en la Biblioteca de Mieres\, viernes 20 de marzo\, a las 18:30 horas. \nOs invitamos a celebrar con nosotras/os el Día Internacional de la Poesía\, el día 20 de marzo\, con la lectura encadenada de poemas\, a las 18:00 horas. \nPodéis participar en esta actividad y leernos vuestro poema preferido. Las personas interesadas pueden llamar al teléfono 985456294 o inscribirse de forma presencial\, de lunes a viernes\, de 9 a 20:30 horas\, en la Biblioteca de Mieres.\n¡¡¡Os esperamos!!! \n  \n\n 
URL:https://www.mieres.es/evento/dia-internacional-de-la-poesia-2026-lectura-encadenada-de-poemas/
LOCATION:Biblioteca Pública de Mieres\, Calle Manuel Llaneza\, 8\, Mieres\, Asturias\, 33600 \, España
CATEGORIES:Letras,Recital
ATTACH;FMTTYPE=image/jpeg:https://www.mieres.es/wp-content/uploads/2026/03/lectura-encadenada-de-poemas-2026-mieres.jpg
GEO:43.2502294;-5.7729571
X-APPLE-STRUCTURED-LOCATION;VALUE=URI;X-ADDRESS=Biblioteca Pública de Mieres Calle Manuel Llaneza 8 Mieres Asturias 33600  España;X-APPLE-RADIUS=500;X-TITLE=Calle Manuel Llaneza\, 8:geo:-5.7729571,43.2502294
END:VEVENT
BEGIN:VEVENT
DTSTART;TZID=Europe/Madrid:20260320T200000
DTEND;TZID=Europe/Madrid:20260320T200000
DTSTAMP:20260420T225206
CREATED:20260302T113009Z
LAST-MODIFIED:20260302T115103Z
UID:77874-1774036800-1774036800@www.mieres.es
SUMMARY:Jornadas 8M. Recital escénico: "Prácticas para inmanecer"\, con Elsa Moreno
DESCRIPTION:JORNADAS 8M 2026\nRecital escénico \n“Prácticas para inmanecer”\ncon Elsa Moreno\n  \nViernes\, 20 de marzo\, 20:00h\nAuditoriu Teodoro Cuesta \nEntrada libre hasta completar aforo \n\n  \nElsa Moreno (Valencia\, 1999)\, poeta y creadora escénica. Ganadora del Premio Nacional de Poesía Viva L de Lírica 2023. \nGraduada en comunicación audiovisual por la Universitat de València y en danza contemporánea por el Conservatori Professional de Dansa de València. Máster en gestión cultural en el Instituto Complutense de Ciencias Musicales y beneficiaria de la Beca Kathleen López Kilcoyne 2022. \nCo-fundadora de la compañía de danza-teatro Cia. L’Abocador\, con la que ha escrito y dirigido Sorpresa (2022) y La Filla dels Cabuts (2023). Actualmente\, se encuentran desarrollando el proyecto de investigación escénica Conferència a tres cossos (2025). Coordina el proyecto poético Las Sin Rostro y colabora con Sr. Charli en el proyecto musical Poesía Sintética. \nTallerista para distintos públicos (infantil\, juvenil\, adulto\, profesionales del arte\, curiosos del arte\, círculos de bienestar) sobre escritura creativa\, expresión corporal y ecopoesía. Desarrolla una técnica personal donde convergen ejercicios escénicos\, meditativos y literarios\, llamada Vivenciar el poema. \nTiene publicados dos poemarios: En un lugar limítrofe (La Imprenta\, 2023) y Prendida o el valor de erguir (Arrebato\, 2025). También aparece en la antología Última poesía crítica. Jóvenes poetas en tiempos de colapso (Lastura\, 2023)\, coordinada por David Trashumante y Alberto García Teresa. \nComo creadora independiente\, ha presentado el recital escénico La Hora Blanca (residencia de creación de la sala Carme Teatre\, 2024) y Prácticas para inmanecer (Russafa Escénica\, 2025). La más reciente supone la primera entrega de una investigación poética y poliédrica homónima\, donde también se incluye su segundo poemario\, Prendida o el valor de erguir. \nSu línea de investigación artística atraviesa el cuerpo y el entorno natural. Se enmarca dentro de la poesía expandida o poesía viva y la ecopoesía. \n\n    \n  \n\nActividad financiada con cargo a los créditos del Pacto de Estado contra la violencia de género\, recibidos del Ministerio de la Presidencia\, Relaciones con las Cortes e Igualdad\, a través de la Secretaría de Estado \n 
URL:https://www.mieres.es/evento/jornadas-8m-recital-escenico-practicas-para-inmanecer-con-elsa-moreno/
LOCATION:Casa de Cultura Teodoro Cuesta\, Calle Manuel Llaneza\, 8\, Mieres\, Asturias\, 33600\, España
CATEGORIES:Igualdad,Recital
ATTACH;FMTTYPE=image/jpeg:https://www.mieres.es/wp-content/uploads/2026/03/20M-Practicas.jpg
GEO:43.2502294;-5.7729571
X-APPLE-STRUCTURED-LOCATION;VALUE=URI;X-ADDRESS=Casa de Cultura Teodoro Cuesta Calle Manuel Llaneza 8 Mieres Asturias 33600 España;X-APPLE-RADIUS=500;X-TITLE=Calle Manuel Llaneza\, 8:geo:-5.7729571,43.2502294
END:VEVENT
END:VCALENDAR