BEGIN:VCALENDAR
VERSION:2.0
PRODID:-//Ayuntamiento de Mieres - ECPv5.16.1.1//NONSGML v1.0//EN
CALSCALE:GREGORIAN
METHOD:PUBLISH
X-WR-CALNAME:Ayuntamiento de Mieres
X-ORIGINAL-URL:https://www.mieres.es
X-WR-CALDESC:Eventos para Ayuntamiento de Mieres
BEGIN:VTIMEZONE
TZID:Europe/Madrid
BEGIN:DAYLIGHT
TZOFFSETFROM:+0100
TZOFFSETTO:+0200
TZNAME:CEST
DTSTART:20260329T010000
END:DAYLIGHT
BEGIN:STANDARD
TZOFFSETFROM:+0200
TZOFFSETTO:+0100
TZNAME:CET
DTSTART:20261025T010000
END:STANDARD
END:VTIMEZONE
BEGIN:VEVENT
DTSTART;VALUE=DATE:20260321
DTEND;VALUE=DATE:20260322
DTSTAMP:20260420T212658
CREATED:20260223T090226Z
LAST-MODIFIED:20260302T133313Z
UID:77774-1774051200-1774137599@www.mieres.es
SUMMARY:XXXXV Feria de Stock en Mieres (2/21MAR)
DESCRIPTION:XXXXV Feria de Stock en Mieres\nUnión de Comerciantes del Caudal\n• Del 2 al 21 de marzo en tu tienda\, en tu calle \n  \n\nXXXXV Feria de Stock en Mieres \nLa Unión de Comerciantes del Caudal organiza la 45 edición de la Feria del Stock\, que tendrá lugar en el concejo del 6 al 21 de marzo de 2026 y en la que los comerciantes\, tanto con stand fuera como en su propia tienda ofrecerán sus restos de stock al mejor precio. \nLocales participantes: \n\nAndares\nComercial Tuñón\nCopistería Pepelinos\nDisco 55\nDkopa Moda\nFerretería Cristaloza\nFlorentina Martínez\nFreestyle\nGales Moda Caballero\nJaleo\nJoyería Dimas\nKiss moda\nLa Boutique de los Perfumes\nLa vieja Nana\nLibrería La Pilarica\nLibrería La Pilarica II\nMadrigal Textil\nMiansi Moda\nMiansi Complementos\nModas Tatian\nRelojería Joyería Peláez\nTatta 8\nVallejo Interiorismo\n\n\n \n 
URL:https://www.mieres.es/evento/xxxxv-feria-de-stock-en-mieres/2026-03-21/
LOCATION:Establecimientos comerciales y hosteleros del concejo
CATEGORIES:Comercio y Hostelería,Feria
ATTACH;FMTTYPE=image/jpeg:https://www.mieres.es/wp-content/uploads/2026/02/45-feria-stock-mieres-2026.jpg
END:VEVENT
BEGIN:VEVENT
DTSTART;VALUE=DATE:20260321
DTEND;VALUE=DATE:20260322
DTSTAMP:20260420T212658
CREATED:20260318T100935Z
LAST-MODIFIED:20260318T101333Z
UID:78111-1774051200-1774137599@www.mieres.es
SUMMARY:Gastrollar 2026. Congreso Gastronómico (21/24MAR). Mercáu de la producción llocal y los alimentos del Paraíso Natural
DESCRIPTION:Congreso Gastronómico \nGastrollar 2026\nLa cocina rural desde la Montaña Central Asturiana\n21 al 24 de marzo de 2026 \n  \nPrograma\nSábadu\, 21 de marzu \nMercáu de la producción llocal y los alimentos del Paraíso Natural\nDe 11:00 a 19:00h\nParque Xovellanos \n\n  \nDescubriendo la cocina del carbón\nLa Montaña Central de Asturias. Tortuoso cobijo diseñado entre valles y montañas\, que alberga una incandescente historia vinculada a la minería. También en lo gastronómico.\nEs momento de fortalecer y recuperar esa historia gastronómica. La de una comarca que alimentó a un pueblo obrero y luchador. Una alimentación\, como casi siempre\, matriarcal que atesora un legado que hoy merece ser uno de lo pilares fundamentales del atractivo de este territorio como destino turístico \nLa cocina del carbón es aquella que se practicaba en nuestras clásicas cocinas “económicas” o “bilbainas”… Cocinar “ na chapa la cocina” decimos coloquialmente en Asturias; pero también entendemos por “cocina del carbón” aquella que alimentó a generaciones de mineros. Aquella que alimentó\, y aún alimenta aún alimenta a una comarca\, la de la Montaña Central de Asturias\, en predisposición de reescribir nuevamente su próspero destino. \nProducto local\nDefender el empleo de producto de cercanía\, kilómetro cero y con certificaciones locales de origen y calidad como fundamentales en la nueva gastronomía del medio rural. \n\n\n\n\nReto demográfico\nPlantear la gastronomía local anexada a la pequeña producción agroalimentaria como importante herramienta para el reto demográfico de la Asturias rural del s.XXI. \n\n\n\n\n\n\n\n\nNuevas tendencias\nAbordar la aplicación de  nuevas tendencias de consumo gastronómico en la restauración rural local\, teniendo en cuenta el contexto generado tras la pandemia de la covid-19. \n\n\n\n\n\n\n\n\nDe raíz y sostenible\nApostar por un medio rural sostenible y moderno\, acercándonos a conceptos como el de la gastronomía circular; sin renunciar a nuestro pasado\, ni a nuestras raices. \n  \n\n\n\n\nPremios gastronómicos María Luisa García\nLa figura de la mierense María Luisa García constituye el máximo exponente en la divulgación culinaria y gastronómica popular de la segunda mitad del pasado siglo en Asturias. Aun así\, quizá no se haya hecho hasta ahora lo suficiente para reconocer su labor como docente y estudiosa de las artes culinarias de aquel tiempo\, así como precursora de la dignificación de la figura de las guisanderas asturianas. Auténticas artífices de una cocina popular asturiana\, de carácter matriarcal\, de producto y de raíz asturiana\, pero que ya en los tiempos de María Luisa\, no renegaban de la tecnificación\, la innovación y la simbiosis con otras culturas gastronómicas como forma de enriquecimiento. Por eso hemos decidido crear los Premios gastronómicos María Luisa García\, en honor a esta gran cocinera asturiana.
URL:https://www.mieres.es/evento/gastrollar-2026-congreso-gastronomico-21-24mar-mercau-de-la-produccion-llocal-y-los-alimentos-del-paraiso-natural/
LOCATION:Parque Xovellanos\, Parque Xovellanos\, Mieres\, Asturias\, 33600 
CATEGORIES:Gastronomía
ATTACH;FMTTYPE=image/jpeg:https://www.mieres.es/wp-content/uploads/2026/03/MercauGastrollar-2026.jpg
ORGANIZER;CN="Concejal%C3%ADa%20de%20Turismo":MAILTO:turismo@ayto-mieres.es
GEO:43.2517322;-5.7764018
X-APPLE-STRUCTURED-LOCATION;VALUE=URI;X-ADDRESS=Parque Xovellanos Parque Xovellanos Mieres Asturias 33600;X-APPLE-RADIUS=500;X-TITLE=Parque Xovellanos:geo:-5.7764018,43.2517322
END:VEVENT
BEGIN:VEVENT
DTSTART;VALUE=DATE:20260321
DTEND;VALUE=DATE:20260322
DTSTAMP:20260420T212658
CREATED:20260320T092035Z
LAST-MODIFIED:20260320T092843Z
UID:78147-1774051200-1774137599@www.mieres.es
SUMMARY:Agenda deportiva fin de semana (21/22MAR2026)
DESCRIPTION:  \n\n \n\n\n\n21/03/2026\n18:00\n3ª ALEVÍN FASE ASCENSO\n“CAUDAL DEPORTIVO B” – ” RACING DE MIERES A”\nELISEO GUTIÉRREZ ESPINA\n\n\n21/03/2026\n11:00\n2ª INFANTIL\n“CAUDAL DEPORTIVO B” – “C.D. LLANES A”\nELISEO GUTIÉRREZ ESPINA\n\n\n21/03/2026\n13:10\n1ª INFANTIL\n“CAUDAL DEPORTIVO A” – “TSK ROCES A”\nELISEO GUTIÉRREZ ESPINA\n\n\n21/03/2026\n15:45\n2ª CADETE\n“CAUDAL DEPORTIVO A” – “REAL SPORTING DE GIJÓN SAD B”\nELISEO GUTIÉRREZ ESPINA\n\n\n22/03/2026\n12:30\n3ª JUVENIL\n“CAUDAL DEPORTIVO B” – “C.D UJO A”\nELISEO GUTIÉRREZ ESPINA\n\n\n22/03/2026\n17:30\nTERCERA FEDERACIÓN\n“CAUDAL DEPORTIVO” – “C.D. COVADONGA A”\nHERMANOS ANTUÑA\n\n\n\n  \n \n\n\n\n21/03/2026\n12:00\n2ª PREBENJAMÍN\n“CAUDAL DEPORTIVO A” – “LA FRESNEDA A”\nPOLIDEPORTIVO UJO\n\n\n21/03/2026\n13:30\n3 BENJAMÍN\n“CAUDAL DEPORTIVO D” – “AYER C.F”\nPOLIDEPORTIVO UJO\n\n\n21/03/2026\n10:30\n3ª BENJAMÍN\n“CAUDAL DEPORTIVO B” – “C.N. RIAÑO C.F C”\nPOLIDEPORTIVO UJO\n\n\n\n\n \n  \n 
URL:https://www.mieres.es/evento/agenda-deportiva-fin-de-semana-21-22mar2026/
LOCATION:Varias ubicaciones
CATEGORIES:Agenda Deportiva,Deportes
ATTACH;FMTTYPE=image/jpeg:https://www.mieres.es/wp-content/uploads/2025/03/agenda-deportiva-web.jpg
END:VEVENT
BEGIN:VEVENT
DTSTART;TZID=Europe/Madrid:20260321T100000
DTEND;TZID=Europe/Madrid:20260321T180000
DTSTAMP:20260420T212658
CREATED:20260312T081215Z
LAST-MODIFIED:20260312T081215Z
UID:78052-1774087200-1774116000@www.mieres.es
SUMMARY:XXI Encuentro de Encaje de Bolillos de Mieres
DESCRIPTION:  \n\nXXI Encuentro de Encaje de Bolillos de Mieres\nRecinto Ferial de Santuyano \n  \nSábado\, 21 de marzo de 2026\nDe 10 a 14:00 y de 16 a 18:00h. \n\n\nEntrada gratuita \nTeléfono para inscripción de participantes y más información: 606.060.157 / 630.311.663 \n\n\n\n\n 
URL:https://www.mieres.es/evento/xxi-encuentro-de-encaje-de-bolillos-de-mieres/
LOCATION:Recinto Ferial de Santuyano
CATEGORIES:Exposiciones,Feria,Jornadas
ATTACH;FMTTYPE=image/jpeg:https://www.mieres.es/wp-content/uploads/2026/03/cartel-encuentro-encaje-bolillos-mieres-2026.jpg
END:VEVENT
BEGIN:VEVENT
DTSTART;TZID=Europe/Madrid:20260321T163000
DTEND;TZID=Europe/Madrid:20260321T163000
DTSTAMP:20260420T212658
CREATED:20260309T113948Z
LAST-MODIFIED:20260309T113948Z
UID:77998-1774110600-1774110600@www.mieres.es
SUMMARY:Campeonato de Asturias de Ajedrez por equipos 2026
DESCRIPTION:Ajedrez \nCampeonato de Asturias de Ajedrez por equipos 2026\n(División de Honor\, División de Honor filiales\, 2ª División)\n  \nSábado 21 de marzo de 2026\, 16.30h.\nMieres Centru Cultural \n\n 
URL:https://www.mieres.es/evento/campeonato-de-asturias-de-ajedrez-por-equipos-2026-2/
LOCATION:Mieres Centru Cultural\, Calle Jerónimo Ibrán\, 10\, Mieres\, Asturias\, 33600
CATEGORIES:Deportes
ATTACH;FMTTYPE=image/jpeg:https://www.mieres.es/wp-content/uploads/2026/03/cartel-Campeonato-Asturias-Equipos-Ajedrez26.jpg
END:VEVENT
BEGIN:VEVENT
DTSTART;TZID=Europe/Madrid:20260321T200000
DTEND;TZID=Europe/Madrid:20260321T200000
DTSTAMP:20260420T212658
CREATED:20251204T130803Z
LAST-MODIFIED:20251204T131005Z
UID:76817-1774123200-1774123200@www.mieres.es
SUMMARY:Ede\, en concierto. Presentando su nuevo disco: "Fieralinda"
DESCRIPTION:Concierto: \nEde\nPresentando su nuevo disco: “Fieralinda”\n  \nSábado\, 21 de marzo de 2026\, 20:00h\nAuditoriu Teodoro Cuesta \nEntradas online disponibles desde ester enlace: Ede Entradas | 10 € | 21 mar @ Casa de Cultura Teodoro Cuesta\n \n\n  \nEde es artista\, compositora\, actriz y creadora escénica que ha trazado un camino propio dentro de la música española\, combinando una escritura sensible y contundente con una puesta en escena profundamente conectada al cuerpo. Su trabajo nace del cruce entre música\, cuerpo y palabra\, y se ha ido consolidando como una forma de pensamiento que busca habitar el arte desde la intuición\, el riesgo y la escucha. Formada en canto\, interpretación y escritura\, ha desarrollado una trayectoria transversal que recorre la canción de autor\, el teatro físico y la creación contemporánea. \nFieralinda es el punto de maduración de ese proceso: una obra dividida en dos partes —Fiera y Linda— que dialogan entre sí desde la contradicción. Un proyecto escénico y musical que elige el teatro como dispositivo principal y reivindica la presencia como forma de resistencia en un mundo saturado de pantallas. Su propuesta trasciende el formato canción. Es también una forma de pensamiento y de estar en el mundo. \nEn Mieres presentará el formato LINDA\, ella sola a piano y voz\, enseñando las canciones en su realidad más desnuda. \n\n 
URL:https://www.mieres.es/evento/ede-en-concierto-presentando-su-nuevo-disco-fieralinda/
LOCATION:Casa de Cultura Teodoro Cuesta\, Calle Manuel Llaneza\, 8\, Mieres\, Asturias\, 33600\, España
CATEGORIES:Música
ATTACH;FMTTYPE=image/jpeg:https://www.mieres.es/wp-content/uploads/2025/12/concierto-ede-marzo-mieres-2026.jpeg
GEO:43.2502294;-5.7729571
X-APPLE-STRUCTURED-LOCATION;VALUE=URI;X-ADDRESS=Casa de Cultura Teodoro Cuesta Calle Manuel Llaneza 8 Mieres Asturias 33600 España;X-APPLE-RADIUS=500;X-TITLE=Calle Manuel Llaneza\, 8:geo:-5.7729571,43.2502294
END:VEVENT
END:VCALENDAR