BEGIN:VCALENDAR
VERSION:2.0
PRODID:-//Ayuntamiento de Mieres - ECPv5.16.1.1//NONSGML v1.0//EN
CALSCALE:GREGORIAN
METHOD:PUBLISH
X-WR-CALNAME:Ayuntamiento de Mieres
X-ORIGINAL-URL:https://www.mieres.es
X-WR-CALDESC:Eventos para Ayuntamiento de Mieres
BEGIN:VTIMEZONE
TZID:Europe/Madrid
BEGIN:DAYLIGHT
TZOFFSETFROM:+0100
TZOFFSETTO:+0200
TZNAME:CEST
DTSTART:20260329T010000
END:DAYLIGHT
BEGIN:STANDARD
TZOFFSETFROM:+0200
TZOFFSETTO:+0100
TZNAME:CET
DTSTART:20261025T010000
END:STANDARD
END:VTIMEZONE
BEGIN:VEVENT
DTSTART;TZID=Europe/Madrid:20260326T173000
DTEND;TZID=Europe/Madrid:20260326T173000
DTSTAMP:20260420T212709
CREATED:20260304T115324Z
LAST-MODIFIED:20260304T121038Z
UID:77944-1774546200-1774546200@www.mieres.es
SUMMARY:V Cursu de sidra escanciao Comarca del Caudal (23MAR-16ABR)
DESCRIPTION:Cursu: \nV Cursu de sidra escanciao Comarca del Caudal\n\n  \nMieres Centru Cultural \nDel 23 de marzu al 16 d’abril\, de llunes a xueves\, de 17:30 a 20:00h. \nInscripciones de baldre\, al traviés d’esta misma página web\, nel formulariu que toparán enbaxu\, del 4 al 19 de marzu. Enllaz directu al formulariu: Inscripciones V Cursu de sidra escanciao “Comarca del Caudal” 23MAR/16ABR: Rellenar formulario \n\n  \nL´Ayuntamientu de Mieres\, pente medies de la conceyalía de Cultura y Festexos y l´Asociación Llagareros Artesanos del Caudal organicen el V Cursu de Sidra Escanciao. \nEl cursu va desenvolvese del 23 de marzu al 16 d´abril de 2026 nel Mieres Centru Cultural\, de llunes a xueves de 17:30 a 20:00 hores y quien participe y acabe´l mesmu\, con polo menos el 75% de les hores completaes\, va contar con diploma p´acreditar la so cualificación. \nEl plazu pa facer les inscripciones tará abiertu hasta´l 19 de marzu viniente y sedrán totalmente de baldre. La plaza acutada sedrá confirmada telefónicamente pola organización del cursu. Les persones desemplegaes tendrán preferencia nes 15 places disponibles que- teniendo en cuenta esa preferencia- sedrán acutaes por rigorosu orde d´inscripción. \n  \n\n  \nFORMULARIU D’INSCRIPCIÓN:
URL:https://www.mieres.es/evento/v-cursu-de-sidra-escanciao-comarca-del-caudal/2026-03-26/
LOCATION:Mieres Centru Cultural\, Calle Jerónimo Ibrán\, 10\, Mieres\, Asturias\, 33600
CATEGORIES:Cultura Tradicional,Cursos
ATTACH;FMTTYPE=image/jpeg:https://www.mieres.es/wp-content/uploads/2026/03/Cartel-web-Curso-Escanciadores-2026.jpg
ORGANIZER;CN="Llagareros%20artesanos%20del%20Caudal":MAILTO:llagarerosartesanosdelcaudal@gmail.com
END:VEVENT
BEGIN:VEVENT
DTSTART;TZID=Europe/Madrid:20260326T173000
DTEND;TZID=Europe/Madrid:20260326T173000
DTSTAMP:20260420T212709
CREATED:20260310T112541Z
LAST-MODIFIED:20260310T112541Z
UID:78030-1774546200-1774546200@www.mieres.es
SUMMARY:Tardes con Leo: "Tranquilo\, Lilo"
DESCRIPTION:Cuentacuentos\nTardes con Leo \nTranquilo\, Lilo\nde Carol Neumann\nBiblioteca Pública de Mieres \n\n  \nCuentacuentos a cargo de Leo\, la mascota de las bibliotecas de nuestra Red de Bibliotecas Municipales\, basado en el libro Tranquilo\, Lilo (Editorial MiniLupa)\, escrito e ilustrado por Carol Neumann. Una historia que fomenta la cultura del error\, donde se valoran y aprecian las equivocaciones en lugar de verlas como algo negativo. \n  \nA Lilo no le gusta cometer errores y quiere que todo le salga absolutamente perfecto. En esta historia\, un par de objetos cobrarán vida para mostrarle que las equivocaciones son necesarias y que\, a veces\, hay que tomárselas con humor. \nDespués de todo\, ¿qué es más perfecto que lo imperfecto? \n  \nPatrocinado por la Caja Rural de Asturias y realizado por Paula Huelga\, de Xitech. Plazas limitadas\, asignadas por orden de inscripción. Podéis apuntaros en la Biblioteca en horario de 09:00 a 20:30 horas o al teléfono 985456294. ¡¡¡¡Os esperamos!!!! \n  \n\n 
URL:https://www.mieres.es/evento/tardes-con-leo-tranquilo-lilo/
LOCATION:Biblioteca Pública de Mieres\, Calle Manuel Llaneza\, 8\, Mieres\, Asturias\, 33600 \, España
CATEGORIES:Bibliotecas,Cuentacuentos
ATTACH;FMTTYPE=image/jpeg:https://www.mieres.es/wp-content/uploads/2026/03/TranquiloLilo_tardes-con-leo.jpg
ORGANIZER;CN="Red%20de%20Bibliotecas%20Municipales%20de%20Mieres":MAILTO:biblioteca@ayto-mieres.es
GEO:43.2502294;-5.7729571
X-APPLE-STRUCTURED-LOCATION;VALUE=URI;X-ADDRESS=Biblioteca Pública de Mieres Calle Manuel Llaneza 8 Mieres Asturias 33600  España;X-APPLE-RADIUS=500;X-TITLE=Calle Manuel Llaneza\, 8:geo:-5.7729571,43.2502294
END:VEVENT
BEGIN:VEVENT
DTSTART;TZID=Europe/Madrid:20260326T190000
DTEND;TZID=Europe/Madrid:20260326T190000
DTSTAMP:20260420T212709
CREATED:20260305T113632Z
LAST-MODIFIED:20260305T113632Z
UID:77983-1774551600-1774551600@www.mieres.es
SUMMARY:Alcuentru lliterariu con José Luis Rendueles: "La llibertá los caminos"
DESCRIPTION:Alcuentru lliterariu: \n\n José Luis Rendueles\n“La llibertá los caminos”\n  \n\nXueves\, 26 de marzu\, 19:00h. \n\nBiblioteca Pública de Mieres. Sala Juvenil\nEntrada gratuita hasta completar aforo \n\nLa llibertá los caminos ye una novela a dos tiempos: nún nárrase la vida de Doña\, de los Texedores d’Urbiés\, madre del sindicalista de la Internacional Sindical Roja y de la CNT Jesús Ibáñez y tía-cuasi madre de Constantino Turón\, el bandoleru famosu de la zona que robaba a la xente rico pa dar a quien nada tenía.\nMadre soltera en malos tiempos\, recala na Francia refinada d’a finales del sieglu XIX y ellí alquier cultura y modales\, viaxa y respira aire nuevo. De vuelta pa España\, conoz al Tuertu\, borrachín y candongueru\, col que tien fíos y vive na independencia que da andar pelos caminos. Muyer valiente\, culta y llibre\, acaba la vida en Xixón y dexa un fíu col mesmu arguyu y sentíu de la llibertá y la xusticia: Jesús Ibáñez.\nN’otru tiempu\, el d’anguaño\, l’escritor de la novela sobre la Doña y el fíu anarquista va cuntándonos el procesu d’escritura\, formando una meta-novela na que nun falta la crítica a la lliteratura y a la sociedá del so tiempu. \nJosé Luis Rendueles (Xixón\, 1972) ye poeta y narrador. Empezó la carrera lliteraria escribiendo en castellanu\, pa nos primeros años del sieglu XXI pasar a usar l’asturianu na so obra. Como poeta ganó dellos premios de prestixu nes lletres asturianes («Xuan María Acebal»\, 2001 y «Fernán-Coronas»\, 2002) y tien publicaos los poemarios Casería (2002)\, Albentestate (2003)\, Cabudañu (2006) y Ferruñu (2007). Narrador de rexistros varios y temátiques distintes\, nel 2001 estrenóse n’asturianu col volume Cuentos chinos. Nel 2007 dio a imprenta Los meyores cuentos del mundu y otres proses mongoles. Tres de quince años de silenciu ofrez al públicu llector La llibertá los caminos\, la so primer novela.
URL:https://www.mieres.es/evento/alcuentru-lliterariu-con-jose-luis-rendueles-la-lliberta-los-caminos/
LOCATION:Biblioteca Pública de Mieres\, Calle Manuel Llaneza\, 8\, Mieres\, Asturias\, 33600 \, España
CATEGORIES:Letras
ATTACH;FMTTYPE=image/jpeg:https://www.mieres.es/wp-content/uploads/2026/03/alcuentru-literariu-rendueles-mieres-2026.jpg
GEO:43.2502294;-5.7729571
X-APPLE-STRUCTURED-LOCATION;VALUE=URI;X-ADDRESS=Biblioteca Pública de Mieres Calle Manuel Llaneza 8 Mieres Asturias 33600  España;X-APPLE-RADIUS=500;X-TITLE=Calle Manuel Llaneza\, 8:geo:-5.7729571,43.2502294
END:VEVENT
BEGIN:VEVENT
DTSTART;TZID=Europe/Madrid:20260326T200000
DTEND;TZID=Europe/Madrid:20260326T200000
DTSTAMP:20260420T212709
CREATED:20260302T121258Z
LAST-MODIFIED:20260325T104443Z
UID:77877-1774555200-1774555200@www.mieres.es
SUMMARY:Jornadas 8M. Teatro-Monólogo: "Gloria"\, con Elisa Coll
DESCRIPTION:JORNADAS 8M 2026\nTeatro-Monólogo: \n“Gloria”\ncon Elisa Coll\nY coloquio\, acompañada por Laura Terciado\, autora de “La única lesbiana de Ávila” \nJueves\, 26 de marzo\, 19:30h\nAuditoriu Teodoro Cuesta \nEntrada libre hasta completar aforo \n\nGLORIA nace del recuerdo enterrado en el salón de una abuela ultracatólica para atravesar miedos inconfesables: a quedarse atrás\, al fracaso\, a la muerte. Un sobrecogedor viaje a galope entre el humor ácido y la vulnerabilidad total. \n  \nSinopsis\nLo peor de sentir que fracasamos no es sentir que fracasamos: es sentir que nos lo merecemos. La vida pasó y ya eres demasiado mayor para estar donde estás\, demasiado agotada\, demasiado ocupada. La certeza de la muerte actúa a veces como recordatorio. ¿Cuándo es demasiado tarde? Con una puesta en escena única y un formato híbrido\, GLORIA parte de un recuerdo enterrado desde la infancia para adentrarse poco a poco en los miedos que más cuesta admitir: a quedarse atrás\, al fracaso\, a la muerte. \nEl público acompañará a una nieta que vuelve al salón de su difunta abuela ultracatólica para confrontar los fantasmas de los que nunca se habla. Comienza así un sobrecogedor viaje\, a galope entre el humor ácido y la vulnerabilidad total\, en el que las heridas arrastradas y el silencio impuesto encuentran alivio en la risa\, el reconocimiento y la rebelión colectiva. Si la paz significa obediencia\, entonces se acabó la paz. \n  \nElisa Coll Blanco se dedica a escribir\, agitar y comunicar. Es autora de Nosotras vinimos tarde (Amor de Madre\, 2023) y Resistencia bisexual (Melusina\, 2021). Su habilidad para las crisis existenciales la ha acercado a diversas disciplinas artísticas que se encuentra explorando en la actualidad. \n\n    \n  \n\nActividad financiada con cargo a los créditos del Pacto de Estado contra la violencia de género\, recibidos del Ministerio de la Presidencia\, Relaciones con las Cortes e Igualdad\, a través de la Secretaría de Estado \n 
URL:https://www.mieres.es/evento/jornadas-8m-teatro-monologo-gloria-con-elisa-coll/
LOCATION:Casa de Cultura Teodoro Cuesta\, Calle Manuel Llaneza\, 8\, Mieres\, Asturias\, 33600\, España
CATEGORIES:Igualdad,Teatro
ATTACH;FMTTYPE=image/jpeg:https://www.mieres.es/wp-content/uploads/2026/03/26M-Gloria.jpg
GEO:43.2502294;-5.7729571
X-APPLE-STRUCTURED-LOCATION;VALUE=URI;X-ADDRESS=Casa de Cultura Teodoro Cuesta Calle Manuel Llaneza 8 Mieres Asturias 33600 España;X-APPLE-RADIUS=500;X-TITLE=Calle Manuel Llaneza\, 8:geo:-5.7729571,43.2502294
END:VEVENT
END:VCALENDAR