BEGIN:VCALENDAR
VERSION:2.0
PRODID:-//Ayuntamiento de Mieres - ECPv5.16.1.1//NONSGML v1.0//EN
CALSCALE:GREGORIAN
METHOD:PUBLISH
X-WR-CALNAME:Ayuntamiento de Mieres
X-ORIGINAL-URL:https://www.mieres.es
X-WR-CALDESC:Eventos para Ayuntamiento de Mieres
BEGIN:VTIMEZONE
TZID:Europe/Madrid
BEGIN:DAYLIGHT
TZOFFSETFROM:+0100
TZOFFSETTO:+0200
TZNAME:CEST
DTSTART:20260329T010000
END:DAYLIGHT
BEGIN:STANDARD
TZOFFSETFROM:+0200
TZOFFSETTO:+0100
TZNAME:CET
DTSTART:20261025T010000
END:STANDARD
END:VTIMEZONE
BEGIN:VEVENT
DTSTART;TZID=Europe/Madrid:20260327T120000
DTEND;TZID=Europe/Madrid:20260327T120000
DTSTAMP:20260420T212706
CREATED:20260225T113838Z
LAST-MODIFIED:20260225T113838Z
UID:77807-1774612800-1774612800@www.mieres.es
SUMMARY:Exposición fotográfica 2026\, por Agrupación Fotográfica Semeya (4/27MAR)
DESCRIPTION:Exposición: \nExposición Fotográfica 2026\npor Agrupación Fotográfica Semeya\nSala de exposiciones de la Casa de Cultura Teodoro Cuesta\nDel 4 al 27 de marzo de 2026 \nHorario de lunes a viernes de 12:00 a 14:00h y de 17:00 a 21:00h \n\n 
URL:https://www.mieres.es/evento/exposicion-fotografica-2026-por-agrupacion-fotografica-semeya-4-27mar-2/
LOCATION:Casa de Cultura Teodoro Cuesta\, Calle Manuel Llaneza\, 8\, Mieres\, Asturias\, 33600\, España
CATEGORIES:Arte,Exposiciones
ATTACH;FMTTYPE=image/jpeg:https://www.mieres.es/wp-content/uploads/2026/02/Cartel-exposicion-Semeya-feb-2026.jpg
GEO:43.2502294;-5.7729571
X-APPLE-STRUCTURED-LOCATION;VALUE=URI;X-ADDRESS=Casa de Cultura Teodoro Cuesta Calle Manuel Llaneza 8 Mieres Asturias 33600 España;X-APPLE-RADIUS=500;X-TITLE=Calle Manuel Llaneza\, 8:geo:-5.7729571,43.2502294
END:VEVENT
BEGIN:VEVENT
DTSTART;TZID=Europe/Madrid:20260327T200000
DTEND;TZID=Europe/Madrid:20260327T200000
DTSTAMP:20260420T212706
CREATED:20260319T121359Z
LAST-MODIFIED:20260319T121359Z
UID:78137-1774641600-1774641600@www.mieres.es
SUMMARY:"Muyeres en-Tonaes". Festival de Tonada
DESCRIPTION:  \nMuyeres en-Tonaes\nFestival de Tonada\n  \nViernes\, 27 de marzo. 20:00h.\nAuditoriu Teodoro Cuesta \nEntrada libre hasta completar aforo \n\nIntépretes de tonada: \n\nMari Luz Cristóbal Caunedo \nLorena Corripio López \nLuisi Martínez Suárez \nLiliana Castañón Cerceda \nPaula Prieto Castañón \n\nPresentadora: \n\n Esther Fonseca Rodríguez \n\nGaitera: \n\nAndrea Fernández Joglar\n\n 
URL:https://www.mieres.es/evento/muyeres-en-tonaes-festival-de-tonada/
LOCATION:Casa de Cultura Teodoro Cuesta\, Calle Manuel Llaneza\, 8\, Mieres\, Asturias\, 33600\, España
CATEGORIES:Cultura Tradicional
ATTACH;FMTTYPE=image/jpeg:https://www.mieres.es/wp-content/uploads/2026/03/festival-tonada-mujer-marzo-2026.jpg
GEO:43.2502294;-5.7729571
X-APPLE-STRUCTURED-LOCATION;VALUE=URI;X-ADDRESS=Casa de Cultura Teodoro Cuesta Calle Manuel Llaneza 8 Mieres Asturias 33600 España;X-APPLE-RADIUS=500;X-TITLE=Calle Manuel Llaneza\, 8:geo:-5.7729571,43.2502294
END:VEVENT
END:VCALENDAR