BEGIN:VCALENDAR
VERSION:2.0
PRODID:-//Ayuntamiento de Mieres - ECPv5.16.1.1//NONSGML v1.0//EN
CALSCALE:GREGORIAN
METHOD:PUBLISH
X-WR-CALNAME:Ayuntamiento de Mieres
X-ORIGINAL-URL:https://www.mieres.es
X-WR-CALDESC:Eventos para Ayuntamiento de Mieres
BEGIN:VTIMEZONE
TZID:Europe/Madrid
BEGIN:DAYLIGHT
TZOFFSETFROM:+0100
TZOFFSETTO:+0200
TZNAME:CEST
DTSTART:20260329T010000
END:DAYLIGHT
BEGIN:STANDARD
TZOFFSETFROM:+0200
TZOFFSETTO:+0100
TZNAME:CET
DTSTART:20261025T010000
END:STANDARD
END:VTIMEZONE
BEGIN:VEVENT
DTSTART;VALUE=DATE:20260330
DTEND;VALUE=DATE:20260331
DTSTAMP:20260420T212633
CREATED:20260327T084351Z
LAST-MODIFIED:20260327T085634Z
UID:78271-1774828800-1774915199@www.mieres.es
SUMMARY:Aula de extensión universitaria: "Sin género de dudas" (14ABR/28MAY) -Apertura de inscripciones gratuitas-
DESCRIPTION:Aula de extensión universitaria Universidad de Oviedo\nCurso: \nSin género de dudas\nCuestiones de género con perspectiva económica y jurídica\n  \nDel 14 de abril al 28 de mayo de 2026\nTodos los martes y jueves\, de 16:30 a 18:00h \nCasa de las Mujeres \nInscripciones gratuitas. Matriculaciones online a partir del lunes 30 de marzo desde este enlace: https://sies.uniovi.es/fnofmat/web/inicio.faces?token=a4f32905f10ba9d3fe95f9165b76d61c8e139fed436570f69909f9ecadef5e23 \n\n\n  \nContenidos: \n\nIntroducción al curso.\n“Apartheid de género y crimenes de lesa humanidad”\nBeatriz Vázquez Rodríguez\n“La mujer en el mercado laboral”\nMaria José Pérez Villadoniga\n“La violencia económica: una dimensión desconocida de la violencia de género”\nJavier A. González Vega\n“Violencias económicas y salud financiera”\nSilvia Gómez Ansón\n“Protección Internacional por razón de género”\nIsabel Rodríguez Uría\n“Cuando los precios hablan: lo que el mercado del arte nos enseña sobre desigualdad de género”\nJuan Prieto Rodriguez\n“La realidad LGTBIQ+ en menores y mayores”\nPaz Fernández-Rivera\n“Diversidad\, equidad e inclusión: persepctivas actuales\, EU versus EEUU”\nSilvia Gómez Ansón\n“Respuesta penal frente a la violencia de género”\nJavier Fernández Teruelo\n“Identificación de la violencia contra la mujer y mecanismos para incentivar la denuncia”\nLuisa Fernanda Gutierrez Navratil\n“El Derecho\, la Razón y las desventuras del Género”\nLeonor Suárez Llanos\n“Diversidad de género en los consejos de administración: iniciativas legislativas y efectividad”\nIrma Martínez García\n“La brecha de género en las competencias financieras”\nNadia Álvarez García\n\n  \n\n\n\n\n\n 
URL:https://www.mieres.es/evento/aula-de-extension-universitaria-sin-genero-de-dudas-14abr-28may-apertura-de-inscripciones-gratuitas/
LOCATION:Casa de las Mujeres\, C/ Jerónimo Ibrán 19\, Mieres\, Asturias\, 33600\, España
CATEGORIES:Actividades,Cursos,Igualdad,Taller
ATTACH;FMTTYPE=image/jpeg:https://www.mieres.es/wp-content/uploads/2026/03/sin-genero-de-dudas-cartel-mieres-ext-universitaria.jpg
GEO:43.2512334;-5.7731606
X-APPLE-STRUCTURED-LOCATION;VALUE=URI;X-ADDRESS=Casa de las Mujeres C/ Jerónimo Ibrán 19 Mieres Asturias 33600 España;X-APPLE-RADIUS=500;X-TITLE=C/ Jerónimo Ibrán 19:geo:-5.7731606,43.2512334
END:VEVENT
BEGIN:VEVENT
DTSTART;TZID=Europe/Madrid:20260330T100000
DTEND;TZID=Europe/Madrid:20260330T100000
DTSTAMP:20260420T212633
CREATED:20260217T094025Z
LAST-MODIFIED:20260217T094025Z
UID:77660-1774864800-1774864800@www.mieres.es
SUMMARY:Movámonos Xunt@s. Vacaciones activas Semana Santa 2026
DESCRIPTION:  \nSe acercan las vacaciones escolares de Semana Santa y con ellas llega una nueva edición de los campamentos urbanos Movámonos Xunt@s\, organizados por la Concejalía de Infancia y Juventud de nuestro Ayuntamiento. En esta ocasión se desarrollarán durante los días 30 y 31 de marzo\, y 1 de abril\, en el Colegio Liceo Mierense-Aniceto Sela\, de 10 a 14 horas\, dirigidos a niños/as de 3 a 12 años. En ellos realizarán todo tipo de juegos\, talleres y actividades de ocio y educativas. \nCon esta iniciativa se pretende que los y las participantes disfruten de este tiempo de ocio en horario de mañana al mismo tiempo que se facilita la organización y la conciliación personal y laboral de las familias durante estas vacaciones escolares. \n  \nEl campamento urbano Movámonos Xunt@s Semana Santa 2026 es una actividad gratuita pero es necesaria la inscripción previa ya que el número de plazas es limitado. \nLas inscripciones se pueden realizar a partir del 3 de marzo (9:30h) desde la web: https://www.vitaeventsformacion.es/mieres \n  \nDurante estos campamentos urbanos/vacaciones activas\, las y los participantes disfrutan y aprenden con actividades lúdicas y formativas acordes a su desarrollo intelectual y motriz que permiten\, al mismo tiempo\, profundizar en valores y actitudes de respeto\, cooperación\, igualdad y tolerancia a través de juegos y talleres compartidos. \nSi necesitan más información\, pueden llamar al 985308317 (lunes a viernes de 9:00h a 14:00h / lunes a jueves de 16:00 a 18:00h) o escribirnos un email a preinscripcion@vitaevents.es \n  \n\n 
URL:https://www.mieres.es/evento/movamonos-xunts-vacaciones-activas-semana-santa-2026/
LOCATION:Patio colegio Liceo/Aniceto Sela\, Colegio Público Liceo Mierense\, Mieres\, Asturias\, 33600 
CATEGORIES:Juventud e Infancia
ATTACH;FMTTYPE=image/jpeg:https://www.mieres.es/wp-content/uploads/2026/02/movamonos-xuntos-2026-SEMANA-SANTA.jpg
ORGANIZER;CN="Concejal%C3%ADa%20de%20Infancia%20y%20Juventud":MAILTO:oij@ayto-mieres.es
GEO:43.249719;-5.7785282
X-APPLE-STRUCTURED-LOCATION;VALUE=URI;X-ADDRESS=Patio colegio Liceo/Aniceto Sela Colegio Público Liceo Mierense Mieres Asturias 33600;X-APPLE-RADIUS=500;X-TITLE=Colegio Público Liceo Mierense:geo:-5.7785282,43.249719
END:VEVENT
BEGIN:VEVENT
DTSTART;TZID=Europe/Madrid:20260330T103000
DTEND;TZID=Europe/Madrid:20260330T103000
DTSTAMP:20260420T212633
CREATED:20260310T120309Z
LAST-MODIFIED:20260310T120309Z
UID:78033-1774866600-1774866600@www.mieres.es
SUMMARY:Programa "Mieres contigo". Caminando contra la soledad: Ruta Los Pioneros de Mieres
DESCRIPTION:Programa contra la soledad no deseada\nMieres contigo \n\nCaminando contra la soledad\nRuta Los Pioneros de Mieres\n\n¿En qué consiste?\nRutas semanales por Mieres para caminar juntos\, sentirse mejor y conocer a otras personas con las que compartir el camino.\n¿Qué tengo que llevar?\nRopa cómoda\, calzado adecuado\, una botella de agua. \n  \nLunes\, 30 de marzo de 2026. De 10:30 a 12:00h. \n\n\nSalida: Estación de RENFE Mieres-Puente\nLlegada: Estación de RENFE Mieres-Puente\n \nActividad gratuita. Inscripciones a través del tfno 618.461.610 o del correo electrónico bosquemagicoeh@gmail.com
URL:https://www.mieres.es/evento/programa-mieres-contigo-caminando-contra-la-soledad-ruta-los-pioneros-de-mieres/
LOCATION:Estación RENFE
CATEGORIES:Bienestar Social,Ruta Cultural,Salud
ATTACH;FMTTYPE=image/jpeg:https://www.mieres.es/wp-content/uploads/2026/03/Cartel-Caminando-contra-la-soledad_2026.jpg
END:VEVENT
BEGIN:VEVENT
DTSTART;TZID=Europe/Madrid:20260330T173000
DTEND;TZID=Europe/Madrid:20260330T173000
DTSTAMP:20260420T212633
CREATED:20260304T115324Z
LAST-MODIFIED:20260304T121158Z
UID:77945-1774891800-1774891800@www.mieres.es
SUMMARY:V Cursu de sidra escanciao Comarca del Caudal (23MAR-16ABR)
DESCRIPTION:Cursu: \nV Cursu de sidra escanciao Comarca del Caudal\n\n  \nMieres Centru Cultural \nDel 23 de marzu al 16 d’abril\, de llunes a xueves\, de 17:30 a 20:00h. \nInscripciones de baldre\, al traviés d’esta misma página web\, nel formulariu que toparán enbaxu\, del 4 al 19 de marzu. Enllaz directu al formulariu: Inscripciones V Cursu de sidra escanciao “Comarca del Caudal” 23MAR/16ABR: Rellenar formulario \n\n  \nL´Ayuntamientu de Mieres\, pente medies de la conceyalía de Cultura y Festexos y l´Asociación Llagareros Artesanos del Caudal organicen el V Cursu de Sidra Escanciao. \nEl cursu va desenvolvese del 23 de marzu al 16 d´abril de 2026 nel Mieres Centru Cultural\, de llunes a xueves de 17:30 a 20:00 hores y quien participe y acabe´l mesmu\, con polo menos el 75% de les hores completaes\, va contar con diploma p´acreditar la so cualificación. \nEl plazu pa facer les inscripciones tará abiertu hasta´l 19 de marzu viniente y sedrán totalmente de baldre. La plaza acutada sedrá confirmada telefónicamente pola organización del cursu. Les persones desemplegaes tendrán preferencia nes 15 places disponibles que- teniendo en cuenta esa preferencia- sedrán acutaes por rigorosu orde d´inscripción. \n  \n\n  \nFORMULARIU D’INSCRIPCIÓN:
URL:https://www.mieres.es/evento/v-cursu-de-sidra-escanciao-comarca-del-caudal/2026-03-30/
LOCATION:Mieres Centru Cultural\, Calle Jerónimo Ibrán\, 10\, Mieres\, Asturias\, 33600
CATEGORIES:Cultura Tradicional,Cursos
ATTACH;FMTTYPE=image/jpeg:https://www.mieres.es/wp-content/uploads/2026/03/Cartel-web-Curso-Escanciadores-2026.jpg
ORGANIZER;CN="Llagareros%20artesanos%20del%20Caudal":MAILTO:llagarerosartesanosdelcaudal@gmail.com
END:VEVENT
END:VCALENDAR