BEGIN:VCALENDAR
VERSION:2.0
PRODID:-//Ayuntamiento de Mieres - ECPv5.16.1.1//NONSGML v1.0//EN
CALSCALE:GREGORIAN
METHOD:PUBLISH
X-WR-CALNAME:Ayuntamiento de Mieres
X-ORIGINAL-URL:https://www.mieres.es
X-WR-CALDESC:Eventos para Ayuntamiento de Mieres
BEGIN:VTIMEZONE
TZID:Europe/Madrid
BEGIN:DAYLIGHT
TZOFFSETFROM:+0100
TZOFFSETTO:+0200
TZNAME:CEST
DTSTART:20260329T010000
END:DAYLIGHT
BEGIN:STANDARD
TZOFFSETFROM:+0200
TZOFFSETTO:+0100
TZNAME:CET
DTSTART:20261025T010000
END:STANDARD
END:VTIMEZONE
BEGIN:VEVENT
DTSTART;TZID=Europe/Madrid:20260331T100000
DTEND;TZID=Europe/Madrid:20260331T100000
DTSTAMP:20260420T224539
CREATED:20260217T094238Z
LAST-MODIFIED:20260217T094238Z
UID:77663-1774951200-1774951200@www.mieres.es
SUMMARY:Movámonos Xunt@s. Vacaciones activas Semana Santa 2026
DESCRIPTION:  \nSe acercan las vacaciones escolares de Semana Santa y con ellas llega una nueva edición de los campamentos urbanos Movámonos Xunt@s\, organizados por la Concejalía de Infancia y Juventud de nuestro Ayuntamiento. En esta ocasión se desarrollarán durante los días 30 y 31 de marzo\, y 1 de abril\, en el Colegio Liceo Mierense-Aniceto Sela\, de 10 a 14 horas\, dirigidos a niños/as de 3 a 12 años. En ellos realizarán todo tipo de juegos\, talleres y actividades de ocio y educativas. \nCon esta iniciativa se pretende que los y las participantes disfruten de este tiempo de ocio en horario de mañana al mismo tiempo que se facilita la organización y la conciliación personal y laboral de las familias durante estas vacaciones escolares. \n  \nEl campamento urbano Movámonos Xunt@s Semana Santa 2026 es una actividad gratuita pero es necesaria la inscripción previa ya que el número de plazas es limitado. \nLas inscripciones se pueden realizar a partir del 3 de marzo (9:30h) desde la web: https://www.vitaeventsformacion.es/mieres \n  \nDurante estos campamentos urbanos/vacaciones activas\, las y los participantes disfrutan y aprenden con actividades lúdicas y formativas acordes a su desarrollo intelectual y motriz que permiten\, al mismo tiempo\, profundizar en valores y actitudes de respeto\, cooperación\, igualdad y tolerancia a través de juegos y talleres compartidos. \nSi necesitan más información\, pueden llamar al 985308317 (lunes a viernes de 9:00h a 14:00h / lunes a jueves de 16:00 a 18:00h) o escribirnos un email a preinscripcion@vitaevents.es \n  \n\n 
URL:https://www.mieres.es/evento/movamonos-xunts-vacaciones-activas-semana-santa-2026-2/
LOCATION:Patio colegio Liceo/Aniceto Sela\, Colegio Público Liceo Mierense\, Mieres\, Asturias\, 33600 
CATEGORIES:Juventud e Infancia
ATTACH;FMTTYPE=image/jpeg:https://www.mieres.es/wp-content/uploads/2026/02/movamonos-xuntos-2026-SEMANA-SANTA.jpg
ORGANIZER;CN="Concejal%C3%ADa%20de%20Infancia%20y%20Juventud":MAILTO:oij@ayto-mieres.es
GEO:43.249719;-5.7785282
X-APPLE-STRUCTURED-LOCATION;VALUE=URI;X-ADDRESS=Patio colegio Liceo/Aniceto Sela Colegio Público Liceo Mierense Mieres Asturias 33600;X-APPLE-RADIUS=500;X-TITLE=Colegio Público Liceo Mierense:geo:-5.7785282,43.249719
END:VEVENT
BEGIN:VEVENT
DTSTART;TZID=Europe/Madrid:20260331T163000
DTEND;TZID=Europe/Madrid:20260331T163000
DTSTAMP:20260420T224539
CREATED:20260302T122413Z
LAST-MODIFIED:20260302T122413Z
UID:77880-1774974600-1774974600@www.mieres.es
SUMMARY:Taller "Disfruta y descubre tu nuevo yo" Sexualidad en la menopausia\, por María Jiménez
DESCRIPTION:Taller \n“Disfruta y descubre tu nuevo yo”\nClaves para disfrutar de tu sexualidad en la menopausia\nImpartido por María Jiménez Fernández-Pello \nMartes\, 31 de marzo\, 16:30 h.\nSalón de actos de la Casa de Cultura Teodoro Cuesta \nEntrada libre hasta completar aforo. \n\n  \n 
URL:https://www.mieres.es/evento/taller-disfruta-y-descubre-tu-nuevo-yo-sexualidad-en-la-menopausia-por-maria-jimenez/
LOCATION:Casa de Cultura Teodoro Cuesta\, Calle Manuel Llaneza\, 8\, Mieres\, Asturias\, 33600\, España
CATEGORIES:Igualdad,Taller
ATTACH;FMTTYPE=image/jpeg:https://www.mieres.es/wp-content/uploads/2026/03/menopausia-descubre-taller-mieres-marzo-2026.jpg
GEO:43.2502294;-5.7729571
X-APPLE-STRUCTURED-LOCATION;VALUE=URI;X-ADDRESS=Casa de Cultura Teodoro Cuesta Calle Manuel Llaneza 8 Mieres Asturias 33600 España;X-APPLE-RADIUS=500;X-TITLE=Calle Manuel Llaneza\, 8:geo:-5.7729571,43.2502294
END:VEVENT
BEGIN:VEVENT
DTSTART;TZID=Europe/Madrid:20260331T173000
DTEND;TZID=Europe/Madrid:20260331T173000
DTSTAMP:20260420T224539
CREATED:20260304T115324Z
LAST-MODIFIED:20260304T121307Z
UID:77946-1774978200-1774978200@www.mieres.es
SUMMARY:V Cursu de sidra escanciao Comarca del Caudal (23MAR-16ABR)
DESCRIPTION:Cursu: \nV Cursu de sidra escanciao Comarca del Caudal\n\n  \nMieres Centru Cultural \nDel 23 de marzu al 16 d’abril\, de llunes a xueves\, de 17:30 a 20:00h. \nInscripciones de baldre\, al traviés d’esta misma página web\, nel formulariu que toparán enbaxu\, del 4 al 19 de marzu. Enllaz directu al formulariu: Inscripciones V Cursu de sidra escanciao “Comarca del Caudal” 23MAR/16ABR: Rellenar formulario \n\n  \nL´Ayuntamientu de Mieres\, pente medies de la conceyalía de Cultura y Festexos y l´Asociación Llagareros Artesanos del Caudal organicen el V Cursu de Sidra Escanciao. \nEl cursu va desenvolvese del 23 de marzu al 16 d´abril de 2026 nel Mieres Centru Cultural\, de llunes a xueves de 17:30 a 20:00 hores y quien participe y acabe´l mesmu\, con polo menos el 75% de les hores completaes\, va contar con diploma p´acreditar la so cualificación. \nEl plazu pa facer les inscripciones tará abiertu hasta´l 19 de marzu viniente y sedrán totalmente de baldre. La plaza acutada sedrá confirmada telefónicamente pola organización del cursu. Les persones desemplegaes tendrán preferencia nes 15 places disponibles que- teniendo en cuenta esa preferencia- sedrán acutaes por rigorosu orde d´inscripción. \n  \n\n  \nFORMULARIU D’INSCRIPCIÓN:
URL:https://www.mieres.es/evento/v-cursu-de-sidra-escanciao-comarca-del-caudal/2026-03-31/
LOCATION:Mieres Centru Cultural\, Calle Jerónimo Ibrán\, 10\, Mieres\, Asturias\, 33600
CATEGORIES:Cultura Tradicional,Cursos
ATTACH;FMTTYPE=image/jpeg:https://www.mieres.es/wp-content/uploads/2026/03/Cartel-web-Curso-Escanciadores-2026.jpg
ORGANIZER;CN="Llagareros%20artesanos%20del%20Caudal":MAILTO:llagarerosartesanosdelcaudal@gmail.com
END:VEVENT
END:VCALENDAR