BEGIN:VCALENDAR
VERSION:2.0
PRODID:-//Ayuntamiento de Mieres - ECPv5.16.1.1//NONSGML v1.0//EN
CALSCALE:GREGORIAN
METHOD:PUBLISH
X-WR-CALNAME:Ayuntamiento de Mieres
X-ORIGINAL-URL:https://www.mieres.es
X-WR-CALDESC:Eventos para Ayuntamiento de Mieres
BEGIN:VTIMEZONE
TZID:Europe/Madrid
BEGIN:DAYLIGHT
TZOFFSETFROM:+0100
TZOFFSETTO:+0200
TZNAME:CEST
DTSTART:20260329T010000
END:DAYLIGHT
BEGIN:STANDARD
TZOFFSETFROM:+0200
TZOFFSETTO:+0100
TZNAME:CET
DTSTART:20261025T010000
END:STANDARD
END:VTIMEZONE
BEGIN:VEVENT
DTSTART;VALUE=DATE:20260401
DTEND;VALUE=DATE:20260402
DTSTAMP:20260420T212532
CREATED:20260325T095346Z
LAST-MODIFIED:20260325T105247Z
UID:78212-1775001600-1775087999@www.mieres.es
SUMMARY:"Impulse: Playing with reality"\, de May Abdalla y Barry Gene Murphy  (1/5ABR)
DESCRIPTION:Experiencia inmersiva: \n\n“Impulse: Playing with reality”\nde May Abdalla y Barry Gene Murphy\n  \nDel 1 al 5 de abril de 2026\nHorario de miércoles a domingo\, de 11:00 a 14:00h (último pase a las 13:15) y de 16:30 a 20:30h (último pase a las 19:45) \n\n\nMieres Centru Cultural\n*ACTIVIDAD GRATUITA*\n– Las entradas para cada sesión se entregarán en el propio espacio el mismo día\, por orden de llegada\, hasta agotar existencias.\n– Actividad recomendada para mayores de 13 años. \n\nDuración: 40’\nIdiomas: Español\, inglés\nMás información: impulse-xr.io   \n\n\n\n\n\nEl Ayuntamiento de Mieres y LEV (Laboratorio de Electrónica Visual) presentan una actividad interactiva a medio cambio entre un videojuego y un documental que se podrá experimentar a través de gafas de realidad virtual en la Sala de Exposiciones de Mieres Centru Cultural (MCC). La actividad se enmarca en el campo de las realidades mixtas\, una tecnología novedosa en el campo del arte digital que fusiona el mundo físico y las realidades aumentadas\, permitiendo así la interacción en tiempo real con elementos virtuales dentro del mismo espacio. \nDirigida por May Abdalla y Barry Gene Murphy\, IMPULSE: PLAYING WITH REALITY es una experiencia de realidad mixta que\, con un enfoque narrativo inmersivo\, propone una perspectiva contemporánea sobre el Trastorno por Déficit de Atención e Hiperactividad (TDAH). Esta instalación sumerge al público en la mente de quienes viven en la frontera entre el orden y el caos\, cuestionando los discursos de patologización que han marcado la experiencia de quienes tienen esta forma única de cognición. \nCon una duración de cuarenta minutos y narrada en inglés por la conocida actriz Tilda Swinton\, esta experiencia de realidad mixta invita al público a sumergirse en las historias de cuatro personas cuyas decisiones han definido sus vidas. El proyecto presenta diversas narrativas en un escenario colorido y meticulosamente construido\, donde los límites entre la realidad y la percepción se desdibujan\, ofreciendo una certera visión de la creatividad\, el caos y la intensidad del TDAH. \nA pesar de ser ampliamente incomprendido\, el TDAH puede tener un profundo efecto en quienes lo experimentan\, por ello la concienciación es fundamental y puede transformar vidas. Combinando testimonios personales y entornos sensoriales\, esta obra ofrece un acercamiento artístico a un trastorno más frecuente de lo que imaginamos. A través de un ingenioso juego de relatos en primera persona\, invita a acercarse y comprender las experiencias de quienes conviven con él. Cada participante podrá sumergirse en la experiencia mediante unas gafas de realidad virtual\, para abordar retos del mundo real. Pero no se trata tan solo de jugar\, sino de crear empatía e impulsar el cambio social a través del entretenimiento y la tecnología. \n  \nGalardonado con el premio a la excelencia en experiencias inmersivas en la 81ª edición del Festival Internacional de Cine de Venecia\, este proyecto presentó por primera vez su versión en español en LEV 2025. La pieza\, además\, pertenece al programa educativo Games for Change (G4C)\, una organización internacional sin ánimo de lucro que desde 2004 promueve y apoya el uso de los videojuegos y los medios interactivos como herramientas para generar impacto social y educativo en el mundo real. \nCon esta actividad reafirmamos el potencial de las nuevas tecnologías: la realidad virtual no sólo simula mundos\, también despierta conciencias. Jugar para aprender\, sentir para cambiar. El juego es la herramienta y la transformación social será el resultado. \n 
URL:https://www.mieres.es/evento/impulse-playing-with-reality-de-may-abdalla-y-barry-gene-murphy-1-5abr/
LOCATION:Mieres Centru Cultural\, Calle Jerónimo Ibrán\, 10\, Mieres\, Asturias\, 33600
CATEGORIES:Exposiciones,Memoria Democrática
ATTACH;FMTTYPE=image/jpeg:https://www.mieres.es/wp-content/uploads/2026/03/IMPULSE_2026-Mieres.jpg
END:VEVENT
BEGIN:VEVENT
DTSTART;TZID=Europe/Madrid:20260401T100000
DTEND;TZID=Europe/Madrid:20260401T100000
DTSTAMP:20260420T212532
CREATED:20260217T094652Z
LAST-MODIFIED:20260217T094652Z
UID:77665-1775037600-1775037600@www.mieres.es
SUMMARY:Movámonos Xunt@s. Vacaciones activas Semana Santa 2026
DESCRIPTION:  \nSe acercan las vacaciones escolares de Semana Santa y con ellas llega una nueva edición de los campamentos urbanos Movámonos Xunt@s\, organizados por la Concejalía de Infancia y Juventud de nuestro Ayuntamiento. En esta ocasión se desarrollarán durante los días 30 y 31 de marzo\, y 1 de abril\, en el Colegio Liceo Mierense-Aniceto Sela\, de 10 a 14 horas\, dirigidos a niños/as de 3 a 12 años. En ellos realizarán todo tipo de juegos\, talleres y actividades de ocio y educativas. \nCon esta iniciativa se pretende que los y las participantes disfruten de este tiempo de ocio en horario de mañana al mismo tiempo que se facilita la organización y la conciliación personal y laboral de las familias durante estas vacaciones escolares. \n  \nEl campamento urbano Movámonos Xunt@s Semana Santa 2026 es una actividad gratuita pero es necesaria la inscripción previa ya que el número de plazas es limitado. \nLas inscripciones se pueden realizar a partir del 3 de marzo (9:30h) desde la web: https://www.vitaeventsformacion.es/mieres \n  \nDurante estos campamentos urbanos/vacaciones activas\, las y los participantes disfrutan y aprenden con actividades lúdicas y formativas acordes a su desarrollo intelectual y motriz que permiten\, al mismo tiempo\, profundizar en valores y actitudes de respeto\, cooperación\, igualdad y tolerancia a través de juegos y talleres compartidos. \nSi necesitan más información\, pueden llamar al 985308317 (lunes a viernes de 9:00h a 14:00h / lunes a jueves de 16:00 a 18:00h) o escribirnos un email a preinscripcion@vitaevents.es \n  \n\n 
URL:https://www.mieres.es/evento/movamonos-xunts-vacaciones-activas-semana-santa-2026-3/
LOCATION:Patio colegio Liceo/Aniceto Sela\, Colegio Público Liceo Mierense\, Mieres\, Asturias\, 33600 
CATEGORIES:Juventud e Infancia
ATTACH;FMTTYPE=image/jpeg:https://www.mieres.es/wp-content/uploads/2026/02/movamonos-xuntos-2026-SEMANA-SANTA.jpg
ORGANIZER;CN="Concejal%C3%ADa%20de%20Infancia%20y%20Juventud":MAILTO:oij@ayto-mieres.es
GEO:43.249719;-5.7785282
X-APPLE-STRUCTURED-LOCATION;VALUE=URI;X-ADDRESS=Patio colegio Liceo/Aniceto Sela Colegio Público Liceo Mierense Mieres Asturias 33600;X-APPLE-RADIUS=500;X-TITLE=Colegio Público Liceo Mierense:geo:-5.7785282,43.249719
END:VEVENT
BEGIN:VEVENT
DTSTART;TZID=Europe/Madrid:20260401T110000
DTEND;TZID=Europe/Madrid:20260401T110000
DTSTAMP:20260420T212532
CREATED:20260204T103135Z
LAST-MODIFIED:20260204T103135Z
UID:77508-1775041200-1775041200@www.mieres.es
SUMMARY:Espacio CuidARTE: Taller de apoyo para personas cuidadoras no profesionales
DESCRIPTION:Salud. Bienestar Social \nEspacio CuidARTE:\nTaller gratuito de apoyo para personas cuidadoras no profesionales\n18 de febrero\, 14 de marzo\, 1 de abril\, 6 de mayo\, 3 de junio y 1 de julio\n11:00h. Local de la antigua Oficina de Información Juvenil OIJ\n16:00h. Aulas Casa de Cultura Teodoro Cuesta \n📅 Duración: 6 sesiones de 2 horas (puede inscribirse en el horario que más le convenga)\n👥 Modalidad: Grupal y presencial (turnos de mañana y tarde)\n📍 Dirigido a: Cuidadores/as no profesionales del municipio de Mieres\n📝 Inscripciones: A través del Área de Salud Municipal; salud@ayto-mieres.es o el teléfono 618 035 308 \n\n  \nEl Ayuntamiento de Mieres lanza un nuevo Programa de Apoyo Emocional y Autocuidado para Cuidadores No Profesionales (Espacio CuidARTE)\, con el objetivo de ofrecer un espacio de acompañamiento\, formación emocional y fortalecimiento personal a quienes dedican su tiempo y energía al cuidado de otras personas. \nEste taller gratuito\, guiado por un psicólogo especializado\, está dirigido a personas cuidadoras sin formación profesional\, que a menudo afrontan estrés\, sobrecarga emocional o aislamiento debido a su labor diaria. A través de sesiones grupales presenciales\, se abordarán herramientas prácticas de regulación emocional\, estrategias de autocuidado y la creación de redes de apoyo comunitario. \nEl programa\, basado en metodologías de psicoeducación y mindfulness\, contará con un enfoque terapéutico y grupal\, realizará una intervención directa sobre aspectos emocionales sensibles como la sobrecarga psicológica\, el estrés crónico\, los sentimientos de culpa\, las dificultades de afrontamiento emocional y la prevención del desgaste emocional del cuidador/a.
URL:https://www.mieres.es/evento/espacio-cuidarte-taller-de-apoyo-para-personas-cuidadoras-no-profesionales-3/
LOCATION:Local antigua OIJ\, C/ Doce de Octubre\, 42\, Mieres
CATEGORIES:Bienestar Social,Salud,Taller
ATTACH;FMTTYPE=image/jpeg:https://www.mieres.es/wp-content/uploads/2026/02/Espacio-CuidARTE-cartel-web-taller-apoyo-cuidadoras.jpg
END:VEVENT
BEGIN:VEVENT
DTSTART;TZID=Europe/Madrid:20260401T110000
DTEND;TZID=Europe/Madrid:20260401T110000
DTSTAMP:20260420T212532
CREATED:20260220T084254Z
LAST-MODIFIED:20260220T084254Z
UID:77730-1775041200-1775041200@www.mieres.es
SUMMARY:Espacio CuidARTE: Taller de apoyo para personas cuidadoras no profesionales
DESCRIPTION:Salud. Bienestar Social \nEspacio CuidARTE:\nTaller gratuito de apoyo para personas cuidadoras no profesionales\n18 de febrero\, 4 de marzo\, 1 de abril\, 6 de mayo\, 3 de junio y 1 de julio\n11:00h. Local de la antigua Oficina de Información Juvenil OIJ\n16:00h. Aulas Casa de Cultura Teodoro Cuesta \n📅 Duración: 6 sesiones de 2 horas (puede inscribirse en el horario que más le convenga)\n👥 Modalidad: Grupal y presencial (turnos de mañana y tarde)\n📍 Dirigido a: Cuidadores/as no profesionales del municipio de Mieres\n📝 Inscripciones: A través del Área de Salud Municipal; salud@ayto-mieres.es o el teléfono 618 035 308 \n\n  \nEl Ayuntamiento de Mieres lanza un nuevo Programa de Apoyo Emocional y Autocuidado para Cuidadores No Profesionales (Espacio CuidARTE)\, con el objetivo de ofrecer un espacio de acompañamiento\, formación emocional y fortalecimiento personal a quienes dedican su tiempo y energía al cuidado de otras personas. \nEste taller gratuito\, guiado por un psicólogo especializado\, está dirigido a personas cuidadoras sin formación profesional\, que a menudo afrontan estrés\, sobrecarga emocional o aislamiento debido a su labor diaria. A través de sesiones grupales presenciales\, se abordarán herramientas prácticas de regulación emocional\, estrategias de autocuidado y la creación de redes de apoyo comunitario. \nEl programa\, basado en metodologías de psicoeducación y mindfulness\, contará con un enfoque terapéutico y grupal\, realizará una intervención directa sobre aspectos emocionales sensibles como la sobrecarga psicológica\, el estrés crónico\, los sentimientos de culpa\, las dificultades de afrontamiento emocional y la prevención del desgaste emocional del cuidador/a.
URL:https://www.mieres.es/evento/espacio-cuidarte-taller-de-apoyo-para-personas-cuidadoras-no-profesionales-4/
LOCATION:Local antigua OIJ\, C/ Doce de Octubre\, 42\, Mieres
CATEGORIES:Bienestar Social,Salud,Taller
ATTACH;FMTTYPE=image/jpeg:https://www.mieres.es/wp-content/uploads/2026/02/Espacio-CuidARTE-cartel-web-taller-apoyo-cuidadoras.jpg
END:VEVENT
BEGIN:VEVENT
DTSTART;TZID=Europe/Madrid:20260401T120000
DTEND;TZID=Europe/Madrid:20260401T120000
DTSTAMP:20260420T212532
CREATED:20260408T103649Z
LAST-MODIFIED:20260408T103649Z
UID:78371-1775044800-1775044800@www.mieres.es
SUMMARY:Esposición "Premiu de Poesía 'Teodoro Cuesta' de Mieres. 1991-2024 "
DESCRIPTION:Esposicion: \n\n“Premiu de Poesía ‘Teodoro Cuesta’ de Mieres. Antoloxía 1991-2024 ”\n\n\n\n  \n\nDel 20 de marzu al 30 d’abril \n\nAntoxana del Auditoriu Teodoro Cuesta\nDe llunes a vienres\, de 12 a 14 h y de 17 a 21 h. \n\n\n 
URL:https://www.mieres.es/evento/esposicion-premiu-de-poesia-teodoro-cuesta-de-mieres-1991-2024/
LOCATION:Casa de Cultura Teodoro Cuesta\, Calle Manuel Llaneza\, 8\, Mieres\, Asturias\, 33600\, España
CATEGORIES:Exposiciones,Letras,Llingua,Recital
ATTACH;FMTTYPE=image/jpeg:https://www.mieres.es/wp-content/uploads/2026/04/A7-expo-teodoro-cuesta-2026.jpg
GEO:43.2502294;-5.7729571
X-APPLE-STRUCTURED-LOCATION;VALUE=URI;X-ADDRESS=Casa de Cultura Teodoro Cuesta Calle Manuel Llaneza 8 Mieres Asturias 33600 España;X-APPLE-RADIUS=500;X-TITLE=Calle Manuel Llaneza\, 8:geo:-5.7729571,43.2502294
END:VEVENT
BEGIN:VEVENT
DTSTART;TZID=Europe/Madrid:20260401T163000
DTEND;TZID=Europe/Madrid:20260401T163000
DTSTAMP:20260420T212532
CREATED:20260409T112051Z
LAST-MODIFIED:20260409T112051Z
UID:78411-1775061000-1775061000@www.mieres.es
SUMMARY:Exposición fotográfica 2026\, por Agrupación Fotográfica Semeya (1/29ABR)
DESCRIPTION:Exposición: \nExposición Fotográfica 2026\npor Agrupación Fotográfica Semeya\nSala de exposiciones del Atenéu de Turón\nDel 1 al 29 de abril de 2026 \nHorario de lunes a viernes de 16:30 a 20:00h \n\n 
URL:https://www.mieres.es/evento/exposicion-fotografica-2026-por-agrupacion-fotografica-semeya-1-29abr/
LOCATION:Atenéu de Turón\, Calle Centro\, 9\, 33610 Mieres\, Asturias\, Turón\, Asturias\, 33610 \, España
CATEGORIES:Arte,Exposiciones
ATTACH;FMTTYPE=image/jpeg:https://www.mieres.es/wp-content/uploads/2026/04/expo-semeya-turon-2026.jpg
GEO:43.2091303;-5.7416142
X-APPLE-STRUCTURED-LOCATION;VALUE=URI;X-ADDRESS=Atenéu de Turón Calle Centro 9 33610 Mieres Asturias Turón Asturias 33610  España;X-APPLE-RADIUS=500;X-TITLE=Calle Centro\, 9\, 33610 Mieres\, Asturias:geo:-5.7416142,43.2091303
END:VEVENT
BEGIN:VEVENT
DTSTART;TZID=Europe/Madrid:20260401T173000
DTEND;TZID=Europe/Madrid:20260401T173000
DTSTAMP:20260420T212532
CREATED:20260304T115324Z
LAST-MODIFIED:20260304T121424Z
UID:77947-1775064600-1775064600@www.mieres.es
SUMMARY:V Cursu de sidra escanciao Comarca del Caudal (23MAR-16ABR)
DESCRIPTION:Cursu: \nV Cursu de sidra escanciao Comarca del Caudal\n\n  \nMieres Centru Cultural \nDel 23 de marzu al 16 d’abril\, de llunes a xueves\, de 17:30 a 20:00h. \nInscripciones de baldre\, al traviés d’esta misma página web\, nel formulariu que toparán enbaxu\, del 4 al 19 de marzu. Enllaz directu al formulariu: Inscripciones V Cursu de sidra escanciao “Comarca del Caudal” 23MAR/16ABR: Rellenar formulario \n\n  \nL´Ayuntamientu de Mieres\, pente medies de la conceyalía de Cultura y Festexos y l´Asociación Llagareros Artesanos del Caudal organicen el V Cursu de Sidra Escanciao. \nEl cursu va desenvolvese del 23 de marzu al 16 d´abril de 2026 nel Mieres Centru Cultural\, de llunes a xueves de 17:30 a 20:00 hores y quien participe y acabe´l mesmu\, con polo menos el 75% de les hores completaes\, va contar con diploma p´acreditar la so cualificación. \nEl plazu pa facer les inscripciones tará abiertu hasta´l 19 de marzu viniente y sedrán totalmente de baldre. La plaza acutada sedrá confirmada telefónicamente pola organización del cursu. Les persones desemplegaes tendrán preferencia nes 15 places disponibles que- teniendo en cuenta esa preferencia- sedrán acutaes por rigorosu orde d´inscripción. \n  \n\n  \nFORMULARIU D’INSCRIPCIÓN:
URL:https://www.mieres.es/evento/v-cursu-de-sidra-escanciao-comarca-del-caudal/2026-04-01/
LOCATION:Mieres Centru Cultural\, Calle Jerónimo Ibrán\, 10\, Mieres\, Asturias\, 33600
CATEGORIES:Cultura Tradicional,Cursos
ATTACH;FMTTYPE=image/jpeg:https://www.mieres.es/wp-content/uploads/2026/03/Cartel-web-Curso-Escanciadores-2026.jpg
ORGANIZER;CN="Llagareros%20artesanos%20del%20Caudal":MAILTO:llagarerosartesanosdelcaudal@gmail.com
END:VEVENT
BEGIN:VEVENT
DTSTART;TZID=Europe/Madrid:20260401T183000
DTEND;TZID=Europe/Madrid:20260401T183000
DTSTAMP:20260420T212532
CREATED:20260206T104051Z
LAST-MODIFIED:20260206T104051Z
UID:77564-1775068200-1775068200@www.mieres.es
SUMMARY:Entrenamiento al aire libre para mujeres (11FEB/JUN)
DESCRIPTION:Entrenamiento deportivo\n  \nEntrenamiento al aire libre para mujeres \nCon  Dark Lion Sport \nPara mujeres a partir de los 16 años. \nDel 11 de octubre de 2024 al 17 de junio de 2026 \nNivel básico: los miércoles\, de 18:30 a 19:30h\nNivel avanzado: los miércoles\, de 19:30 a 20:30h \nLugar de encuentro: Casa de las Mujeres \nInscripciones gratuitas en el tlfno.: 985466262(a partir del 9 de febrero\, de 09:00 a 14:00h.)
URL:https://www.mieres.es/evento/entrenamiento-al-aire-libre-para-mujeres-11feb-jun/2026-04-01/
LOCATION:Casa de las Mujeres\, C/ Jerónimo Ibrán 19\, Mieres\, Asturias\, 33600\, España
CATEGORIES:Deportes,Igualdad,Salud,Taller
ATTACH;FMTTYPE=image/jpeg:https://www.mieres.es/wp-content/uploads/2026/02/entrenamiento-mujeres-cartel-mieres-feb-2026.jpg
GEO:43.2512334;-5.7731606
X-APPLE-STRUCTURED-LOCATION;VALUE=URI;X-ADDRESS=Casa de las Mujeres C/ Jerónimo Ibrán 19 Mieres Asturias 33600 España;X-APPLE-RADIUS=500;X-TITLE=C/ Jerónimo Ibrán 19:geo:-5.7731606,43.2512334
END:VEVENT
END:VCALENDAR